{"text_format":"1","workbook":"xlsx","n_sheets":6,"sheets":["入力シート (例)","入力シート","①証明申請書 ","②県税事務所提出用","③中古自動車販売店の控","④軽減申請書"],"not_rendered":{"charts":0,"images":0,"macros":1,"external_links":0,"defined_names":11,"comments":0,"pivot_tables":0},"unopened":[],"bounds":{"document_bytes":16777216,"sheet_cells":100000,"rows_first":2000,"rows_last":500,"rows_between":2000,"halvings":0,"cell_chars":16384,"cell_head_chars":4096},"cells_cut":0,"cells_raw":0,"read":"whole","date_system":"1900"}

{"sheet":"入力シート (例)","index":0,"n_rows":324,"n_cols":11,"rows_kept":324,"cut":false,"hidden":false,"merged":[[21,1,21,4],[12,0,16,0],[12,2,12,4],[13,2,13,4],[14,2,14,4],[15,2,15,4],[16,2,16,7],[6,0,6,1],[7,0,11,0],[7,2,7,9],[8,2,8,9],[9,2,9,9],[10,2,10,4],[11,2,11,4]]}
[]
[]
[]
[]
[]
["●申請者の情報"]
["申請年度",null,"令和",5,"年度"]
["申\n請\n者","住所","高松市番町４－１－１０"]
[null,"申請者名","株式会社香川県庁自動車"]
[null,"代表者名","代表取締役　香川　けん"]
[null,"電話番号","087-１１1-1111"]
[null,"古物商許可番号",12345678]
["還\n付\n用\n口\n座","金融機関名","●▼◇銀行"]
[null,"店舗名","県税支店"]
[null,"種目","普通"]
[null,"口座番号",1111111]
[null,"口座名義\n（カナ）","カ）カガワケンチョウジドウシャ"]
[]
[]
[]
["●申請する自動車"]
[null,"登録番号"]
["№","地区","車種","かな","番号","登録年月日","種別","用途","車台番号","車名又はペットネーム","主たる定置場\n（展示場名）"]
[{"$f":"IF(COUNTA(B24),COUNTA(B$24:B24),\"\")","v":1},"香川",300,"は",1234,"2022-03-29","普通","乗用","DBA-12345678","○○〇","松島店"]
[{"$f":"IF(COUNTA(B25),COUNTA(B$24:B25),\"\")","v":2},"高松",100,"は",5678,"2018-02-23","小型","貨物","DAE-12345678","□□□","鬼無店"]
[{"$f":"IF(COUNTA(B26),COUNTA(B$24:B26),\"\")","v":""}]
[{"$f":"IF(COUNTA(B27),COUNTA(B$24:B27),\"\")","v":""}]
[]
[]
[]
[]
[]
[]
[]
[]
[]
[]
[]
[]
[]
[]
[]
[]
[]
[]
[]
[]
[]
[]
[]
[]
[]
[]
[]
[]
[]
[]
[]
[]
[]
[]
[]
[]
[]
[]
[]
[]
[]
[]
[]
[]
[]
[]
[]
[]
[]
[]
[]
[]
[]
[]
[]
[]
[]
[]
[]
[]
[]
[]
[]
[]
[]
[]
[]
[]
[]
[]
[]
[]
[]
[]
[]
[]
[]
[]
[]
[]
[]
[]
[]
[]
[]
[]
[]
[]
[]
[]
[]
[]
[]
[]
[]
[]
[]
[]
[]
[]
[]
[]
[]
[]
[]
[]
[]
[]
[]
[]
[]
[]
[]
[]
[]
[]
[]
[]
[]
[]
[]
[]
[]
[]
[]
[]
[]
[]
[]
[]
[]
[]
[]
[]
[]
[]
[]
[]
[]
[]
[]
[]
[]
[]
[]
[]
[]
[]
[]
[]
[]
[]
[]
[]
[]
[]
[]
[]
[]
[]
[]
[]
[]
[]
[]
[]
[]
[]
[]
[]
[]
[]
[]
[]
[]
[]
[]
[]
[]
[]
[]
[]
[]
[]
[]
[]
[]
[]
[]
[]
[]
[]
[]
[]
[]
[]
[]
[]
[]
[]
[]
[]
[]
[]
[]
[]
[]
[]
[]
[]
[]
[]
[]
[]
[]
[]
[]
[]
[]
[]
[]
[]
[]
[]
[]
[]
[]
[]
[]
[]
[]
[]
[]
[]
[]
[]
[]
[]
[]
[]
[]
[]
[]
[]
[]
[]
[]
[]
[]
[]
[]
[]
[]
[]
[]
[]
[]
[]
[]
[]
[]
[]
[]
[]
[]
[]
[]
[]
[]
[]
[]
[]
[]
[]
[]
[]
[]
[]
[]
[]
[]
[]
[]
[]
[]
[]
[]
[]
[]
[]
[]
[]
[]
[]
[]
[]
[{"$f":"IF(COUNTA(B324),COUNTA(B$24:B324),\"\")","v":""}]

{"sheet":"入力シート","index":1,"n_rows":321,"n_cols":11,"rows_kept":321,"cut":false,"hidden":false,"merged":[[4,0,4,1],[18,1,18,4],[13,2,13,4],[5,0,9,0],[10,0,14,0],[10,2,10,4],[11,2,11,4],[12,2,12,4],[9,2,9,4],[8,2,8,4],[7,2,7,9],[6,2,6,9],[5,2,5,9],[14,2,14,7]]}
[]
[]
[]
["●申請者の情報"]
["申請年度",null,"令和",6,"年度"]
["申\n請\n者","住所","高松市番町４－１－１０"]
[null,"申請者名","株式会社香川県庁自動車"]
[null,"代表者名","代表取締役　香川　けん"]
[null,"電話番号","087-１１1-1111"]
[null,"古物商許可番号",12345678]
["還\n付\n用\n口\n座","金融機関名","●▼◇銀行"]
[null,"店舗名","県税支店"]
[null,"種目","普通"]
[null,"口座番号",1111111]
[null,"口座名義\n（カナ）","カ）カガワケンチョウジドウシャ"]
[]
[]
["●申請する自動車"]
[null,"登録番号"]
["№","地区","車種","かな","番号","登録年月日","種別","用途","車台番号","車名又はペットネーム","主たる定置場\n（展示場名）"]
[{"$f":"IF(COUNTA(B21),COUNTA(B$21:B21),\"\")","v":1},"香",501,"あ",2,"2021-11-18","小型","乗用","ZZZ80-044592","ホンタオブユーケー　シビック","県税支店"]
[{"$f":"IF(COUNTA(B22),COUNTA(B$21:B22),\"\")","v":2},"香",501,"く",555,"2021-11-30","小型","乗用","ZZZ80-044604","ヴォルクスバーゲン","西讃支店"]
[{"$f":"IF(COUNTA(B23),COUNTA(B$21:B23),\"\")","v":3},"香",506,"く",212,"2021-11-23","小型","乗用","ZZZ80-044597","ホンタ","東讃支店"]
[{"$f":"IF(COUNTA(B24),COUNTA(B$21:B24),\"\")","v":4},"香",522,"く",41,"2021-12-05","小型","乗用","ZZZ80-04460921583","ホンタ","県税支店"]
[{"$f":"IF(COUNTA(B25),COUNTA(B$21:B25),\"\")","v":5},"香",555,"く",7655,"2021-11-25","小型","乗用","ZZZ80-044599","マツタ","小豆支店"]
[{"$f":"IF(COUNTA(B26),COUNTA(B$21:B26),\"\")","v":6},"香川",111,"く",3,"2021-11-28","小型","乗用","ZZZ80-044602","鈴本","東讃支店"]
[{"$f":"IF(COUNTA(B27),COUNTA(B$21:B27),\"\")","v":7},"香川",300,"き",4562,"2018-02-23","普通","乗用","ZZZ80-044587","豊田","県税支店"]
[{"$f":"IF(COUNTA(B28),COUNTA(B$21:B28),\"\")","v":8},"香川",300,"く",7525,"2018-10-31","普通","乗用","ZZZ80-044588","目産","小豆支店"]
[{"$f":"IF(COUNTA(B29),COUNTA(B$21:B29),\"\")","v":9},"香川",300,"こ",1,"2022-03-29","普通","乗用","ZZZ３０-1501219","ホンタ","本店"]
[{"$f":"IF(COUNTA(B30),COUNTA(B$21:B30),\"\")","v":10},"香川",325,"く",21,"2021-11-27","小型","乗用","ZZZ80-044601","ホンタ","西讃支店"]
[{"$f":"IF(COUNTA(B31),COUNTA(B$21:B31),\"\")","v":11},"香川",333,"く",7569,"2021-11-24","小型","乗用","ZZZ80-044598","目産","県税支店"]
[{"$f":"IF(COUNTA(B32),COUNTA(B$21:B32),\"\")","v":12},"香川",500,"か",4489,"2021-12-15","小型","乗用","ZZZ80-044590","鈴本","西讃支店"]
[{"$f":"IF(COUNTA(B33),COUNTA(B$21:B33),\"\")","v":13},"香川",500,"け",7375,"2021-08-04","小型","乗用","ZZZ80-044589","マツタ","中讃支店"]
[{"$f":"IF(COUNTA(B34),COUNTA(B$21:B34),\"\")","v":14},"香川",500,"こ",1569,"2021-11-17","小型","乗用","ZZZ80-044591","ホンタ","東讃支店"]
[{"$f":"IF(COUNTA(B35),COUNTA(B$21:B35),\"\")","v":15},"香川",504,"い",42,"2021-11-21","小型","乗用","ZZZ80-044595","マツタ","西讃支店"]
[{"$f":"IF(COUNTA(B36),COUNTA(B$21:B36),\"\")","v":16},"香川",505,"り",985,"2021-11-22","小型","乗用","ZZZ80-044596","鈴本","東讃支店"]
[{"$f":"IF(COUNTA(B37),COUNTA(B$21:B37),\"\")","v":17},"香川",566,"く",4777,"2021-11-29","小型","乗用","ZZZ80-044603","ホンタ","中讃支店"]
[{"$f":"IF(COUNTA(B38),COUNTA(B$21:B38),\"\")","v":18},"香川",800,"く",4563,"2021-12-04","小型","乗用","ZZZ80-044608","鈴本","東讃支店"]
[{"$f":"IF(COUNTA(B39),COUNTA(B$21:B39),\"\")","v":19},"高松",100,"く",123,"2021-12-02","小型","乗用","ZZZ80-044606","マツタ","県税支店"]
[{"$f":"IF(COUNTA(B40),COUNTA(B$21:B40),\"\")","v":20},"高松",100,"く",144,"2021-11-26","小型","乗用","ZZZ80-044600","鈴本","中讃支店"]
[{"$f":"IF(COUNTA(B41),COUNTA(B$21:B41),\"\")","v":21},"高松",121,"く",97,"2021-12-03","小型","乗用","ZZZ80-044607","鈴本","小豆支店"]
[{"$f":"IF(COUNTA(B42),COUNTA(B$21:B42),\"\")","v":22},"高松",333,"く",506,"2021-12-01","小型","乗用","ZZZ80-044605","目産","東讃支店"]
[{"$f":"IF(COUNTA(B43),COUNTA(B$21:B43),\"\")","v":23},"高松",502,"わ",1,"2021-11-19","小型","乗用","ZZZ80-044593","マツタ","小豆支店"]
[{"$f":"IF(COUNTA(B44),COUNTA(B$21:B44),\"\")","v":24},"高松",503,"ら",45,"2021-11-20","小型","乗用","ZZZ80-044594","鈴本","中讃支店"]
[{"$f":"IF(COUNTA(B45),COUNTA(B$21:B45),\"\")","v":25},"高松",541,"く",87,"2021-12-06","小型","乗用","ZZZ80-044610","豊田","東讃支店"]
[{"$f":"IF(COUNTA(B46),COUNTA(B$21:B46),\"\")","v":26},"高松",542,"く",87,"2021-12-07","小型","乗用","ZZZ80-044611","豊田","東讃支店"]
[{"$f":"IF(COUNTA(B47),COUNTA(B$21:B47),\"\")","v":27},"高松",543,"く",87,"2021-12-08","小型","乗用","ZZZ80-044612","豊田","東讃支店"]
[{"$f":"IF(COUNTA(B48),COUNTA(B$21:B48),\"\")","v":28},"高松",544,"く",87,"2021-12-09","小型","乗用","ZZZ80-044613","豊田","東讃支店"]
[{"$f":"IF(COUNTA(B49),COUNTA(B$21:B49),\"\")","v":29},"高松",545,"く",87,"2021-12-10","小型","乗用","ZZZ80-044614","豊田","東讃支店"]
[{"$f":"IF(COUNTA(B50),COUNTA(B$21:B50),\"\")","v":30},"高松",546,"く",87,"2021-12-11","小型","乗用","ZZZ80-044615","豊田","東讃支店"]
[{"$f":"IF(COUNTA(B51),COUNTA(B$21:B51),\"\")","v":31},"高松",547,"く",87,"2021-12-12","小型","乗用","ZZZ80-044616","豊田","東讃支店"]
[{"$f":"IF(COUNTA(B52),COUNTA(B$21:B52),\"\")","v":32},"高松",548,"く",87,"2021-12-13","小型","乗用","ZZZ80-044617","豊田","東讃支店"]
[{"$f":"IF(COUNTA(B53),COUNTA(B$21:B53),\"\")","v":33},"高松",549,"く",87,"2021-12-14","小型","乗用","ZZZ80-044618","豊田","東讃支店"]
[{"$f":"IF(COUNTA(B54),COUNTA(B$21:B54),\"\")","v":34},"高松",550,"く",87,"2021-12-15","小型","乗用","ZZZ80-044619","豊田","東讃支店"]
[{"$f":"IF(COUNTA(B55),COUNTA(B$21:B55),\"\")","v":35},"高松",551,"く",87,"2021-12-16","小型","乗用","ZZZ80-044620","豊田","東讃支店"]
[{"$f":"IF(COUNTA(B56),COUNTA(B$21:B56),\"\")","v":36},"高松",552,"く",87,"2021-12-17","小型","乗用","ZZZ80-044621","豊田","東讃支店"]
[{"$f":"IF(COUNTA(B57),COUNTA(B$21:B57),\"\")","v":37},"高松",553,"く",87,"2021-12-18","小型","乗用","ZZZ80-044622","豊田","東讃支店"]
[{"$f":"IF(COUNTA(B58),COUNTA(B$21:B58),\"\")","v":38},"高松",554,"く",87,"2021-12-19","小型","乗用","ZZZ80-044623","豊田","東讃支店"]
[{"$f":"IF(COUNTA(B59),COUNTA(B$21:B59),\"\")","v":39},"高松",555,"く",87,"2021-12-20","小型","乗用","ZZZ80-044624","豊田","東讃支店"]
[{"$f":"IF(COUNTA(B60),COUNTA(B$21:B60),\"\")","v":40},"高松",556,"く",87,"2021-12-21","小型","乗用","ZZZ80-044625","豊田","東讃支店"]
[{"$f":"IF(COUNTA(B61),COUNTA(B$21:B61),\"\")","v":41},"高松",557,"く",87,"2021-12-22","小型","乗用","ZZZ80-044626","豊田","東讃支店"]
[{"$f":"IF(COUNTA(B62),COUNTA(B$21:B62),\"\")","v":42},"高松",558,"く",87,"2021-12-23","小型","乗用","ZZZ80-044627","豊田","東讃支店"]
[{"$f":"IF(COUNTA(B63),COUNTA(B$21:B63),\"\")","v":43},"高松"]
[{"$f":"IF(COUNTA(B64),COUNTA(B$21:B64),\"\")","v":44},"高松"]
[{"$f":"IF(COUNTA(B65),COUNTA(B$21:B65),\"\")","v":45},"高松"]
[{"$f":"IF(COUNTA(B66),COUNTA(B$21:B66),\"\")","v":46},"高松"]
[{"$f":"IF(COUNTA(B67),COUNTA(B$21:B67),\"\")","v":47},"高松"]
[{"$f":"IF(COUNTA(B68),COUNTA(B$21:B68),\"\")","v":48},"高松"]
[{"$f":"IF(COUNTA(B69),COUNTA(B$21:B69),\"\")","v":49},"高松"]
[{"$f":"IF(COUNTA(B70),COUNTA(B$21:B70),\"\")","v":50},"高松"]
[{"$f":"IF(COUNTA(B71),COUNTA(B$21:B71),\"\")","v":51},"高松"]
[{"$f":"IF(COUNTA(B72),COUNTA(B$21:B72),\"\")","v":52},"高松"]
[{"$f":"IF(COUNTA(B73),COUNTA(B$21:B73),\"\")","v":53},"高松"]
[{"$f":"IF(COUNTA(B74),COUNTA(B$21:B74),\"\")","v":54},"高松"]
[{"$f":"IF(COUNTA(B75),COUNTA(B$21:B75),\"\")","v":55},"高松"]
[{"$f":"IF(COUNTA(B76),COUNTA(B$21:B76),\"\")","v":56},"高松"]
[{"$f":"IF(COUNTA(B77),COUNTA(B$21:B77),\"\")","v":57},"高松"]
[{"$f":"IF(COUNTA(B78),COUNTA(B$21:B78),\"\")","v":58},"高松"]
[{"$f":"IF(COUNTA(B79),COUNTA(B$21:B79),\"\")","v":59},"高松"]
[{"$f":"IF(COUNTA(B80),COUNTA(B$21:B80),\"\")","v":60},"高松"]
[{"$f":"IF(COUNTA(B81),COUNTA(B$21:B81),\"\")","v":61},"高松"]
[{"$f":"IF(COUNTA(B82),COUNTA(B$21:B82),\"\")","v":62},"高松"]
[{"$f":"IF(COUNTA(B83),COUNTA(B$21:B83),\"\")","v":63},"高松"]
[{"$f":"IF(COUNTA(B84),COUNTA(B$21:B84),\"\")","v":64},"高松"]
[{"$f":"IF(COUNTA(B85),COUNTA(B$21:B85),\"\")","v":65},"高松"]
[{"$f":"IF(COUNTA(B86),COUNTA(B$21:B86),\"\")","v":66},"高松"]
[{"$f":"IF(COUNTA(B87),COUNTA(B$21:B87),\"\")","v":67},"高松"]
[{"$f":"IF(COUNTA(B88),COUNTA(B$21:B88),\"\")","v":68},"高松"]
[{"$f":"IF(COUNTA(B89),COUNTA(B$21:B89),\"\")","v":69},"高松"]
[{"$f":"IF(COUNTA(B90),COUNTA(B$21:B90),\"\")","v":70},"高松"]
[{"$f":"IF(COUNTA(B91),COUNTA(B$21:B91),\"\")","v":71},"高松"]
[{"$f":"IF(COUNTA(B92),COUNTA(B$21:B92),\"\")","v":72},"高松"]
[{"$f":"IF(COUNTA(B93),COUNTA(B$21:B93),\"\")","v":73},"高松"]
[{"$f":"IF(COUNTA(B94),COUNTA(B$21:B94),\"\")","v":74},"高松"]
[{"$f":"IF(COUNTA(B95),COUNTA(B$21:B95),\"\")","v":75},"高松"]
[{"$f":"IF(COUNTA(B96),COUNTA(B$21:B96),\"\")","v":76},"高松"]
[{"$f":"IF(COUNTA(B97),COUNTA(B$21:B97),\"\")","v":77},"高松"]
[{"$f":"IF(COUNTA(B98),COUNTA(B$21:B98),\"\")","v":78},"高松"]
[{"$f":"IF(COUNTA(B99),COUNTA(B$21:B99),\"\")","v":79},"高松"]
[{"$f":"IF(COUNTA(B100),COUNTA(B$21:B100),\"\")","v":80},"高松"]
[{"$f":"IF(COUNTA(B101),COUNTA(B$21:B101),\"\")","v":81},"高松"]
[{"$f":"IF(COUNTA(B102),COUNTA(B$21:B102),\"\")","v":82},"高松"]
[{"$f":"IF(COUNTA(B103),COUNTA(B$21:B103),\"\")","v":83},"高松"]
[{"$f":"IF(COUNTA(B104),COUNTA(B$21:B104),\"\")","v":84},"高松"]
[{"$f":"IF(COUNTA(B105),COUNTA(B$21:B105),\"\")","v":85},"高松"]
[{"$f":"IF(COUNTA(B106),COUNTA(B$21:B106),\"\")","v":86},"高松"]
[{"$f":"IF(COUNTA(B107),COUNTA(B$21:B107),\"\")","v":87},"高松"]
[{"$f":"IF(COUNTA(B108),COUNTA(B$21:B108),\"\")","v":88},"高松"]
[{"$f":"IF(COUNTA(B109),COUNTA(B$21:B109),\"\")","v":89},"高松"]
[{"$f":"IF(COUNTA(B110),COUNTA(B$21:B110),\"\")","v":90},"高松"]
[{"$f":"IF(COUNTA(B111),COUNTA(B$21:B111),\"\")","v":91},"高松"]
[{"$f":"IF(COUNTA(B112),COUNTA(B$21:B112),\"\")","v":92},"高松"]
[{"$f":"IF(COUNTA(B113),COUNTA(B$21:B113),\"\")","v":93},"高松"]
[{"$f":"IF(COUNTA(B114),COUNTA(B$21:B114),\"\")","v":94},"高松"]
[{"$f":"IF(COUNTA(B115),COUNTA(B$21:B115),\"\")","v":95},"高松"]
[{"$f":"IF(COUNTA(B116),COUNTA(B$21:B116),\"\")","v":96},"高松"]
[{"$f":"IF(COUNTA(B117),COUNTA(B$21:B117),\"\")","v":97},"高松"]
[{"$f":"IF(COUNTA(B118),COUNTA(B$21:B118),\"\")","v":98},"高松"]
[{"$f":"IF(COUNTA(B119),COUNTA(B$21:B119),\"\")","v":99},"高松"]
[{"$f":"IF(COUNTA(B120),COUNTA(B$21:B120),\"\")","v":100},"高松"]
[{"$f":"IF(COUNTA(B121),COUNTA(B$21:B121),\"\")","v":101},"高松"]
[{"$f":"IF(COUNTA(B122),COUNTA(B$21:B122),\"\")","v":102},"高松"]
[{"$f":"IF(COUNTA(B123),COUNTA(B$21:B123),\"\")","v":103},"高松"]
[{"$f":"IF(COUNTA(B124),COUNTA(B$21:B124),\"\")","v":104},"高松"]
[{"$f":"IF(COUNTA(B125),COUNTA(B$21:B125),\"\")","v":105},"高松"]
[{"$f":"IF(COUNTA(B126),COUNTA(B$21:B126),\"\")","v":106},"高松"]
[{"$f":"IF(COUNTA(B127),COUNTA(B$21:B127),\"\")","v":107},"高松"]
[{"$f":"IF(COUNTA(B128),COUNTA(B$21:B128),\"\")","v":108},"高松"]
[{"$f":"IF(COUNTA(B129),COUNTA(B$21:B129),\"\")","v":109},"高松"]
[{"$f":"IF(COUNTA(B130),COUNTA(B$21:B130),\"\")","v":110},"高松"]
[{"$f":"IF(COUNTA(B131),COUNTA(B$21:B131),\"\")","v":111},"高松"]
[{"$f":"IF(COUNTA(B132),COUNTA(B$21:B132),\"\")","v":112},"高松"]
[{"$f":"IF(COUNTA(B133),COUNTA(B$21:B133),\"\")","v":113},"高松"]
[{"$f":"IF(COUNTA(B134),COUNTA(B$21:B134),\"\")","v":114},"高松"]
[{"$f":"IF(COUNTA(B135),COUNTA(B$21:B135),\"\")","v":115},"高松"]
[{"$f":"IF(COUNTA(B136),COUNTA(B$21:B136),\"\")","v":116},"高松"]
[{"$f":"IF(COUNTA(B137),COUNTA(B$21:B137),\"\")","v":117},"高松"]
[{"$f":"IF(COUNTA(B138),COUNTA(B$21:B138),\"\")","v":118},"高松"]
[{"$f":"IF(COUNTA(B139),COUNTA(B$21:B139),\"\")","v":119},"高松"]
[{"$f":"IF(COUNTA(B140),COUNTA(B$21:B140),\"\")","v":120},"高松"]
[{"$f":"IF(COUNTA(B141),COUNTA(B$21:B141),\"\")","v":121},"高松"]
[{"$f":"IF(COUNTA(B142),COUNTA(B$21:B142),\"\")","v":122},"高松"]
[{"$f":"IF(COUNTA(B143),COUNTA(B$21:B143),\"\")","v":123},"高松"]
[{"$f":"IF(COUNTA(B144),COUNTA(B$21:B144),\"\")","v":124},"高松"]
[{"$f":"IF(COUNTA(B145),COUNTA(B$21:B145),\"\")","v":125},"高松"]
[{"$f":"IF(COUNTA(B146),COUNTA(B$21:B146),\"\")","v":126},"高松"]
[{"$f":"IF(COUNTA(B147),COUNTA(B$21:B147),\"\")","v":127},"高松"]
[{"$f":"IF(COUNTA(B148),COUNTA(B$21:B148),\"\")","v":128},"高松"]
[{"$f":"IF(COUNTA(B149),COUNTA(B$21:B149),\"\")","v":129},"高松"]
[{"$f":"IF(COUNTA(B150),COUNTA(B$21:B150),\"\")","v":130},"高松"]
[{"$f":"IF(COUNTA(B151),COUNTA(B$21:B151),\"\")","v":131},"高松"]
[{"$f":"IF(COUNTA(B152),COUNTA(B$21:B152),\"\")","v":132},"高松"]
[{"$f":"IF(COUNTA(B153),COUNTA(B$21:B153),\"\")","v":133},"高松"]
[{"$f":"IF(COUNTA(B154),COUNTA(B$21:B154),\"\")","v":134},"高松"]
[{"$f":"IF(COUNTA(B155),COUNTA(B$21:B155),\"\")","v":135},"高松"]
[{"$f":"IF(COUNTA(B156),COUNTA(B$21:B156),\"\")","v":136},"高松"]
[{"$f":"IF(COUNTA(B157),COUNTA(B$21:B157),\"\")","v":137},"高松"]
[{"$f":"IF(COUNTA(B158),COUNTA(B$21:B158),\"\")","v":138},"高松"]
[{"$f":"IF(COUNTA(B159),COUNTA(B$21:B159),\"\")","v":139},"高松"]
[{"$f":"IF(COUNTA(B160),COUNTA(B$21:B160),\"\")","v":140},"高松"]
[{"$f":"IF(COUNTA(B161),COUNTA(B$21:B161),\"\")","v":141},"高松"]
[{"$f":"IF(COUNTA(B162),COUNTA(B$21:B162),\"\")","v":142},"高松"]
[{"$f":"IF(COUNTA(B163),COUNTA(B$21:B163),\"\")","v":143},"高松"]
[{"$f":"IF(COUNTA(B164),COUNTA(B$21:B164),\"\")","v":144},"高松"]
[{"$f":"IF(COUNTA(B165),COUNTA(B$21:B165),\"\")","v":145},"高松"]
[{"$f":"IF(COUNTA(B166),COUNTA(B$21:B166),\"\")","v":146},"高松"]
[{"$f":"IF(COUNTA(B167),COUNTA(B$21:B167),\"\")","v":147},"高松"]
[{"$f":"IF(COUNTA(B168),COUNTA(B$21:B168),\"\")","v":148},"高松"]
[{"$f":"IF(COUNTA(B169),COUNTA(B$21:B169),\"\")","v":149},"高松"]
[{"$f":"IF(COUNTA(B170),COUNTA(B$21:B170),\"\")","v":150},"高松"]
[{"$f":"IF(COUNTA(B171),COUNTA(B$21:B171),\"\")","v":151},"高松"]
[{"$f":"IF(COUNTA(B172),COUNTA(B$21:B172),\"\")","v":152},"高松"]
[{"$f":"IF(COUNTA(B173),COUNTA(B$21:B173),\"\")","v":153},"高松"]
[{"$f":"IF(COUNTA(B174),COUNTA(B$21:B174),\"\")","v":154},"高松"]
[{"$f":"IF(COUNTA(B175),COUNTA(B$21:B175),\"\")","v":155},"高松"]
[{"$f":"IF(COUNTA(B176),COUNTA(B$21:B176),\"\")","v":156},"高松"]
[{"$f":"IF(COUNTA(B177),COUNTA(B$21:B177),\"\")","v":157},"高松"]
[{"$f":"IF(COUNTA(B178),COUNTA(B$21:B178),\"\")","v":158},"高松"]
[{"$f":"IF(COUNTA(B179),COUNTA(B$21:B179),\"\")","v":159},"高松"]
[{"$f":"IF(COUNTA(B180),COUNTA(B$21:B180),\"\")","v":160},"高松"]
[{"$f":"IF(COUNTA(B181),COUNTA(B$21:B181),\"\")","v":161},"高松"]
[{"$f":"IF(COUNTA(B182),COUNTA(B$21:B182),\"\")","v":162},"高松"]
[{"$f":"IF(COUNTA(B183),COUNTA(B$21:B183),\"\")","v":163},"高松"]
[{"$f":"IF(COUNTA(B184),COUNTA(B$21:B184),\"\")","v":164},"高松"]
[{"$f":"IF(COUNTA(B185),COUNTA(B$21:B185),\"\")","v":165},"高松"]
[{"$f":"IF(COUNTA(B186),COUNTA(B$21:B186),\"\")","v":166},"高松"]
[{"$f":"IF(COUNTA(B187),COUNTA(B$21:B187),\"\")","v":167},"高松"]
[{"$f":"IF(COUNTA(B188),COUNTA(B$21:B188),\"\")","v":168},"高松"]
[{"$f":"IF(COUNTA(B189),COUNTA(B$21:B189),\"\")","v":169},"高松"]
[{"$f":"IF(COUNTA(B190),COUNTA(B$21:B190),\"\")","v":170},"高松"]
[{"$f":"IF(COUNTA(B191),COUNTA(B$21:B191),\"\")","v":171},"高松"]
[{"$f":"IF(COUNTA(B192),COUNTA(B$21:B192),\"\")","v":172},"高松"]
[{"$f":"IF(COUNTA(B193),COUNTA(B$21:B193),\"\")","v":173},"高松"]
[{"$f":"IF(COUNTA(B194),COUNTA(B$21:B194),\"\")","v":174},"高松"]
[{"$f":"IF(COUNTA(B195),COUNTA(B$21:B195),\"\")","v":175},"高松"]
[{"$f":"IF(COUNTA(B196),COUNTA(B$21:B196),\"\")","v":176},"高松"]
[{"$f":"IF(COUNTA(B197),COUNTA(B$21:B197),\"\")","v":177},"高松"]
[{"$f":"IF(COUNTA(B198),COUNTA(B$21:B198),\"\")","v":178},"高松"]
[{"$f":"IF(COUNTA(B199),COUNTA(B$21:B199),\"\")","v":179},"高松"]
[{"$f":"IF(COUNTA(B200),COUNTA(B$21:B200),\"\")","v":180},"高松"]
[{"$f":"IF(COUNTA(B201),COUNTA(B$21:B201),\"\")","v":181},"高松"]
[{"$f":"IF(COUNTA(B202),COUNTA(B$21:B202),\"\")","v":182},"高松"]
[{"$f":"IF(COUNTA(B203),COUNTA(B$21:B203),\"\")","v":183},"高松"]
[{"$f":"IF(COUNTA(B204),COUNTA(B$21:B204),\"\")","v":184},"高松"]
[{"$f":"IF(COUNTA(B205),COUNTA(B$21:B205),\"\")","v":185},"高松"]
[{"$f":"IF(COUNTA(B206),COUNTA(B$21:B206),\"\")","v":186},"高松"]
[{"$f":"IF(COUNTA(B207),COUNTA(B$21:B207),\"\")","v":187},"高松"]
[{"$f":"IF(COUNTA(B208),COUNTA(B$21:B208),\"\")","v":188},"高松"]
[{"$f":"IF(COUNTA(B209),COUNTA(B$21:B209),\"\")","v":189},"高松"]
[{"$f":"IF(COUNTA(B210),COUNTA(B$21:B210),\"\")","v":190},"高松"]
[{"$f":"IF(COUNTA(B211),COUNTA(B$21:B211),\"\")","v":191},"高松"]
[{"$f":"IF(COUNTA(B212),COUNTA(B$21:B212),\"\")","v":192},"高松"]
[{"$f":"IF(COUNTA(B213),COUNTA(B$21:B213),\"\")","v":193},"高松"]
[{"$f":"IF(COUNTA(B214),COUNTA(B$21:B214),\"\")","v":194},"高松"]
[{"$f":"IF(COUNTA(B215),COUNTA(B$21:B215),\"\")","v":195},"高松"]
[{"$f":"IF(COUNTA(B216),COUNTA(B$21:B216),\"\")","v":196},"高松"]
[{"$f":"IF(COUNTA(B217),COUNTA(B$21:B217),\"\")","v":197},"高松"]
[{"$f":"IF(COUNTA(B218),COUNTA(B$21:B218),\"\")","v":198},"高松"]
[{"$f":"IF(COUNTA(B219),COUNTA(B$21:B219),\"\")","v":199},"高松"]
[{"$f":"IF(COUNTA(B220),COUNTA(B$21:B220),\"\")","v":200},"高松"]
[{"$f":"IF(COUNTA(B221),COUNTA(B$21:B221),\"\")","v":201},"高松"]
[{"$f":"IF(COUNTA(B222),COUNTA(B$21:B222),\"\")","v":202},"高松"]
[{"$f":"IF(COUNTA(B223),COUNTA(B$21:B223),\"\")","v":203},"高松"]
[{"$f":"IF(COUNTA(B224),COUNTA(B$21:B224),\"\")","v":204},"高松"]
[{"$f":"IF(COUNTA(B225),COUNTA(B$21:B225),\"\")","v":205},"高松"]
[{"$f":"IF(COUNTA(B226),COUNTA(B$21:B226),\"\")","v":206},"高松"]
[{"$f":"IF(COUNTA(B227),COUNTA(B$21:B227),\"\")","v":207},"高松"]
[{"$f":"IF(COUNTA(B228),COUNTA(B$21:B228),\"\")","v":208},"高松"]
[{"$f":"IF(COUNTA(B229),COUNTA(B$21:B229),\"\")","v":209},"高松"]
[{"$f":"IF(COUNTA(B230),COUNTA(B$21:B230),\"\")","v":210},"高松"]
[{"$f":"IF(COUNTA(B231),COUNTA(B$21:B231),\"\")","v":211},"高松"]
[{"$f":"IF(COUNTA(B232),COUNTA(B$21:B232),\"\")","v":212},"高松"]
[{"$f":"IF(COUNTA(B233),COUNTA(B$21:B233),\"\")","v":213},"高松"]
[{"$f":"IF(COUNTA(B234),COUNTA(B$21:B234),\"\")","v":214},"高松"]
[{"$f":"IF(COUNTA(B235),COUNTA(B$21:B235),\"\")","v":215},"高松"]
[{"$f":"IF(COUNTA(B236),COUNTA(B$21:B236),\"\")","v":216},"高松"]
[{"$f":"IF(COUNTA(B237),COUNTA(B$21:B237),\"\")","v":217},"高松"]
[{"$f":"IF(COUNTA(B238),COUNTA(B$21:B238),\"\")","v":218},"高松"]
[{"$f":"IF(COUNTA(B239),COUNTA(B$21:B239),\"\")","v":219},"高松"]
[{"$f":"IF(COUNTA(B240),COUNTA(B$21:B240),\"\")","v":220},"高松"]
[{"$f":"IF(COUNTA(B241),COUNTA(B$21:B241),\"\")","v":221},"高松"]
[{"$f":"IF(COUNTA(B242),COUNTA(B$21:B242),\"\")","v":222},"高松"]
[{"$f":"IF(COUNTA(B243),COUNTA(B$21:B243),\"\")","v":223},"高松"]
[{"$f":"IF(COUNTA(B244),COUNTA(B$21:B244),\"\")","v":224},"高松"]
[{"$f":"IF(COUNTA(B245),COUNTA(B$21:B245),\"\")","v":225},"高松"]
[{"$f":"IF(COUNTA(B246),COUNTA(B$21:B246),\"\")","v":226},"高松"]
[{"$f":"IF(COUNTA(B247),COUNTA(B$21:B247),\"\")","v":227},"高松"]
[{"$f":"IF(COUNTA(B248),COUNTA(B$21:B248),\"\")","v":228},"高松"]
[{"$f":"IF(COUNTA(B249),COUNTA(B$21:B249),\"\")","v":229},"高松"]
[{"$f":"IF(COUNTA(B250),COUNTA(B$21:B250),\"\")","v":230},"高松"]
[{"$f":"IF(COUNTA(B251),COUNTA(B$21:B251),\"\")","v":231},"高松"]
[{"$f":"IF(COUNTA(B252),COUNTA(B$21:B252),\"\")","v":232},"高松"]
[{"$f":"IF(COUNTA(B253),COUNTA(B$21:B253),\"\")","v":233},"高松"]
[{"$f":"IF(COUNTA(B254),COUNTA(B$21:B254),\"\")","v":234},"高松"]
[{"$f":"IF(COUNTA(B255),COUNTA(B$21:B255),\"\")","v":235},"高松"]
[{"$f":"IF(COUNTA(B256),COUNTA(B$21:B256),\"\")","v":236},"高松"]
[{"$f":"IF(COUNTA(B257),COUNTA(B$21:B257),\"\")","v":237},"高松"]
[{"$f":"IF(COUNTA(B258),COUNTA(B$21:B258),\"\")","v":238},"高松"]
[{"$f":"IF(COUNTA(B259),COUNTA(B$21:B259),\"\")","v":239},"高松"]
[{"$f":"IF(COUNTA(B260),COUNTA(B$21:B260),\"\")","v":240},"高松"]
[{"$f":"IF(COUNTA(B261),COUNTA(B$21:B261),\"\")","v":241},"高松"]
[{"$f":"IF(COUNTA(B262),COUNTA(B$21:B262),\"\")","v":242},"高松"]
[{"$f":"IF(COUNTA(B263),COUNTA(B$21:B263),\"\")","v":243},"高松"]
[{"$f":"IF(COUNTA(B264),COUNTA(B$21:B264),\"\")","v":244},"高松"]
[{"$f":"IF(COUNTA(B265),COUNTA(B$21:B265),\"\")","v":245},"高松"]
[{"$f":"IF(COUNTA(B266),COUNTA(B$21:B266),\"\")","v":246},"高松"]
[{"$f":"IF(COUNTA(B267),COUNTA(B$21:B267),\"\")","v":247},"高松"]
[{"$f":"IF(COUNTA(B268),COUNTA(B$21:B268),\"\")","v":248},"高松"]
[{"$f":"IF(COUNTA(B269),COUNTA(B$21:B269),\"\")","v":249},"高松"]
[{"$f":"IF(COUNTA(B270),COUNTA(B$21:B270),\"\")","v":250},"高松"]
[{"$f":"IF(COUNTA(B271),COUNTA(B$21:B271),\"\")","v":251},"高松"]
[{"$f":"IF(COUNTA(B272),COUNTA(B$21:B272),\"\")","v":252},"高松"]
[{"$f":"IF(COUNTA(B273),COUNTA(B$21:B273),\"\")","v":253},"高松"]
[{"$f":"IF(COUNTA(B274),COUNTA(B$21:B274),\"\")","v":254},"高松"]
[{"$f":"IF(COUNTA(B275),COUNTA(B$21:B275),\"\")","v":255},"高松"]
[{"$f":"IF(COUNTA(B276),COUNTA(B$21:B276),\"\")","v":256},"高松"]
[{"$f":"IF(COUNTA(B277),COUNTA(B$21:B277),\"\")","v":257},"高松"]
[{"$f":"IF(COUNTA(B278),COUNTA(B$21:B278),\"\")","v":258},"高松"]
[{"$f":"IF(COUNTA(B279),COUNTA(B$21:B279),\"\")","v":259},"高松"]
[{"$f":"IF(COUNTA(B280),COUNTA(B$21:B280),\"\")","v":260},"高松"]
[{"$f":"IF(COUNTA(B281),COUNTA(B$21:B281),\"\")","v":261},"高松"]
[{"$f":"IF(COUNTA(B282),COUNTA(B$21:B282),\"\")","v":262},"高松"]
[{"$f":"IF(COUNTA(B283),COUNTA(B$21:B283),\"\")","v":263},"高松"]
[{"$f":"IF(COUNTA(B284),COUNTA(B$21:B284),\"\")","v":264},"高松"]
[{"$f":"IF(COUNTA(B285),COUNTA(B$21:B285),\"\")","v":265},"高松"]
[{"$f":"IF(COUNTA(B286),COUNTA(B$21:B286),\"\")","v":266},"高松"]
[{"$f":"IF(COUNTA(B287),COUNTA(B$21:B287),\"\")","v":267},"高松"]
[{"$f":"IF(COUNTA(B288),COUNTA(B$21:B288),\"\")","v":268},"高松"]
[{"$f":"IF(COUNTA(B289),COUNTA(B$21:B289),\"\")","v":269},"高松"]
[{"$f":"IF(COUNTA(B290),COUNTA(B$21:B290),\"\")","v":270},"高松"]
[{"$f":"IF(COUNTA(B291),COUNTA(B$21:B291),\"\")","v":271},"高松"]
[{"$f":"IF(COUNTA(B292),COUNTA(B$21:B292),\"\")","v":272},"高松"]
[{"$f":"IF(COUNTA(B293),COUNTA(B$21:B293),\"\")","v":273},"高松"]
[{"$f":"IF(COUNTA(B294),COUNTA(B$21:B294),\"\")","v":274},"高松"]
[{"$f":"IF(COUNTA(B295),COUNTA(B$21:B295),\"\")","v":275},"高松"]
[{"$f":"IF(COUNTA(B296),COUNTA(B$21:B296),\"\")","v":276},"高松"]
[{"$f":"IF(COUNTA(B297),COUNTA(B$21:B297),\"\")","v":277},"高松"]
[{"$f":"IF(COUNTA(B298),COUNTA(B$21:B298),\"\")","v":278},"高松"]
[{"$f":"IF(COUNTA(B299),COUNTA(B$21:B299),\"\")","v":279},"高松"]
[{"$f":"IF(COUNTA(B300),COUNTA(B$21:B300),\"\")","v":280},"高松"]
[{"$f":"IF(COUNTA(B301),COUNTA(B$21:B301),\"\")","v":281},"高松"]
[{"$f":"IF(COUNTA(B302),COUNTA(B$21:B302),\"\")","v":282},"高松"]
[{"$f":"IF(COUNTA(B303),COUNTA(B$21:B303),\"\")","v":283},"高松"]
[{"$f":"IF(COUNTA(B304),COUNTA(B$21:B304),\"\")","v":284},"高松"]
[{"$f":"IF(COUNTA(B305),COUNTA(B$21:B305),\"\")","v":285},"高松"]
[{"$f":"IF(COUNTA(B306),COUNTA(B$21:B306),\"\")","v":286},"高松"]
[{"$f":"IF(COUNTA(B307),COUNTA(B$21:B307),\"\")","v":287},"高松"]
[{"$f":"IF(COUNTA(B308),COUNTA(B$21:B308),\"\")","v":288},"高松"]
[{"$f":"IF(COUNTA(B309),COUNTA(B$21:B309),\"\")","v":289},"高松"]
[{"$f":"IF(COUNTA(B310),COUNTA(B$21:B310),\"\")","v":290},"高松"]
[{"$f":"IF(COUNTA(B311),COUNTA(B$21:B311),\"\")","v":291},"高松"]
[{"$f":"IF(COUNTA(B312),COUNTA(B$21:B312),\"\")","v":292},"高松"]
[{"$f":"IF(COUNTA(B313),COUNTA(B$21:B313),\"\")","v":293},"高松"]
[{"$f":"IF(COUNTA(B314),COUNTA(B$21:B314),\"\")","v":294},"高松"]
[{"$f":"IF(COUNTA(B315),COUNTA(B$21:B315),\"\")","v":295},"高松"]
[{"$f":"IF(COUNTA(B316),COUNTA(B$21:B316),\"\")","v":296},"高松"]
[{"$f":"IF(COUNTA(B317),COUNTA(B$21:B317),\"\")","v":297},"高松"]
[{"$f":"IF(COUNTA(B318),COUNTA(B$21:B318),\"\")","v":298},"高松"]
[{"$f":"IF(COUNTA(B319),COUNTA(B$21:B319),\"\")","v":299},"高松"]
[{"$f":"IF(COUNTA(B320),COUNTA(B$21:B320),\"\")","v":300},"高松"]
[{"$f":"IF(COUNTA(B321),COUNTA(B$21:B321),\"\")","v":301},"高松"]

{"sheet":"①証明申請書 ","index":2,"n_rows":344,"n_cols":17,"rows_kept":344,"cut":false,"hidden":false,"merged":[[342,1,342,3],[342,4,342,6],[342,7,342,8],[343,1,343,3],[343,4,343,6],[343,7,343,8],[340,1,340,3],[340,4,340,6],[340,7,340,8],[341,1,341,3],[341,4,341,6],[341,7,341,8],[338,1,338,3],[338,4,338,6],[338,7,338,8],[339,1,339,3],[339,4,339,6],[339,7,339,8],[330,1,330,3],[330,4,330,6],[330,7,330,8],[331,1,331,3],[331,4,331,6],[331,7,331,8],[328,1,328,3],[328,4,328,6],[328,7,328,8],[329,1,329,3],[329,4,329,6],[329,7,329,8],[337,7,337,8],[334,1,334,3],[334,4,334,6],[334,7,334,8],[335,1,335,3],[335,4,335,6],[335,7,335,8],[332,1,332,3],[332,4,332,6],[332,7,332,8],[333,1,333,3],[333,4,333,6],[333,7,333,8],[336,1,336,3],[336,4,336,6],[336,7,336,8],[337,1,337,3],[337,4,337,6],[322,1,322,3],[322,4,322,6],[322,7,322,8],[323,1,323,3],[323,4,323,6],[323,7,323,8],[320,1,320,3],[320,4,320,6],[320,7,320,8],[321,1,321,3],[321,4,321,6],[321,7,321,8],[326,1,326,3],[326,4,326,6],[326,7,326,8],[327,1,327,3],[327,4,327,6],[327,7,327,8],[324,1,324,3],[324,4,324,6],[324,7,324,8],[325,1,325,3],[325,4,325,6],[325,7,325,8],[314,1,314,3],[314,4,314,6],[314,7,314,8],[315,1,315,3],[315,4,315,6],[315,7,315,8],[312,1,312,3],[312,4,312,6],[312,7,312,8],[313,1,313,3],[313,4,313,6],[313,7,313,8],[318,1,318,3],[318,4,318,6],[318,7,318,8],[319,1,319,3],[319,4,319,6],[319,7,319,8],[316,1,316,3],[316,4,316,6],[316,7,316,8],[317,1,317,3],[317,4,317,6],[317,7,317,8],[306,1,306,3],[306,4,306,6],[306,7,306,8],[307,1,307,3],[307,4,307,6],[307,7,307,8],[304,1,304,3],[304,4,304,6],[304,7,304,8],[305,1,305,3],[305,4,305,6],[305,7,305,8],[310,1,310,3],[310,4,310,6],[310,7,310,8],[311,1,311,3],[311,4,311,6],[311,7,311,8],[308,1,308,3],[308,4,308,6],[308,7,308,8],[309,1,309,3],[309,4,309,6],[309,7,309,8],[298,1,298,3],[298,4,298,6],[298,7,298,8],[299,1,299,3],[299,4,299,6],[299,7,299,8],[296,1,296,3],[296,4,296,6],[296,7,296,8],[297,1,297,3],[297,4,297,6],[297,7,297,8],[302,1,302,3],[302,4,302,6],[302,7,302,8],[303,1,303,3],[303,4,303,6],[303,7,303,8],[300,1,300,3],[300,4,300,6],[300,7,300,8],[301,1,301,3],[301,4,301,6],[301,7,301,8],[290,1,290,3],[290,4,290,6],[290,7,290,8],[291,1,291,3],[291,4,291,6],[291,7,291,8],[288,1,288,3],[288,4,288,6],[288,7,288,8],[289,1,289,3],[289,4,289,6],[289,7,289,8],[294,1,294,3],[294,4,294,6],[294,7,294,8],[295,1,295,3],[295,4,295,6],[295,7,295,8],[292,1,292,3],[292,4,292,6],[292,7,292,8],[293,1,293,3],[293,4,293,6],[293,7,293,8],[282,1,282,3],[282,4,282,6],[282,7,282,8],[283,1,283,3],[283,4,283,6],[283,7,283,8],[280,1,280,3],[280,4,280,6],[280,7,280,8],[281,1,281,3],[281,4,281,6],[281,7,281,8],[286,1,286,3],[286,4,286,6],[286,7,286,8],[287,1,287,3],[287,4,287,6],[287,7,287,8],[284,1,284,3],[284,4,284,6],[284,7,284,8],[285,1,285,3],[285,4,285,6],[285,7,285,8],[274,1,274,3],[274,4,274,6],[274,7,274,8],[275,1,275,3],[275,4,275,6],[275,7,275,8],[272,1,272,3],[272,4,272,6],[272,7,272,8],[273,1,273,3],[273,4,273,6],[273,7,273,8],[278,1,278,3],[278,4,278,6],[278,7,278,8],[279,1,279,3],[279,4,279,6],[279,7,279,8],[276,1,276,3],[276,4,276,6],[276,7,276,8],[277,1,277,3],[277,4,277,6],[277,7,277,8],[266,1,266,3],[266,4,266,6],[266,7,266,8],[267,1,267,3],[267,4,267,6],[267,7,267,8],[264,1,264,3],[264,4,264,6],[264,7,264,8],[265,1,265,3],[265,4,265,6],[265,7,265,8],[270,1,270,3],[270,4,270,6],[270,7,270,8],[271,1,271,3],[271,4,271,6],[271,7,271,8],[268,1,268,3],[268,4,268,6],[268,7,268,8],[269,1,269,3],[269,4,269,6],[269,7,269,8],[258,1,258,3],[258,4,258,6],[258,7,258,8],[259,1,259,3],[259,4,259,6],[259,7,259,8],[256,1,256,3],[256,4,256,6],[256,7,256,8],[257,1,257,3],[257,4,257,6],[257,7,257,8],[262,1,262,3],[262,4,262,6],[262,7,262,8],[263,1,263,3],[263,4,263,6],[263,7,263,8],[260,1,260,3],[260,4,260,6],[260,7,260,8],[261,1,261,3],[261,4,261,6],[261,7,261,8],[250,1,250,3],[250,4,250,6],[250,7,250,8],[251,1,251,3],[251,4,251,6],[251,7,251,8],[248,1,248,3],[248,4,248,6],[248,7,248,8],[249,1,249,3],[249,4,249,6],[249,7,249,8],[254,1,254,3],[254,4,254,6],[254,7,254,8],[255,1,255,3],[255,4,255,6],[255,7,255,8],[252,1,252,3],[252,4,252,6],[252,7,252,8],[253,1,253,3],[253,4,253,6],[253,7,253,8],[242,1,242,3],[242,4,242,6],[242,7,242,8],[243,1,243,3],[243,4,243,6],[243,7,243,8],[240,1,240,3],[240,4,240,6],[240,7,240,8],[241,1,241,3],[241,4,241,6],[241,7,241,8],[246,1,246,3],[246,4,246,6],[246,7,246,8],[247,1,247,3],[247,4,247,6],[247,7,247,8],[244,1,244,3],[244,4,244,6],[244,7,244,8],[245,1,245,3],[245,4,245,6],[245,7,245,8],[234,1,234,3],[234,4,234,6],[234,7,234,8],[235,1,235,3],[235,4,235,6],[235,7,235,8],[232,1,232,3],[232,4,232,6],[232,7,232,8],[233,1,233,3],[233,4,233,6],[233,7,233,8],[238,1,238,3],[238,4,238,6],[238,7,238,8],[239,1,239,3],[239,4,239,6],[239,7,239,8],[236,1,236,3],[236,4,236,6],[236,7,236,8],[237,1,237,3],[237,4,237,6],[237,7,237,8],[226,1,226,3],[226,4,226,6],[226,7,226,8],[227,1,227,3],[227,4,227,6],[227,7,227,8],[224,1,224,3],[224,4,224,6],[224,7,224,8],[225,1,225,3],[225,4,225,6],[225,7,225,8],[230,1,230,3],[230,4,230,6],[230,7,230,8],[231,1,231,3],[231,4,231,6],[231,7,231,8],[228,1,228,3],[228,4,228,6],[228,7,228,8],[229,1,229,3],[229,4,229,6],[229,7,229,8],[218,1,218,3],[218,4,218,6],[218,7,218,8],[219,1,219,3],[219,4,219,6],[219,7,219,8],[216,1,216,3],[216,4,216,6],[216,7,216,8],[217,1,217,3],[217,4,217,6],[217,7,217,8],[222,1,222,3],[222,4,222,6],[222,7,222,8],[223,1,223,3],[223,4,223,6],[223,7,223,8],[220,1,220,3],[220,4,220,6],[220,7,220,8],[221,1,221,3],[221,4,221,6],[221,7,221,8],[210,1,210,3],[210,4,210,6],[210,7,210,8],[211,1,211,3],[211,4,211,6],[211,7,211,8],[208,1,208,3],[208,4,208,6],[208,7,208,8],[209,1,209,3],[209,4,209,6],[209,7,209,8],[214,1,214,3],[214,4,214,6],[214,7,214,8],[215,1,215,3],[215,4,215,6],[215,7,215,8],[212,1,212,3],[212,4,212,6],[212,7,212,8],[213,1,213,3],[213,4,213,6],[213,7,213,8],[202,1,202,3],[202,4,202,6],[202,7,202,8],[203,1,203,3],[203,4,203,6],[203,7,203,8],[200,1,200,3],[200,4,200,6],[200,7,200,8],[201,1,201,3],[201,4,201,6],[201,7,201,8],[206,1,206,3],[206,4,206,6],[206,7,206,8],[207,1,207,3],[207,4,207,6],[207,7,207,8],[204,1,204,3],[204,4,204,6],[204,7,204,8],[205,1,205,3],[205,4,205,6],[205,7,205,8],[194,1,194,3],[194,4,194,6],[194,7,194,8],[195,1,195,3],[195,4,195,6],[195,7,195,8],[192,1,192,3],[192,4,192,6],[192,7,192,8],[193,1,193,3],[193,4,193,6],[193,7,193,8],[198,1,198,3],[198,4,198,6],[198,7,198,8],[199,1,199,3],[199,4,199,6],[199,7,199,8],[196,1,196,3],[196,4,196,6],[196,7,196,8],[197,1,197,3],[197,4,197,6],[197,7,197,8],[186,1,186,3],[186,4,186,6],[186,7,186,8],[187,1,187,3],[187,4,187,6],[187,7,187,8],[184,1,184,3],[184,4,184,6],[184,7,184,8],[185,1,185,3],[185,4,185,6],[185,7,185,8],[190,1,190,3],[190,4,190,6],[190,7,190,8],[191,1,191,3],[191,4,191,6],[191,7,191,8],[188,1,188,3],[188,4,188,6],[188,7,188,8],[189,1,189,3],[189,4,189,6],[189,7,189,8],[178,1,178,3],[178,4,178,6],[178,7,178,8],[179,1,179,3],[179,4,179,6],[179,7,179,8],[176,1,176,3],[176,4,176,6],[176,7,176,8],[177,1,177,3],[177,4,177,6],[177,7,177,8],[182,1,182,3],[182,4,182,6],[182,7,182,8],[183,1,183,3],[183,4,183,6],[183,7,183,8],[180,1,180,3],[180,4,180,6],[180,7,180,8],[181,1,181,3],[181,4,181,6],[181,7,181,8],[170,1,170,3],[170,4,170,6],[170,7,170,8],[171,1,171,3],[171,4,171,6],[171,7,171,8],[168,1,168,3],[168,4,168,6],[168,7,168,8],[169,1,169,3],[169,4,169,6],[169,7,169,8],[174,1,174,3],[174,4,174,6],[174,7,174,8],[175,1,175,3],[175,4,175,6],[175,7,175,8],[172,1,172,3],[172,4,172,6],[172,7,172,8],[173,1,173,3],[173,4,173,6],[173,7,173,8],[162,1,162,3],[162,4,162,6],[162,7,162,8],[163,1,163,3],[163,4,163,6],[163,7,163,8],[160,1,160,3],[160,4,160,6],[160,7,160,8],[161,1,161,3],[161,4,161,6],[161,7,161,8],[166,1,166,3],[166,4,166,6],[166,7,166,8],[167,1,167,3],[167,4,167,6],[167,7,167,8],[164,1,164,3],[164,4,164,6],[164,7,164,8],[165,1,165,3],[165,4,165,6],[165,7,165,8],[154,1,154,3],[154,4,154,6],[154,7,154,8],[155,1,155,3],[155,4,155,6],[155,7,155,8],[152,1,152,3],[152,4,152,6],[152,7,152,8],[153,1,153,3],[153,4,153,6],[153,7,153,8],[158,1,158,3],[158,4,158,6],[158,7,158,8],[159,1,159,3],[159,4,159,6],[159,7,159,8],[156,1,156,3],[156,4,156,6],[156,7,156,8],[157,1,157,3],[157,4,157,6],[157,7,157,8],[146,1,146,3],[146,4,146,6],[146,7,146,8],[147,1,147,3],[147,4,147,6],[147,7,147,8],[144,1,144,3],[144,4,144,6],[144,7,144,8],[145,1,145,3],[145,4,145,6],[145,7,145,8],[150,1,150,3],[150,4,150,6],[150,7,150,8],[151,1,151,3],[151,4,151,6],[151,7,151,8],[148,1,148,3],[148,4,148,6],[148,7,148,8],[149,1,149,3],[149,4,149,6],[149,7,149,8],[138,1,138,3],[138,4,138,6],[138,7,138,8],[139,1,139,3],[139,4,139,6],[139,7,139,8],[136,1,136,3],[136,4,136,6],[136,7,136,8],[137,1,137,3],[137,4,137,6],[137,7,137,8],[142,1,142,3],[142,4,142,6],[142,7,142,8],[143,1,143,3],[143,4,143,6],[143,7,143,8],[140,1,140,3],[140,4,140,6],[140,7,140,8],[141,1,141,3],[141,4,141,6],[141,7,141,8],[130,1,130,3],[130,4,130,6],[130,7,130,8],[131,1,131,3],[131,4,131,6],[131,7,131,8],[128,1,128,3],[128,4,128,6],[128,7,128,8],[129,1,129,3],[129,4,129,6],[129,7,129,8],[134,1,134,3],[134,4,134,6],[134,7,134,8],[135,1,135,3],[135,4,135,6],[135,7,135,8],[132,1,132,3],[132,4,132,6],[132,7,132,8],[133,1,133,3],[133,4,133,6],[133,7,133,8],[122,1,122,3],[122,4,122,6],[122,7,122,8],[123,1,123,3],[123,4,123,6],[123,7,123,8],[120,1,120,3],[120,4,120,6],[120,7,120,8],[121,1,121,3],[121,4,121,6],[121,7,121,8],[126,1,126,3],[126,4,126,6],[126,7,126,8],[127,1,127,3],[127,4,127,6],[127,7,127,8],[124,1,124,3],[124,4,124,6],[124,7,124,8],[125,1,125,3],[125,4,125,6],[125,7,125,8],[114,1,114,3],[114,4,114,6],[114,7,114,8],[115,1,115,3],[115,4,115,6],[115,7,115,8],[112,1,112,3],[112,4,112,6],[112,7,112,8],[113,1,113,3],[113,4,113,6],[113,7,113,8],[118,1,118,3],[118,4,118,6],[118,7,118,8],[119,1,119,3],[119,4,119,6],[119,7,119,8],[116,1,116,3],[116,4,116,6],[116,7,116,8],[117,1,117,3],[117,4,117,6],[117,7,117,8],[106,1,106,3],[106,4,106,6],[106,7,106,8],[107,1,107,3],[107,4,107,6],[107,7,107,8],[104,1,104,3],[104,4,104,6],[104,7,104,8],[105,1,105,3],[105,4,105,6],[105,7,105,8],[110,1,110,3],[110,4,110,6],[110,7,110,8],[111,1,111,3],[111,4,111,6],[111,7,111,8],[108,1,108,3],[108,4,108,6],[108,7,108,8],[109,1,109,3],[109,4,109,6],[109,7,109,8],[98,1,98,3],[98,4,98,6],[98,7,98,8],[99,1,99,3],[99,4,99,6],[99,7,99,8],[96,1,96,3],[96,4,96,6],[96,7,96,8],[97,1,97,3],[97,4,97,6],[97,7,97,8],[102,1,102,3],[102,4,102,6],[102,7,102,8],[103,1,103,3],[103,4,103,6],[103,7,103,8],[100,1,100,3],[100,4,100,6],[100,7,100,8],[101,1,101,3],[101,4,101,6],[101,7,101,8],[90,1,90,3],[90,4,90,6],[90,7,90,8],[91,1,91,3],[91,4,91,6],[91,7,91,8],[88,1,88,3],[88,4,88,6],[88,7,88,8],[89,1,89,3],[89,4,89,6],[89,7,89,8],[94,1,94,3],[94,4,94,6],[94,7,94,8],[95,1,95,3],[95,4,95,6],[95,7,95,8],[92,1,92,3],[92,4,92,6],[92,7,92,8],[93,1,93,3],[93,4,93,6],[93,7,93,8],[82,1,82,3],[82,4,82,6],[82,7,82,8],[83,1,83,3],[83,4,83,6],[83,7,83,8],[80,1,80,3],[80,4,80,6],[80,7,80,8],[81,1,81,3],[81,4,81,6],[81,7,81,8],[86,1,86,3],[86,4,86,6],[86,7,86,8],[87,1,87,3],[87,4,87,6],[87,7,87,8],[84,1,84,3],[84,4,84,6],[84,7,84,8],[85,1,85,3],[85,4,85,6],[85,7,85,8],[74,1,74,3],[74,4,74,6],[74,7,74,8],[75,1,75,3],[75,4,75,6],[75,7,75,8],[72,1,72,3],[72,4,72,6],[72,7,72,8],[73,1,73,3],[73,4,73,6],[73,7,73,8],[78,1,78,3],[78,4,78,6],[78,7,78,8],[79,1,79,3],[79,4,79,6],[79,7,79,8],[76,1,76,3],[76,4,76,6],[76,7,76,8],[77,1,77,3],[77,4,77,6],[77,7,77,8],[66,1,66,3],[66,4,66,6],[66,7,66,8],[67,1,67,3],[67,4,67,6],[67,7,67,8],[64,1,64,3],[64,4,64,6],[64,7,64,8],[65,1,65,3],[65,4,65,6],[65,7,65,8],[70,1,70,3],[70,4,70,6],[70,7,70,8],[71,1,71,3],[71,4,71,6],[71,7,71,8],[68,1,68,3],[68,4,68,6],[68,7,68,8],[69,1,69,3],[69,4,69,6],[69,7,69,8],[58,1,58,3],[58,4,58,6],[58,7,58,8],[59,1,59,3],[59,4,59,6],[59,7,59,8],[56,1,56,3],[56,4,56,6],[56,7,56,8],[57,1,57,3],[57,4,57,6],[57,7,57,8],[62,1,62,3],[62,4,62,6],[62,7,62,8],[63,1,63,3],[63,4,63,6],[63,7,63,8],[60,1,60,3],[60,4,60,6],[60,7,60,8],[61,1,61,3],[61,4,61,6],[61,7,61,8],[50,1,50,3],[50,4,50,6],[50,7,50,8],[51,1,51,3],[51,4,51,6],[51,7,51,8],[48,1,48,3],[48,4,48,6],[48,7,48,8],[49,1,49,3],[49,4,49,6],[49,7,49,8],[54,1,54,3],[54,4,54,6],[54,7,54,8],[55,1,55,3],[55,4,55,6],[55,7,55,8],[52,1,52,3],[52,4,52,6],[52,7,52,8],[53,1,53,3],[53,4,53,6],[53,7,53,8],[42,1,42,3],[42,4,42,6],[42,7,42,8],[43,1,43,3],[43,4,43,6],[43,7,43,8],[40,1,40,3],[40,4,40,6],[40,7,40,8],[41,1,41,3],[41,4,41,6],[41,7,41,8],[46,1,46,3],[46,4,46,6],[46,7,46,8],[47,1,47,3],[47,4,47,6],[47,7,47,8],[44,1,44,3],[44,4,44,6],[44,7,44,8],[45,1,45,3],[45,4,45,6],[45,7,45,8],[34,1,34,3],[34,4,34,6],[34,7,34,8],[35,1,35,3],[35,4,35,6],[35,7,35,8],[32,1,32,3],[32,4,32,6],[32,7,32,8],[33,1,33,3],[33,4,33,6],[33,7,33,8],[38,1,38,3],[38,4,38,6],[38,7,38,8],[39,1,39,3],[39,4,39,6],[39,7,39,8],[36,1,36,3],[36,4,36,6],[36,7,36,8],[37,1,37,3],[37,4,37,6],[37,7,37,8],[26,1,26,3],[26,4,26,6],[26,7,26,8],[27,1,27,3],[27,4,27,6],[27,7,27,8],[24,1,24,3],[24,4,24,6],[24,7,24,8],[25,1,25,3],[25,4,25,6],[25,7,25,8],[30,1,30,3],[30,4,30,6],[30,7,30,8],[31,1,31,3],[31,4,31,6],[31,7,31,8],[28,1,28,3],[28,4,28,6],[28,7,28,8],[29,1,29,3],[29,4,29,6],[29,7,29,8],[19,1,19,3],[19,4,19,6],[19,7,19,8],[16,1,16,3],[16,4,16,6],[16,7,16,8],[17,1,17,3],[17,4,17,6],[17,7,17,8],[18,1,18,3],[18,4,18,6],[18,7,18,8],[22,1,22,3],[22,4,22,6],[22,7,22,8],[23,1,23,3],[23,4,23,6],[23,7,23,8],[20,1,20,3],[20,4,20,6],[20,7,20,8],[21,1,21,3],[21,4,21,6],[21,7,21,8],[14,0,15,0],[14,1,15,9],[14,10,15,10],[14,11,15,11],[14,14,14,16],[15,15,15,16],[1,0,1,16],[4,0,4,10],[4,13,5,16],[5,0,11,11],[6,13,7,16],[9,13,9,16],[11,13,11,15],[3,0,3,10],[13,0,13,16],[2,13,2,16]]}
["様式-1-（1）"]
["商　品　中　古　自　動　車　証　明　申　請　書"]
[null,null,null,null,null,null,null,null,null,null,null,null,null,"（コード番号　　　　　　　　　　　　）"]
["一般財団法人日本自動車査定協会",null,null,null,null,null,null,null,null,null,null,null,"令和　　　年　　　　月　　　　日"]
["香川県支所長　殿",null,null,null,null,null,null,null,null,null,null,null,"申請者住所",{"$f":"入力シート!$C$6&\"\"","v":"高松市番町４－１－１０"}]
["商品中古自動車確認証明業務実施要領に基づき下記の自動車が\n商品中古自動車であることの証明を申請します。\nなお、下記の自動車が商品自動車であること及び記載事項に相違\nないこと並びに現地調査が行われる場合には協力することを確約\n致します。"]
[null,null,null,null,null,null,null,null,null,null,null,null,"申請者名",{"$f":"入力シート!$C$7&\"\"","v":"株式会社香川県庁自動車"}]
[]
[null,null,null,null,null,null,null,null,null,null,null,null,"代表者名",{"$f":"入力シート!$C$8&\"\"","v":"代表取締役　香川　けん"}]
[null,null,null,null,null,null,null,null,null,null,null,null,"（電話番号）",{"$f":"入力シート!$C$9&\"\"","v":"087-１１1-1111"}]
[]
[null,null,null,null,null,null,null,null,null,null,null,null,"古物商許可番号",{"$f":"入力シート!$C$10&\"\"","v":"12345678"}]
[]
["記"]
["№","登録番号",null,null,null,null,null,null,null,null,"登録年月日","車台番号","車名又は","展示場名","調査"]
[null,null,null,null,null,null,null,null,null,null,null,null,"ペットネーム","（４月１日現在）","月　 日","結　果"]
[{"$f":"入力シート!A21","v":1},{"$f":"入力シート!B21&\"\"","v":"香"},null,null,{"$f":"入力シート!C21&\"\"","v":"501"},null,null,{"$f":"入力シート!D21&\"\"","v":"あ"},null,{"$f":"入力シート!E21&\"\"","v":"2"},{"$f":"IF(入力シート!F21=0,\"\",入力シート!F21)","v":"2021-11-18"},{"$f":"入力シート!I21&\"\"","v":"ZZZ80-044592"},{"$f":"入力シート!J21&\"\"","v":"ホンタオブユーケー　シビック"},{"$f":"入力シート!K21&\"\"","v":"県税支店"},"・","現","帳"]
[{"$f":"入力シート!A22","v":2},{"$f":"入力シート!B22&\"\"","v":"香"},null,null,{"$f":"入力シート!C22&\"\"","v":"501"},null,null,{"$f":"入力シート!D22&\"\"","v":"く"},null,{"$f":"入力シート!E22&\"\"","v":"555"},{"$f":"IF(入力シート!F22=0,\"\",入力シート!F22)","v":"2021-11-30"},{"$f":"入力シート!I22&\"\"","v":"ZZZ80-044604"},{"$f":"入力シート!J22&\"\"","v":"ヴォルクスバーゲン"},{"$f":"入力シート!K22&\"\"","v":"西讃支店"},"・","現","帳"]
[{"$f":"入力シート!A23","v":3},{"$f":"入力シート!B23&\"\"","v":"香"},null,null,{"$f":"入力シート!C23&\"\"","v":"506"},null,null,{"$f":"入力シート!D23&\"\"","v":"く"},null,{"$f":"入力シート!E23&\"\"","v":"212"},{"$f":"IF(入力シート!F23=0,\"\",入力シート!F23)","v":"2021-11-23"},{"$f":"入力シート!I23&\"\"","v":"ZZZ80-044597"},{"$f":"入力シート!J23&\"\"","v":"ホンタ"},{"$f":"入力シート!K23&\"\"","v":"東讃支店"},"・","現","帳"]
[{"$f":"入力シート!A24","v":4},{"$f":"入力シート!B24&\"\"","v":"香"},null,null,{"$f":"入力シート!C24&\"\"","v":"522"},null,null,{"$f":"入力シート!D24&\"\"","v":"く"},null,{"$f":"入力シート!E24&\"\"","v":"41"},{"$f":"IF(入力シート!F24=0,\"\",入力シート!F24)","v":"2021-12-05"},{"$f":"入力シート!I24&\"\"","v":"ZZZ80-04460921583"},{"$f":"入力シート!J24&\"\"","v":"ホンタ"},{"$f":"入力シート!K24&\"\"","v":"県税支店"},"・","現","帳"]
[{"$f":"入力シート!A25","v":5},{"$f":"入力シート!B25&\"\"","v":"香"},null,null,{"$f":"入力シート!C25&\"\"","v":"555"},null,null,{"$f":"入力シート!D25&\"\"","v":"く"},null,{"$f":"入力シート!E25&\"\"","v":"7655"},{"$f":"IF(入力シート!F25=0,\"\",入力シート!F25)","v":"2021-11-25"},{"$f":"入力シート!I25&\"\"","v":"ZZZ80-044599"},{"$f":"入力シート!J25&\"\"","v":"マツタ"},{"$f":"入力シート!K25&\"\"","v":"小豆支店"},"・","現","帳"]
[{"$f":"入力シート!A26","v":6},{"$f":"入力シート!B26&\"\"","v":"香川"},null,null,{"$f":"入力シート!C26&\"\"","v":"111"},null,null,{"$f":"入力シート!D26&\"\"","v":"く"},null,{"$f":"入力シート!E26&\"\"","v":"3"},{"$f":"IF(入力シート!F26=0,\"\",入力シート!F26)","v":"2021-11-28"},{"$f":"入力シート!I26&\"\"","v":"ZZZ80-044602"},{"$f":"入力シート!J26&\"\"","v":"鈴本"},{"$f":"入力シート!K26&\"\"","v":"東讃支店"},"・","現","帳"]
[{"$f":"入力シート!A27","v":7},{"$f":"入力シート!B27&\"\"","v":"香川"},null,null,{"$f":"入力シート!C27&\"\"","v":"300"},null,null,{"$f":"入力シート!D27&\"\"","v":"き"},null,{"$f":"入力シート!E27&\"\"","v":"4562"},{"$f":"IF(入力シート!F27=0,\"\",入力シート!F27)","v":"2018-02-23"},{"$f":"入力シート!I27&\"\"","v":"ZZZ80-044587"},{"$f":"入力シート!J27&\"\"","v":"豊田"},{"$f":"入力シート!K27&\"\"","v":"県税支店"},"・","現","帳"]
[{"$f":"入力シート!A28","v":8},{"$f":"入力シート!B28&\"\"","v":"香川"},null,null,{"$f":"入力シート!C28&\"\"","v":"300"},null,null,{"$f":"入力シート!D28&\"\"","v":"く"},null,{"$f":"入力シート!E28&\"\"","v":"7525"},{"$f":"IF(入力シート!F28=0,\"\",入力シート!F28)","v":"2018-10-31"},{"$f":"入力シート!I28&\"\"","v":"ZZZ80-044588"},{"$f":"入力シート!J28&\"\"","v":"目産"},{"$f":"入力シート!K28&\"\"","v":"小豆支店"},"・","現","帳"]
[{"$f":"入力シート!A29","v":9},{"$f":"入力シート!B29&\"\"","v":"香川"},null,null,{"$f":"入力シート!C29&\"\"","v":"300"},null,null,{"$f":"入力シート!D29&\"\"","v":"こ"},null,{"$f":"入力シート!E29&\"\"","v":"1"},{"$f":"IF(入力シート!F29=0,\"\",入力シート!F29)","v":"2022-03-29"},{"$f":"入力シート!I29&\"\"","v":"ZZZ３０-1501219"},{"$f":"入力シート!J29&\"\"","v":"ホンタ"},{"$f":"入力シート!K29&\"\"","v":"本店"},"・","現","帳"]
[{"$f":"入力シート!A30","v":10},{"$f":"入力シート!B30&\"\"","v":"香川"},null,null,{"$f":"入力シート!C30&\"\"","v":"325"},null,null,{"$f":"入力シート!D30&\"\"","v":"く"},null,{"$f":"入力シート!E30&\"\"","v":"21"},{"$f":"IF(入力シート!F30=0,\"\",入力シート!F30)","v":"2021-11-27"},{"$f":"入力シート!I30&\"\"","v":"ZZZ80-044601"},{"$f":"入力シート!J30&\"\"","v":"ホンタ"},{"$f":"入力シート!K30&\"\"","v":"西讃支店"},"・","現","帳"]
[{"$f":"入力シート!A31","v":11},{"$f":"入力シート!B31&\"\"","v":"香川"},null,null,{"$f":"入力シート!C31&\"\"","v":"333"},null,null,{"$f":"入力シート!D31&\"\"","v":"く"},null,{"$f":"入力シート!E31&\"\"","v":"7569"},{"$f":"IF(入力シート!F31=0,\"\",入力シート!F31)","v":"2021-11-24"},{"$f":"入力シート!I31&\"\"","v":"ZZZ80-044598"},{"$f":"入力シート!J31&\"\"","v":"目産"},{"$f":"入力シート!K31&\"\"","v":"県税支店"},"・","現","帳"]
[{"$f":"入力シート!A32","v":12},{"$f":"入力シート!B32&\"\"","v":"香川"},null,null,{"$f":"入力シート!C32&\"\"","v":"500"},null,null,{"$f":"入力シート!D32&\"\"","v":"か"},null,{"$f":"入力シート!E32&\"\"","v":"4489"},{"$f":"IF(入力シート!F32=0,\"\",入力シート!F32)","v":"2021-12-15"},{"$f":"入力シート!I32&\"\"","v":"ZZZ80-044590"},{"$f":"入力シート!J32&\"\"","v":"鈴本"},{"$f":"入力シート!K32&\"\"","v":"西讃支店"},"・","現","帳"]
[{"$f":"入力シート!A33","v":13},{"$f":"入力シート!B33&\"\"","v":"香川"},null,null,{"$f":"入力シート!C33&\"\"","v":"500"},null,null,{"$f":"入力シート!D33&\"\"","v":"け"},null,{"$f":"入力シート!E33&\"\"","v":"7375"},{"$f":"IF(入力シート!F33=0,\"\",入力シート!F33)","v":"2021-08-04"},{"$f":"入力シート!I33&\"\"","v":"ZZZ80-044589"},{"$f":"入力シート!J33&\"\"","v":"マツタ"},{"$f":"入力シート!K33&\"\"","v":"中讃支店"},"・","現","帳"]
[{"$f":"入力シート!A34","v":14},{"$f":"入力シート!B34&\"\"","v":"香川"},null,null,{"$f":"入力シート!C34&\"\"","v":"500"},null,null,{"$f":"入力シート!D34&\"\"","v":"こ"},null,{"$f":"入力シート!E34&\"\"","v":"1569"},{"$f":"IF(入力シート!F34=0,\"\",入力シート!F34)","v":"2021-11-17"},{"$f":"入力シート!I34&\"\"","v":"ZZZ80-044591"},{"$f":"入力シート!J34&\"\"","v":"ホンタ"},{"$f":"入力シート!K34&\"\"","v":"東讃支店"},"・","現","帳"]
[{"$f":"入力シート!A35","v":15},{"$f":"入力シート!B35&\"\"","v":"香川"},null,null,{"$f":"入力シート!C35&\"\"","v":"504"},null,null,{"$f":"入力シート!D35&\"\"","v":"い"},null,{"$f":"入力シート!E35&\"\"","v":"42"},{"$f":"IF(入力シート!F35=0,\"\",入力シート!F35)","v":"2021-11-21"},{"$f":"入力シート!I35&\"\"","v":"ZZZ80-044595"},{"$f":"入力シート!J35&\"\"","v":"マツタ"},{"$f":"入力シート!K35&\"\"","v":"西讃支店"},"・","現","帳"]
[{"$f":"入力シート!A36","v":16},{"$f":"入力シート!B36&\"\"","v":"香川"},null,null,{"$f":"入力シート!C36&\"\"","v":"505"},null,null,{"$f":"入力シート!D36&\"\"","v":"り"},null,{"$f":"入力シート!E36&\"\"","v":"985"},{"$f":"IF(入力シート!F36=0,\"\",入力シート!F36)","v":"2021-11-22"},{"$f":"入力シート!I36&\"\"","v":"ZZZ80-044596"},{"$f":"入力シート!J36&\"\"","v":"鈴本"},{"$f":"入力シート!K36&\"\"","v":"東讃支店"},"・","現","帳"]
[{"$f":"入力シート!A37","v":17},{"$f":"入力シート!B37&\"\"","v":"香川"},null,null,{"$f":"入力シート!C37&\"\"","v":"566"},null,null,{"$f":"入力シート!D37&\"\"","v":"く"},null,{"$f":"入力シート!E37&\"\"","v":"4777"},{"$f":"IF(入力シート!F37=0,\"\",入力シート!F37)","v":"2021-11-29"},{"$f":"入力シート!I37&\"\"","v":"ZZZ80-044603"},{"$f":"入力シート!J37&\"\"","v":"ホンタ"},{"$f":"入力シート!K37&\"\"","v":"中讃支店"},"・","現","帳"]
[{"$f":"入力シート!A38","v":18},{"$f":"入力シート!B38&\"\"","v":"香川"},null,null,{"$f":"入力シート!C38&\"\"","v":"800"},null,null,{"$f":"入力シート!D38&\"\"","v":"く"},null,{"$f":"入力シート!E38&\"\"","v":"4563"},{"$f":"IF(入力シート!F38=0,\"\",入力シート!F38)","v":"2021-12-04"},{"$f":"入力シート!I38&\"\"","v":"ZZZ80-044608"},{"$f":"入力シート!J38&\"\"","v":"鈴本"},{"$f":"入力シート!K38&\"\"","v":"東讃支店"},"・","現","帳"]
[{"$f":"入力シート!A39","v":19},{"$f":"入力シート!B39&\"\"","v":"高松"},null,null,{"$f":"入力シート!C39&\"\"","v":"100"},null,null,{"$f":"入力シート!D39&\"\"","v":"く"},null,{"$f":"入力シート!E39&\"\"","v":"123"},{"$f":"IF(入力シート!F39=0,\"\",入力シート!F39)","v":"2021-12-02"},{"$f":"入力シート!I39&\"\"","v":"ZZZ80-044606"},{"$f":"入力シート!J39&\"\"","v":"マツタ"},{"$f":"入力シート!K39&\"\"","v":"県税支店"},"・","現","帳"]
[{"$f":"入力シート!A40","v":20},{"$f":"入力シート!B40&\"\"","v":"高松"},null,null,{"$f":"入力シート!C40&\"\"","v":"100"},null,null,{"$f":"入力シート!D40&\"\"","v":"く"},null,{"$f":"入力シート!E40&\"\"","v":"144"},{"$f":"IF(入力シート!F40=0,\"\",入力シート!F40)","v":"2021-11-26"},{"$f":"入力シート!I40&\"\"","v":"ZZZ80-044600"},{"$f":"入力シート!J40&\"\"","v":"鈴本"},{"$f":"入力シート!K40&\"\"","v":"中讃支店"},"・","現","帳"]
[{"$f":"入力シート!A41&\"\"","v":"21"},{"$f":"入力シート!B41&\"\"","v":"高松"},null,null,{"$f":"入力シート!C41&\"\"","v":"121"},null,null,{"$f":"入力シート!D41&\"\"","v":"く"},null,{"$f":"入力シート!E41&\"\"","v":"97"},{"$f":"IF(入力シート!F41=0,\"\",入力シート!F41)","v":"2021-12-03"},{"$f":"入力シート!I41&\"\"","v":"ZZZ80-044607"},{"$f":"入力シート!J41&\"\"","v":"鈴本"},{"$f":"入力シート!K41&\"\"","v":"小豆支店"},"・","現","帳"]
[{"$f":"入力シート!A42&\"\"","v":"22"},{"$f":"入力シート!B42&\"\"","v":"高松"},null,null,{"$f":"入力シート!C42&\"\"","v":"333"},null,null,{"$f":"入力シート!D42&\"\"","v":"く"},null,{"$f":"入力シート!E42&\"\"","v":"506"},{"$f":"IF(入力シート!F42=0,\"\",入力シート!F42)","v":"2021-12-01"},{"$f":"入力シート!I42&\"\"","v":"ZZZ80-044605"},{"$f":"入力シート!J42&\"\"","v":"目産"},{"$f":"入力シート!K42&\"\"","v":"東讃支店"},"・","現","帳"]
[{"$f":"入力シート!A43&\"\"","v":"23"},{"$f":"入力シート!B43&\"\"","v":"高松"},null,null,{"$f":"入力シート!C43&\"\"","v":"502"},null,null,{"$f":"入力シート!D43&\"\"","v":"わ"},null,{"$f":"入力シート!E43&\"\"","v":"1"},{"$f":"IF(入力シート!F43=0,\"\",入力シート!F43)","v":"2021-11-19"},{"$f":"入力シート!I43&\"\"","v":"ZZZ80-044593"},{"$f":"入力シート!J43&\"\"","v":"マツタ"},{"$f":"入力シート!K43&\"\"","v":"小豆支店"},"・","現","帳"]
[{"$f":"入力シート!A44&\"\"","v":"24"},{"$f":"入力シート!B44&\"\"","v":"高松"},null,null,{"$f":"入力シート!C44&\"\"","v":"503"},null,null,{"$f":"入力シート!D44&\"\"","v":"ら"},null,{"$f":"入力シート!E44&\"\"","v":"45"},{"$f":"IF(入力シート!F44=0,\"\",入力シート!F44)","v":"2021-11-20"},{"$f":"入力シート!I44&\"\"","v":"ZZZ80-044594"},{"$f":"入力シート!J44&\"\"","v":"鈴本"},{"$f":"入力シート!K44&\"\"","v":"中讃支店"},"・","現","帳"]
[{"$f":"入力シート!A45&\"\"","v":"25"},{"$f":"入力シート!B45&\"\"","v":"高松"},null,null,{"$f":"入力シート!C45&\"\"","v":"541"},null,null,{"$f":"入力シート!D45&\"\"","v":"く"},null,{"$f":"入力シート!E45&\"\"","v":"87"},{"$f":"IF(入力シート!F45=0,\"\",入力シート!F45)","v":"2021-12-06"},{"$f":"入力シート!I45&\"\"","v":"ZZZ80-044610"},{"$f":"入力シート!J45&\"\"","v":"豊田"},{"$f":"入力シート!K45&\"\"","v":"東讃支店"},"・","現","帳"]
[{"$f":"入力シート!A46&\"\"","v":"26"},{"$f":"入力シート!B46&\"\"","v":"高松"},null,null,{"$f":"入力シート!C46&\"\"","v":"542"},null,null,{"$f":"入力シート!D46&\"\"","v":"く"},null,{"$f":"入力シート!E46&\"\"","v":"87"},{"$f":"IF(入力シート!F46=0,\"\",入力シート!F46)","v":"2021-12-07"},{"$f":"入力シート!I46&\"\"","v":"ZZZ80-044611"},{"$f":"入力シート!J46&\"\"","v":"豊田"},{"$f":"入力シート!K46&\"\"","v":"東讃支店"},"・","現","帳"]
[{"$f":"入力シート!A47&\"\"","v":"27"},{"$f":"入力シート!B47&\"\"","v":"高松"},null,null,{"$f":"入力シート!C47&\"\"","v":"543"},null,null,{"$f":"入力シート!D47&\"\"","v":"く"},null,{"$f":"入力シート!E47&\"\"","v":"87"},{"$f":"IF(入力シート!F47=0,\"\",入力シート!F47)","v":"2021-12-08"},{"$f":"入力シート!I47&\"\"","v":"ZZZ80-044612"},{"$f":"入力シート!J47&\"\"","v":"豊田"},{"$f":"入力シート!K47&\"\"","v":"東讃支店"},"・","現","帳"]
[{"$f":"入力シート!A48&\"\"","v":"28"},{"$f":"入力シート!B48&\"\"","v":"高松"},null,null,{"$f":"入力シート!C48&\"\"","v":"544"},null,null,{"$f":"入力シート!D48&\"\"","v":"く"},null,{"$f":"入力シート!E48&\"\"","v":"87"},{"$f":"IF(入力シート!F48=0,\"\",入力シート!F48)","v":"2021-12-09"},{"$f":"入力シート!I48&\"\"","v":"ZZZ80-044613"},{"$f":"入力シート!J48&\"\"","v":"豊田"},{"$f":"入力シート!K48&\"\"","v":"東讃支店"},"・","現","帳"]
[{"$f":"入力シート!A49&\"\"","v":"29"},{"$f":"入力シート!B49&\"\"","v":"高松"},null,null,{"$f":"入力シート!C49&\"\"","v":"545"},null,null,{"$f":"入力シート!D49&\"\"","v":"く"},null,{"$f":"入力シート!E49&\"\"","v":"87"},{"$f":"IF(入力シート!F49=0,\"\",入力シート!F49)","v":"2021-12-10"},{"$f":"入力シート!I49&\"\"","v":"ZZZ80-044614"},{"$f":"入力シート!J49&\"\"","v":"豊田"},{"$f":"入力シート!K49&\"\"","v":"東讃支店"},"・","現","帳"]
[{"$f":"入力シート!A50&\"\"","v":"30"},{"$f":"入力シート!B50&\"\"","v":"高松"},null,null,{"$f":"入力シート!C50&\"\"","v":"546"},null,null,{"$f":"入力シート!D50&\"\"","v":"く"},null,{"$f":"入力シート!E50&\"\"","v":"87"},{"$f":"IF(入力シート!F50=0,\"\",入力シート!F50)","v":"2021-12-11"},{"$f":"入力シート!I50&\"\"","v":"ZZZ80-044615"},{"$f":"入力シート!J50&\"\"","v":"豊田"},{"$f":"入力シート!K50&\"\"","v":"東讃支店"},"・","現","帳"]
[{"$f":"入力シート!A51&\"\"","v":"31"},{"$f":"入力シート!B51&\"\"","v":"高松"},null,null,{"$f":"入力シート!C51&\"\"","v":"547"},null,null,{"$f":"入力シート!D51&\"\"","v":"く"},null,{"$f":"入力シート!E51&\"\"","v":"87"},{"$f":"IF(入力シート!F51=0,\"\",入力シート!F51)","v":"2021-12-12"},{"$f":"入力シート!I51&\"\"","v":"ZZZ80-044616"},{"$f":"入力シート!J51&\"\"","v":"豊田"},{"$f":"入力シート!K51&\"\"","v":"東讃支店"},"・","現","帳"]
[{"$f":"入力シート!A52&\"\"","v":"32"},{"$f":"入力シート!B52&\"\"","v":"高松"},null,null,{"$f":"入力シート!C52&\"\"","v":"548"},null,null,{"$f":"入力シート!D52&\"\"","v":"く"},null,{"$f":"入力シート!E52&\"\"","v":"87"},{"$f":"IF(入力シート!F52=0,\"\",入力シート!F52)","v":"2021-12-13"},{"$f":"入力シート!I52&\"\"","v":"ZZZ80-044617"},{"$f":"入力シート!J52&\"\"","v":"豊田"},{"$f":"入力シート!K52&\"\"","v":"東讃支店"},"・","現","帳"]
[{"$f":"入力シート!A53&\"\"","v":"33"},{"$f":"入力シート!B53&\"\"","v":"高松"},null,null,{"$f":"入力シート!C53&\"\"","v":"549"},null,null,{"$f":"入力シート!D53&\"\"","v":"く"},null,{"$f":"入力シート!E53&\"\"","v":"87"},{"$f":"IF(入力シート!F53=0,\"\",入力シート!F53)","v":"2021-12-14"},{"$f":"入力シート!I53&\"\"","v":"ZZZ80-044618"},{"$f":"入力シート!J53&\"\"","v":"豊田"},{"$f":"入力シート!K53&\"\"","v":"東讃支店"},"・","現","帳"]
[{"$f":"入力シート!A54&\"\"","v":"34"},{"$f":"入力シート!B54&\"\"","v":"高松"},null,null,{"$f":"入力シート!C54&\"\"","v":"550"},null,null,{"$f":"入力シート!D54&\"\"","v":"く"},null,{"$f":"入力シート!E54&\"\"","v":"87"},{"$f":"IF(入力シート!F54=0,\"\",入力シート!F54)","v":"2021-12-15"},{"$f":"入力シート!I54&\"\"","v":"ZZZ80-044619"},{"$f":"入力シート!J54&\"\"","v":"豊田"},{"$f":"入力シート!K54&\"\"","v":"東讃支店"},"・","現","帳"]
[{"$f":"入力シート!A55&\"\"","v":"35"},{"$f":"入力シート!B55&\"\"","v":"高松"},null,null,{"$f":"入力シート!C55&\"\"","v":"551"},null,null,{"$f":"入力シート!D55&\"\"","v":"く"},null,{"$f":"入力シート!E55&\"\"","v":"87"},{"$f":"IF(入力シート!F55=0,\"\",入力シート!F55)","v":"2021-12-16"},{"$f":"入力シート!I55&\"\"","v":"ZZZ80-044620"},{"$f":"入力シート!J55&\"\"","v":"豊田"},{"$f":"入力シート!K55&\"\"","v":"東讃支店"},"・","現","帳"]
[{"$f":"入力シート!A56&\"\"","v":"36"},{"$f":"入力シート!B56&\"\"","v":"高松"},null,null,{"$f":"入力シート!C56&\"\"","v":"552"},null,null,{"$f":"入力シート!D56&\"\"","v":"く"},null,{"$f":"入力シート!E56&\"\"","v":"87"},{"$f":"IF(入力シート!F56=0,\"\",入力シート!F56)","v":"2021-12-17"},{"$f":"入力シート!I56&\"\"","v":"ZZZ80-044621"},{"$f":"入力シート!J56&\"\"","v":"豊田"},{"$f":"入力シート!K56&\"\"","v":"東讃支店"},"・","現","帳"]
[{"$f":"入力シート!A57&\"\"","v":"37"},{"$f":"入力シート!B57&\"\"","v":"高松"},null,null,{"$f":"入力シート!C57&\"\"","v":"553"},null,null,{"$f":"入力シート!D57&\"\"","v":"く"},null,{"$f":"入力シート!E57&\"\"","v":"87"},{"$f":"IF(入力シート!F57=0,\"\",入力シート!F57)","v":"2021-12-18"},{"$f":"入力シート!I57&\"\"","v":"ZZZ80-044622"},{"$f":"入力シート!J57&\"\"","v":"豊田"},{"$f":"入力シート!K57&\"\"","v":"東讃支店"},"・","現","帳"]
[{"$f":"入力シート!A58&\"\"","v":"38"},{"$f":"入力シート!B58&\"\"","v":"高松"},null,null,{"$f":"入力シート!C58&\"\"","v":"554"},null,null,{"$f":"入力シート!D58&\"\"","v":"く"},null,{"$f":"入力シート!E58&\"\"","v":"87"},{"$f":"IF(入力シート!F58=0,\"\",入力シート!F58)","v":"2021-12-19"},{"$f":"入力シート!I58&\"\"","v":"ZZZ80-044623"},{"$f":"入力シート!J58&\"\"","v":"豊田"},{"$f":"入力シート!K58&\"\"","v":"東讃支店"},"・","現","帳"]
[{"$f":"入力シート!A59&\"\"","v":"39"},{"$f":"入力シート!B59&\"\"","v":"高松"},null,null,{"$f":"入力シート!C59&\"\"","v":"555"},null,null,{"$f":"入力シート!D59&\"\"","v":"く"},null,{"$f":"入力シート!E59&\"\"","v":"87"},{"$f":"IF(入力シート!F59=0,\"\",入力シート!F59)","v":"2021-12-20"},{"$f":"入力シート!I59&\"\"","v":"ZZZ80-044624"},{"$f":"入力シート!J59&\"\"","v":"豊田"},{"$f":"入力シート!K59&\"\"","v":"東讃支店"},"・","現","帳"]
[{"$f":"入力シート!A60&\"\"","v":"40"},{"$f":"入力シート!B60&\"\"","v":"高松"},null,null,{"$f":"入力シート!C60&\"\"","v":"556"},null,null,{"$f":"入力シート!D60&\"\"","v":"く"},null,{"$f":"入力シート!E60&\"\"","v":"87"},{"$f":"IF(入力シート!F60=0,\"\",入力シート!F60)","v":"2021-12-21"},{"$f":"入力シート!I60&\"\"","v":"ZZZ80-044625"},{"$f":"入力シート!J60&\"\"","v":"豊田"},{"$f":"入力シート!K60&\"\"","v":"東讃支店"},"・","現","帳"]
[{"$f":"入力シート!A61&\"\"","v":"41"},{"$f":"入力シート!B61&\"\"","v":"高松"},null,null,{"$f":"入力シート!C61&\"\"","v":"557"},null,null,{"$f":"入力シート!D61&\"\"","v":"く"},null,{"$f":"入力シート!E61&\"\"","v":"87"},{"$f":"IF(入力シート!F61=0,\"\",入力シート!F61)","v":"2021-12-22"},{"$f":"入力シート!I61&\"\"","v":"ZZZ80-044626"},{"$f":"入力シート!J61&\"\"","v":"豊田"},{"$f":"入力シート!K61&\"\"","v":"東讃支店"},"・","現","帳"]
[{"$f":"入力シート!A62&\"\"","v":"42"},{"$f":"入力シート!B62&\"\"","v":"高松"},null,null,{"$f":"入力シート!C62&\"\"","v":"558"},null,null,{"$f":"入力シート!D62&\"\"","v":"く"},null,{"$f":"入力シート!E62&\"\"","v":"87"},{"$f":"IF(入力シート!F62=0,\"\",入力シート!F62)","v":"2021-12-23"},{"$f":"入力シート!I62&\"\"","v":"ZZZ80-044627"},{"$f":"入力シート!J62&\"\"","v":"豊田"},{"$f":"入力シート!K62&\"\"","v":"東讃支店"},"・","現","帳"]
[{"$f":"入力シート!A63&\"\"","v":"43"},{"$f":"入力シート!B63&\"\"","v":"高松"},null,null,{"$f":"入力シート!C63&\"\"","v":""},null,null,{"$f":"入力シート!D63&\"\"","v":""},null,{"$f":"入力シート!E63&\"\"","v":""},{"$f":"IF(入力シート!F63=0,\"\",入力シート!F63)","v":""},{"$f":"入力シート!I63&\"\"","v":""},{"$f":"入力シート!J63&\"\"","v":""},{"$f":"入力シート!K63&\"\"","v":""},"・","現","帳"]
[{"$f":"入力シート!A64&\"\"","v":"44"},{"$f":"入力シート!B64&\"\"","v":"高松"},null,null,{"$f":"入力シート!C64&\"\"","v":""},null,null,{"$f":"入力シート!D64&\"\"","v":""},null,{"$f":"入力シート!E64&\"\"","v":""},{"$f":"IF(入力シート!F64=0,\"\",入力シート!F64)","v":""},{"$f":"入力シート!I64&\"\"","v":""},{"$f":"入力シート!J64&\"\"","v":""},{"$f":"入力シート!K64&\"\"","v":""},"・","現","帳"]
[{"$f":"入力シート!A65&\"\"","v":"45"},{"$f":"入力シート!B65&\"\"","v":"高松"},null,null,{"$f":"入力シート!C65&\"\"","v":""},null,null,{"$f":"入力シート!D65&\"\"","v":""},null,{"$f":"入力シート!E65&\"\"","v":""},{"$f":"IF(入力シート!F65=0,\"\",入力シート!F65)","v":""},{"$f":"入力シート!I65&\"\"","v":""},{"$f":"入力シート!J65&\"\"","v":""},{"$f":"入力シート!K65&\"\"","v":""},"・","現","帳"]
[{"$f":"入力シート!A66&\"\"","v":"46"},{"$f":"入力シート!B66&\"\"","v":"高松"},null,null,{"$f":"入力シート!C66&\"\"","v":""},null,null,{"$f":"入力シート!D66&\"\"","v":""},null,{"$f":"入力シート!E66&\"\"","v":""},{"$f":"IF(入力シート!F66=0,\"\",入力シート!F66)","v":""},{"$f":"入力シート!I66&\"\"","v":""},{"$f":"入力シート!J66&\"\"","v":""},{"$f":"入力シート!K66&\"\"","v":""},"・","現","帳"]
[{"$f":"入力シート!A67&\"\"","v":"47"},{"$f":"入力シート!B67&\"\"","v":"高松"},null,null,{"$f":"入力シート!C67&\"\"","v":""},null,null,{"$f":"入力シート!D67&\"\"","v":""},null,{"$f":"入力シート!E67&\"\"","v":""},{"$f":"IF(入力シート!F67=0,\"\",入力シート!F67)","v":""},{"$f":"入力シート!I67&\"\"","v":""},{"$f":"入力シート!J67&\"\"","v":""},{"$f":"入力シート!K67&\"\"","v":""},"・","現","帳"]
[{"$f":"入力シート!A68&\"\"","v":"48"},{"$f":"入力シート!B68&\"\"","v":"高松"},null,null,{"$f":"入力シート!C68&\"\"","v":""},null,null,{"$f":"入力シート!D68&\"\"","v":""},null,{"$f":"入力シート!E68&\"\"","v":""},{"$f":"IF(入力シート!F68=0,\"\",入力シート!F68)","v":""},{"$f":"入力シート!I68&\"\"","v":""},{"$f":"入力シート!J68&\"\"","v":""},{"$f":"入力シート!K68&\"\"","v":""},"・","現","帳"]
[{"$f":"入力シート!A69&\"\"","v":"49"},{"$f":"入力シート!B69&\"\"","v":"高松"},null,null,{"$f":"入力シート!C69&\"\"","v":""},null,null,{"$f":"入力シート!D69&\"\"","v":""},null,{"$f":"入力シート!E69&\"\"","v":""},{"$f":"IF(入力シート!F69=0,\"\",入力シート!F69)","v":""},{"$f":"入力シート!I69&\"\"","v":""},{"$f":"入力シート!J69&\"\"","v":""},{"$f":"入力シート!K69&\"\"","v":""},"・","現","帳"]
[{"$f":"入力シート!A70&\"\"","v":"50"},{"$f":"入力シート!B70&\"\"","v":"高松"},null,null,{"$f":"入力シート!C70&\"\"","v":""},null,null,{"$f":"入力シート!D70&\"\"","v":""},null,{"$f":"入力シート!E70&\"\"","v":""},{"$f":"IF(入力シート!F70=0,\"\",入力シート!F70)","v":""},{"$f":"入力シート!I70&\"\"","v":""},{"$f":"入力シート!J70&\"\"","v":""},{"$f":"入力シート!K70&\"\"","v":""},"・","現","帳"]
[{"$f":"入力シート!A71&\"\"","v":"51"},{"$f":"入力シート!B71&\"\"","v":"高松"},null,null,{"$f":"入力シート!C71&\"\"","v":""},null,null,{"$f":"入力シート!D71&\"\"","v":""},null,{"$f":"入力シート!E71&\"\"","v":""},{"$f":"IF(入力シート!F71=0,\"\",入力シート!F71)","v":""},{"$f":"入力シート!I71&\"\"","v":""},{"$f":"入力シート!J71&\"\"","v":""},{"$f":"入力シート!K71&\"\"","v":""},"・","現","帳"]
[{"$f":"入力シート!A72&\"\"","v":"52"},{"$f":"入力シート!B72&\"\"","v":"高松"},null,null,{"$f":"入力シート!C72&\"\"","v":""},null,null,{"$f":"入力シート!D72&\"\"","v":""},null,{"$f":"入力シート!E72&\"\"","v":""},{"$f":"IF(入力シート!F72=0,\"\",入力シート!F72)","v":""},{"$f":"入力シート!I72&\"\"","v":""},{"$f":"入力シート!J72&\"\"","v":""},{"$f":"入力シート!K72&\"\"","v":""},"・","現","帳"]
[{"$f":"入力シート!A73&\"\"","v":"53"},{"$f":"入力シート!B73&\"\"","v":"高松"},null,null,{"$f":"入力シート!C73&\"\"","v":""},null,null,{"$f":"入力シート!D73&\"\"","v":""},null,{"$f":"入力シート!E73&\"\"","v":""},{"$f":"IF(入力シート!F73=0,\"\",入力シート!F73)","v":""},{"$f":"入力シート!I73&\"\"","v":""},{"$f":"入力シート!J73&\"\"","v":""},{"$f":"入力シート!K73&\"\"","v":""},"・","現","帳"]
[{"$f":"入力シート!A74&\"\"","v":"54"},{"$f":"入力シート!B74&\"\"","v":"高松"},null,null,{"$f":"入力シート!C74&\"\"","v":""},null,null,{"$f":"入力シート!D74&\"\"","v":""},null,{"$f":"入力シート!E74&\"\"","v":""},{"$f":"IF(入力シート!F74=0,\"\",入力シート!F74)","v":""},{"$f":"入力シート!I74&\"\"","v":""},{"$f":"入力シート!J74&\"\"","v":""},{"$f":"入力シート!K74&\"\"","v":""},"・","現","帳"]
[{"$f":"入力シート!A75&\"\"","v":"55"},{"$f":"入力シート!B75&\"\"","v":"高松"},null,null,{"$f":"入力シート!C75&\"\"","v":""},null,null,{"$f":"入力シート!D75&\"\"","v":""},null,{"$f":"入力シート!E75&\"\"","v":""},{"$f":"IF(入力シート!F75=0,\"\",入力シート!F75)","v":""},{"$f":"入力シート!I75&\"\"","v":""},{"$f":"入力シート!J75&\"\"","v":""},{"$f":"入力シート!K75&\"\"","v":""},"・","現","帳"]
[{"$f":"入力シート!A76&\"\"","v":"56"},{"$f":"入力シート!B76&\"\"","v":"高松"},null,null,{"$f":"入力シート!C76&\"\"","v":""},null,null,{"$f":"入力シート!D76&\"\"","v":""},null,{"$f":"入力シート!E76&\"\"","v":""},{"$f":"IF(入力シート!F76=0,\"\",入力シート!F76)","v":""},{"$f":"入力シート!I76&\"\"","v":""},{"$f":"入力シート!J76&\"\"","v":""},{"$f":"入力シート!K76&\"\"","v":""},"・","現","帳"]
[{"$f":"入力シート!A77&\"\"","v":"57"},{"$f":"入力シート!B77&\"\"","v":"高松"},null,null,{"$f":"入力シート!C77&\"\"","v":""},null,null,{"$f":"入力シート!D77&\"\"","v":""},null,{"$f":"入力シート!E77&\"\"","v":""},{"$f":"IF(入力シート!F77=0,\"\",入力シート!F77)","v":""},{"$f":"入力シート!I77&\"\"","v":""},{"$f":"入力シート!J77&\"\"","v":""},{"$f":"入力シート!K77&\"\"","v":""},"・","現","帳"]
[{"$f":"入力シート!A78&\"\"","v":"58"},{"$f":"入力シート!B78&\"\"","v":"高松"},null,null,{"$f":"入力シート!C78&\"\"","v":""},null,null,{"$f":"入力シート!D78&\"\"","v":""},null,{"$f":"入力シート!E78&\"\"","v":""},{"$f":"IF(入力シート!F78=0,\"\",入力シート!F78)","v":""},{"$f":"入力シート!I78&\"\"","v":""},{"$f":"入力シート!J78&\"\"","v":""},{"$f":"入力シート!K78&\"\"","v":""},"・","現","帳"]
[{"$f":"入力シート!A79&\"\"","v":"59"},{"$f":"入力シート!B79&\"\"","v":"高松"},null,null,{"$f":"入力シート!C79&\"\"","v":""},null,null,{"$f":"入力シート!D79&\"\"","v":""},null,{"$f":"入力シート!E79&\"\"","v":""},{"$f":"IF(入力シート!F79=0,\"\",入力シート!F79)","v":""},{"$f":"入力シート!I79&\"\"","v":""},{"$f":"入力シート!J79&\"\"","v":""},{"$f":"入力シート!K79&\"\"","v":""},"・","現","帳"]
[{"$f":"入力シート!A80&\"\"","v":"60"},{"$f":"入力シート!B80&\"\"","v":"高松"},null,null,{"$f":"入力シート!C80&\"\"","v":""},null,null,{"$f":"入力シート!D80&\"\"","v":""},null,{"$f":"入力シート!E80&\"\"","v":""},{"$f":"IF(入力シート!F80=0,\"\",入力シート!F80)","v":""},{"$f":"入力シート!I80&\"\"","v":""},{"$f":"入力シート!J80&\"\"","v":""},{"$f":"入力シート!K80&\"\"","v":""},"・","現","帳"]
[{"$f":"入力シート!A81&\"\"","v":"61"},{"$f":"入力シート!B81&\"\"","v":"高松"},null,null,{"$f":"入力シート!C81&\"\"","v":""},null,null,{"$f":"入力シート!D81&\"\"","v":""},null,{"$f":"入力シート!E81&\"\"","v":""},{"$f":"IF(入力シート!F81=0,\"\",入力シート!F81)","v":""},{"$f":"入力シート!I81&\"\"","v":""},{"$f":"入力シート!J81&\"\"","v":""},{"$f":"入力シート!K81&\"\"","v":""},"・","現","帳"]
[{"$f":"入力シート!A82&\"\"","v":"62"},{"$f":"入力シート!B82&\"\"","v":"高松"},null,null,{"$f":"入力シート!C82&\"\"","v":""},null,null,{"$f":"入力シート!D82&\"\"","v":""},null,{"$f":"入力シート!E82&\"\"","v":""},{"$f":"IF(入力シート!F82=0,\"\",入力シート!F82)","v":""},{"$f":"入力シート!I82&\"\"","v":""},{"$f":"入力シート!J82&\"\"","v":""},{"$f":"入力シート!K82&\"\"","v":""},"・","現","帳"]
[{"$f":"入力シート!A83&\"\"","v":"63"},{"$f":"入力シート!B83&\"\"","v":"高松"},null,null,{"$f":"入力シート!C83&\"\"","v":""},null,null,{"$f":"入力シート!D83&\"\"","v":""},null,{"$f":"入力シート!E83&\"\"","v":""},{"$f":"IF(入力シート!F83=0,\"\",入力シート!F83)","v":""},{"$f":"入力シート!I83&\"\"","v":""},{"$f":"入力シート!J83&\"\"","v":""},{"$f":"入力シート!K83&\"\"","v":""},"・","現","帳"]
[{"$f":"入力シート!A84&\"\"","v":"64"},{"$f":"入力シート!B84&\"\"","v":"高松"},null,null,{"$f":"入力シート!C84&\"\"","v":""},null,null,{"$f":"入力シート!D84&\"\"","v":""},null,{"$f":"入力シート!E84&\"\"","v":""},{"$f":"IF(入力シート!F84=0,\"\",入力シート!F84)","v":""},{"$f":"入力シート!I84&\"\"","v":""},{"$f":"入力シート!J84&\"\"","v":""},{"$f":"入力シート!K84&\"\"","v":""},"・","現","帳"]
[{"$f":"入力シート!A85&\"\"","v":"65"},{"$f":"入力シート!B85&\"\"","v":"高松"},null,null,{"$f":"入力シート!C85&\"\"","v":""},null,null,{"$f":"入力シート!D85&\"\"","v":""},null,{"$f":"入力シート!E85&\"\"","v":""},{"$f":"IF(入力シート!F85=0,\"\",入力シート!F85)","v":""},{"$f":"入力シート!I85&\"\"","v":""},{"$f":"入力シート!J85&\"\"","v":""},{"$f":"入力シート!K85&\"\"","v":""},"・","現","帳"]
[{"$f":"入力シート!A86&\"\"","v":"66"},{"$f":"入力シート!B86&\"\"","v":"高松"},null,null,{"$f":"入力シート!C86&\"\"","v":""},null,null,{"$f":"入力シート!D86&\"\"","v":""},null,{"$f":"入力シート!E86&\"\"","v":""},{"$f":"IF(入力シート!F86=0,\"\",入力シート!F86)","v":""},{"$f":"入力シート!I86&\"\"","v":""},{"$f":"入力シート!J86&\"\"","v":""},{"$f":"入力シート!K86&\"\"","v":""},"・","現","帳"]
[{"$f":"入力シート!A87&\"\"","v":"67"},{"$f":"入力シート!B87&\"\"","v":"高松"},null,null,{"$f":"入力シート!C87&\"\"","v":""},null,null,{"$f":"入力シート!D87&\"\"","v":""},null,{"$f":"入力シート!E87&\"\"","v":""},{"$f":"IF(入力シート!F87=0,\"\",入力シート!F87)","v":""},{"$f":"入力シート!I87&\"\"","v":""},{"$f":"入力シート!J87&\"\"","v":""},{"$f":"入力シート!K87&\"\"","v":""},"・","現","帳"]
[{"$f":"入力シート!A88&\"\"","v":"68"},{"$f":"入力シート!B88&\"\"","v":"高松"},null,null,{"$f":"入力シート!C88&\"\"","v":""},null,null,{"$f":"入力シート!D88&\"\"","v":""},null,{"$f":"入力シート!E88&\"\"","v":""},{"$f":"IF(入力シート!F88=0,\"\",入力シート!F88)","v":""},{"$f":"入力シート!I88&\"\"","v":""},{"$f":"入力シート!J88&\"\"","v":""},{"$f":"入力シート!K88&\"\"","v":""},"・","現","帳"]
[{"$f":"入力シート!A89&\"\"","v":"69"},{"$f":"入力シート!B89&\"\"","v":"高松"},null,null,{"$f":"入力シート!C89&\"\"","v":""},null,null,{"$f":"入力シート!D89&\"\"","v":""},null,{"$f":"入力シート!E89&\"\"","v":""},{"$f":"IF(入力シート!F89=0,\"\",入力シート!F89)","v":""},{"$f":"入力シート!I89&\"\"","v":""},{"$f":"入力シート!J89&\"\"","v":""},{"$f":"入力シート!K89&\"\"","v":""},"・","現","帳"]
[{"$f":"入力シート!A90&\"\"","v":"70"},{"$f":"入力シート!B90&\"\"","v":"高松"},null,null,{"$f":"入力シート!C90&\"\"","v":""},null,null,{"$f":"入力シート!D90&\"\"","v":""},null,{"$f":"入力シート!E90&\"\"","v":""},{"$f":"IF(入力シート!F90=0,\"\",入力シート!F90)","v":""},{"$f":"入力シート!I90&\"\"","v":""},{"$f":"入力シート!J90&\"\"","v":""},{"$f":"入力シート!K90&\"\"","v":""},"・","現","帳"]
[{"$f":"入力シート!A91&\"\"","v":"71"},{"$f":"入力シート!B91&\"\"","v":"高松"},null,null,{"$f":"入力シート!C91&\"\"","v":""},null,null,{"$f":"入力シート!D91&\"\"","v":""},null,{"$f":"入力シート!E91&\"\"","v":""},{"$f":"IF(入力シート!F91=0,\"\",入力シート!F91)","v":""},{"$f":"入力シート!I91&\"\"","v":""},{"$f":"入力シート!J91&\"\"","v":""},{"$f":"入力シート!K91&\"\"","v":""},"・","現","帳"]
[{"$f":"入力シート!A92&\"\"","v":"72"},{"$f":"入力シート!B92&\"\"","v":"高松"},null,null,{"$f":"入力シート!C92&\"\"","v":""},null,null,{"$f":"入力シート!D92&\"\"","v":""},null,{"$f":"入力シート!E92&\"\"","v":""},{"$f":"IF(入力シート!F92=0,\"\",入力シート!F92)","v":""},{"$f":"入力シート!I92&\"\"","v":""},{"$f":"入力シート!J92&\"\"","v":""},{"$f":"入力シート!K92&\"\"","v":""},"・","現","帳"]
[{"$f":"入力シート!A93&\"\"","v":"73"},{"$f":"入力シート!B93&\"\"","v":"高松"},null,null,{"$f":"入力シート!C93&\"\"","v":""},null,null,{"$f":"入力シート!D93&\"\"","v":""},null,{"$f":"入力シート!E93&\"\"","v":""},{"$f":"IF(入力シート!F93=0,\"\",入力シート!F93)","v":""},{"$f":"入力シート!I93&\"\"","v":""},{"$f":"入力シート!J93&\"\"","v":""},{"$f":"入力シート!K93&\"\"","v":""},"・","現","帳"]
[{"$f":"入力シート!A94&\"\"","v":"74"},{"$f":"入力シート!B94&\"\"","v":"高松"},null,null,{"$f":"入力シート!C94&\"\"","v":""},null,null,{"$f":"入力シート!D94&\"\"","v":""},null,{"$f":"入力シート!E94&\"\"","v":""},{"$f":"IF(入力シート!F94=0,\"\",入力シート!F94)","v":""},{"$f":"入力シート!I94&\"\"","v":""},{"$f":"入力シート!J94&\"\"","v":""},{"$f":"入力シート!K94&\"\"","v":""},"・","現","帳"]
[{"$f":"入力シート!A95&\"\"","v":"75"},{"$f":"入力シート!B95&\"\"","v":"高松"},null,null,{"$f":"入力シート!C95&\"\"","v":""},null,null,{"$f":"入力シート!D95&\"\"","v":""},null,{"$f":"入力シート!E95&\"\"","v":""},{"$f":"IF(入力シート!F95=0,\"\",入力シート!F95)","v":""},{"$f":"入力シート!I95&\"\"","v":""},{"$f":"入力シート!J95&\"\"","v":""},{"$f":"入力シート!K95&\"\"","v":""},"・","現","帳"]
[{"$f":"入力シート!A96&\"\"","v":"76"},{"$f":"入力シート!B96&\"\"","v":"高松"},null,null,{"$f":"入力シート!C96&\"\"","v":""},null,null,{"$f":"入力シート!D96&\"\"","v":""},null,{"$f":"入力シート!E96&\"\"","v":""},{"$f":"IF(入力シート!F96=0,\"\",入力シート!F96)","v":""},{"$f":"入力シート!I96&\"\"","v":""},{"$f":"入力シート!J96&\"\"","v":""},{"$f":"入力シート!K96&\"\"","v":""},"・","現","帳"]
[{"$f":"入力シート!A97&\"\"","v":"77"},{"$f":"入力シート!B97&\"\"","v":"高松"},null,null,{"$f":"入力シート!C97&\"\"","v":""},null,null,{"$f":"入力シート!D97&\"\"","v":""},null,{"$f":"入力シート!E97&\"\"","v":""},{"$f":"IF(入力シート!F97=0,\"\",入力シート!F97)","v":""},{"$f":"入力シート!I97&\"\"","v":""},{"$f":"入力シート!J97&\"\"","v":""},{"$f":"入力シート!K97&\"\"","v":""},"・","現","帳"]
[{"$f":"入力シート!A98&\"\"","v":"78"},{"$f":"入力シート!B98&\"\"","v":"高松"},null,null,{"$f":"入力シート!C98&\"\"","v":""},null,null,{"$f":"入力シート!D98&\"\"","v":""},null,{"$f":"入力シート!E98&\"\"","v":""},{"$f":"IF(入力シート!F98=0,\"\",入力シート!F98)","v":""},{"$f":"入力シート!I98&\"\"","v":""},{"$f":"入力シート!J98&\"\"","v":""},{"$f":"入力シート!K98&\"\"","v":""},"・","現","帳"]
[{"$f":"入力シート!A99&\"\"","v":"79"},{"$f":"入力シート!B99&\"\"","v":"高松"},null,null,{"$f":"入力シート!C99&\"\"","v":""},null,null,{"$f":"入力シート!D99&\"\"","v":""},null,{"$f":"入力シート!E99&\"\"","v":""},{"$f":"IF(入力シート!F99=0,\"\",入力シート!F99)","v":""},{"$f":"入力シート!I99&\"\"","v":""},{"$f":"入力シート!J99&\"\"","v":""},{"$f":"入力シート!K99&\"\"","v":""},"・","現","帳"]
[{"$f":"入力シート!A100&\"\"","v":"80"},{"$f":"入力シート!B100&\"\"","v":"高松"},null,null,{"$f":"入力シート!C100&\"\"","v":""},null,null,{"$f":"入力シート!D100&\"\"","v":""},null,{"$f":"入力シート!E100&\"\"","v":""},{"$f":"IF(入力シート!F100=0,\"\",入力シート!F100)","v":""},{"$f":"入力シート!I100&\"\"","v":""},{"$f":"入力シート!J100&\"\"","v":""},{"$f":"入力シート!K100&\"\"","v":""},"・","現","帳"]
[{"$f":"入力シート!A101&\"\"","v":"81"},{"$f":"入力シート!B101&\"\"","v":"高松"},null,null,{"$f":"入力シート!C101&\"\"","v":""},null,null,{"$f":"入力シート!D101&\"\"","v":""},null,{"$f":"入力シート!E101&\"\"","v":""},{"$f":"IF(入力シート!F101=0,\"\",入力シート!F101)","v":""},{"$f":"入力シート!I101&\"\"","v":""},{"$f":"入力シート!J101&\"\"","v":""},{"$f":"入力シート!K101&\"\"","v":""},"・","現","帳"]
[{"$f":"入力シート!A102&\"\"","v":"82"},{"$f":"入力シート!B102&\"\"","v":"高松"},null,null,{"$f":"入力シート!C102&\"\"","v":""},null,null,{"$f":"入力シート!D102&\"\"","v":""},null,{"$f":"入力シート!E102&\"\"","v":""},{"$f":"IF(入力シート!F102=0,\"\",入力シート!F102)","v":""},{"$f":"入力シート!I102&\"\"","v":""},{"$f":"入力シート!J102&\"\"","v":""},{"$f":"入力シート!K102&\"\"","v":""},"・","現","帳"]
[{"$f":"入力シート!A103&\"\"","v":"83"},{"$f":"入力シート!B103&\"\"","v":"高松"},null,null,{"$f":"入力シート!C103&\"\"","v":""},null,null,{"$f":"入力シート!D103&\"\"","v":""},null,{"$f":"入力シート!E103&\"\"","v":""},{"$f":"IF(入力シート!F103=0,\"\",入力シート!F103)","v":""},{"$f":"入力シート!I103&\"\"","v":""},{"$f":"入力シート!J103&\"\"","v":""},{"$f":"入力シート!K103&\"\"","v":""},"・","現","帳"]
[{"$f":"入力シート!A104&\"\"","v":"84"},{"$f":"入力シート!B104&\"\"","v":"高松"},null,null,{"$f":"入力シート!C104&\"\"","v":""},null,null,{"$f":"入力シート!D104&\"\"","v":""},null,{"$f":"入力シート!E104&\"\"","v":""},{"$f":"IF(入力シート!F104=0,\"\",入力シート!F104)","v":""},{"$f":"入力シート!I104&\"\"","v":""},{"$f":"入力シート!J104&\"\"","v":""},{"$f":"入力シート!K104&\"\"","v":""},"・","現","帳"]
[{"$f":"入力シート!A105&\"\"","v":"85"},{"$f":"入力シート!B105&\"\"","v":"高松"},null,null,{"$f":"入力シート!C105&\"\"","v":""},null,null,{"$f":"入力シート!D105&\"\"","v":""},null,{"$f":"入力シート!E105&\"\"","v":""},{"$f":"IF(入力シート!F105=0,\"\",入力シート!F105)","v":""},{"$f":"入力シート!I105&\"\"","v":""},{"$f":"入力シート!J105&\"\"","v":""},{"$f":"入力シート!K105&\"\"","v":""},"・","現","帳"]
[{"$f":"入力シート!A106&\"\"","v":"86"},{"$f":"入力シート!B106&\"\"","v":"高松"},null,null,{"$f":"入力シート!C106&\"\"","v":""},null,null,{"$f":"入力シート!D106&\"\"","v":""},null,{"$f":"入力シート!E106&\"\"","v":""},{"$f":"IF(入力シート!F106=0,\"\",入力シート!F106)","v":""},{"$f":"入力シート!I106&\"\"","v":""},{"$f":"入力シート!J106&\"\"","v":""},{"$f":"入力シート!K106&\"\"","v":""},"・","現","帳"]
[{"$f":"入力シート!A107&\"\"","v":"87"},{"$f":"入力シート!B107&\"\"","v":"高松"},null,null,{"$f":"入力シート!C107&\"\"","v":""},null,null,{"$f":"入力シート!D107&\"\"","v":""},null,{"$f":"入力シート!E107&\"\"","v":""},{"$f":"IF(入力シート!F107=0,\"\",入力シート!F107)","v":""},{"$f":"入力シート!I107&\"\"","v":""},{"$f":"入力シート!J107&\"\"","v":""},{"$f":"入力シート!K107&\"\"","v":""},"・","現","帳"]
[{"$f":"入力シート!A108&\"\"","v":"88"},{"$f":"入力シート!B108&\"\"","v":"高松"},null,null,{"$f":"入力シート!C108&\"\"","v":""},null,null,{"$f":"入力シート!D108&\"\"","v":""},null,{"$f":"入力シート!E108&\"\"","v":""},{"$f":"IF(入力シート!F108=0,\"\",入力シート!F108)","v":""},{"$f":"入力シート!I108&\"\"","v":""},{"$f":"入力シート!J108&\"\"","v":""},{"$f":"入力シート!K108&\"\"","v":""},"・","現","帳"]
[{"$f":"入力シート!A109&\"\"","v":"89"},{"$f":"入力シート!B109&\"\"","v":"高松"},null,null,{"$f":"入力シート!C109&\"\"","v":""},null,null,{"$f":"入力シート!D109&\"\"","v":""},null,{"$f":"入力シート!E109&\"\"","v":""},{"$f":"IF(入力シート!F109=0,\"\",入力シート!F109)","v":""},{"$f":"入力シート!I109&\"\"","v":""},{"$f":"入力シート!J109&\"\"","v":""},{"$f":"入力シート!K109&\"\"","v":""},"・","現","帳"]
[{"$f":"入力シート!A110&\"\"","v":"90"},{"$f":"入力シート!B110&\"\"","v":"高松"},null,null,{"$f":"入力シート!C110&\"\"","v":""},null,null,{"$f":"入力シート!D110&\"\"","v":""},null,{"$f":"入力シート!E110&\"\"","v":""},{"$f":"IF(入力シート!F110=0,\"\",入力シート!F110)","v":""},{"$f":"入力シート!I110&\"\"","v":""},{"$f":"入力シート!J110&\"\"","v":""},{"$f":"入力シート!K110&\"\"","v":""},"・","現","帳"]
[{"$f":"入力シート!A111&\"\"","v":"91"},{"$f":"入力シート!B111&\"\"","v":"高松"},null,null,{"$f":"入力シート!C111&\"\"","v":""},null,null,{"$f":"入力シート!D111&\"\"","v":""},null,{"$f":"入力シート!E111&\"\"","v":""},{"$f":"IF(入力シート!F111=0,\"\",入力シート!F111)","v":""},{"$f":"入力シート!I111&\"\"","v":""},{"$f":"入力シート!J111&\"\"","v":""},{"$f":"入力シート!K111&\"\"","v":""},"・","現","帳"]
[{"$f":"入力シート!A112&\"\"","v":"92"},{"$f":"入力シート!B112&\"\"","v":"高松"},null,null,{"$f":"入力シート!C112&\"\"","v":""},null,null,{"$f":"入力シート!D112&\"\"","v":""},null,{"$f":"入力シート!E112&\"\"","v":""},{"$f":"IF(入力シート!F112=0,\"\",入力シート!F112)","v":""},{"$f":"入力シート!I112&\"\"","v":""},{"$f":"入力シート!J112&\"\"","v":""},{"$f":"入力シート!K112&\"\"","v":""},"・","現","帳"]
[{"$f":"入力シート!A113&\"\"","v":"93"},{"$f":"入力シート!B113&\"\"","v":"高松"},null,null,{"$f":"入力シート!C113&\"\"","v":""},null,null,{"$f":"入力シート!D113&\"\"","v":""},null,{"$f":"入力シート!E113&\"\"","v":""},{"$f":"IF(入力シート!F113=0,\"\",入力シート!F113)","v":""},{"$f":"入力シート!I113&\"\"","v":""},{"$f":"入力シート!J113&\"\"","v":""},{"$f":"入力シート!K113&\"\"","v":""},"・","現","帳"]
[{"$f":"入力シート!A114&\"\"","v":"94"},{"$f":"入力シート!B114&\"\"","v":"高松"},null,null,{"$f":"入力シート!C114&\"\"","v":""},null,null,{"$f":"入力シート!D114&\"\"","v":""},null,{"$f":"入力シート!E114&\"\"","v":""},{"$f":"IF(入力シート!F114=0,\"\",入力シート!F114)","v":""},{"$f":"入力シート!I114&\"\"","v":""},{"$f":"入力シート!J114&\"\"","v":""},{"$f":"入力シート!K114&\"\"","v":""},"・","現","帳"]
[{"$f":"入力シート!A115&\"\"","v":"95"},{"$f":"入力シート!B115&\"\"","v":"高松"},null,null,{"$f":"入力シート!C115&\"\"","v":""},null,null,{"$f":"入力シート!D115&\"\"","v":""},null,{"$f":"入力シート!E115&\"\"","v":""},{"$f":"IF(入力シート!F115=0,\"\",入力シート!F115)","v":""},{"$f":"入力シート!I115&\"\"","v":""},{"$f":"入力シート!J115&\"\"","v":""},{"$f":"入力シート!K115&\"\"","v":""},"・","現","帳"]
[{"$f":"入力シート!A116&\"\"","v":"96"},{"$f":"入力シート!B116&\"\"","v":"高松"},null,null,{"$f":"入力シート!C116&\"\"","v":""},null,null,{"$f":"入力シート!D116&\"\"","v":""},null,{"$f":"入力シート!E116&\"\"","v":""},{"$f":"IF(入力シート!F116=0,\"\",入力シート!F116)","v":""},{"$f":"入力シート!I116&\"\"","v":""},{"$f":"入力シート!J116&\"\"","v":""},{"$f":"入力シート!K116&\"\"","v":""},"・","現","帳"]
[{"$f":"入力シート!A117&\"\"","v":"97"},{"$f":"入力シート!B117&\"\"","v":"高松"},null,null,{"$f":"入力シート!C117&\"\"","v":""},null,null,{"$f":"入力シート!D117&\"\"","v":""},null,{"$f":"入力シート!E117&\"\"","v":""},{"$f":"IF(入力シート!F117=0,\"\",入力シート!F117)","v":""},{"$f":"入力シート!I117&\"\"","v":""},{"$f":"入力シート!J117&\"\"","v":""},{"$f":"入力シート!K117&\"\"","v":""},"・","現","帳"]
[{"$f":"入力シート!A118&\"\"","v":"98"},{"$f":"入力シート!B118&\"\"","v":"高松"},null,null,{"$f":"入力シート!C118&\"\"","v":""},null,null,{"$f":"入力シート!D118&\"\"","v":""},null,{"$f":"入力シート!E118&\"\"","v":""},{"$f":"IF(入力シート!F118=0,\"\",入力シート!F118)","v":""},{"$f":"入力シート!I118&\"\"","v":""},{"$f":"入力シート!J118&\"\"","v":""},{"$f":"入力シート!K118&\"\"","v":""},"・","現","帳"]
[{"$f":"入力シート!A119&\"\"","v":"99"},{"$f":"入力シート!B119&\"\"","v":"高松"},null,null,{"$f":"入力シート!C119&\"\"","v":""},null,null,{"$f":"入力シート!D119&\"\"","v":""},null,{"$f":"入力シート!E119&\"\"","v":""},{"$f":"IF(入力シート!F119=0,\"\",入力シート!F119)","v":""},{"$f":"入力シート!I119&\"\"","v":""},{"$f":"入力シート!J119&\"\"","v":""},{"$f":"入力シート!K119&\"\"","v":""},"・","現","帳"]
[{"$f":"入力シート!A120&\"\"","v":"100"},{"$f":"入力シート!B120&\"\"","v":"高松"},null,null,{"$f":"入力シート!C120&\"\"","v":""},null,null,{"$f":"入力シート!D120&\"\"","v":""},null,{"$f":"入力シート!E120&\"\"","v":""},{"$f":"IF(入力シート!F120=0,\"\",入力シート!F120)","v":""},{"$f":"入力シート!I120&\"\"","v":""},{"$f":"入力シート!J120&\"\"","v":""},{"$f":"入力シート!K120&\"\"","v":""},"・","現","帳"]
[{"$f":"入力シート!A121&\"\"","v":"101"},{"$f":"入力シート!B121&\"\"","v":"高松"},null,null,{"$f":"入力シート!C121&\"\"","v":""},null,null,{"$f":"入力シート!D121&\"\"","v":""},null,{"$f":"入力シート!E121&\"\"","v":""},{"$f":"IF(入力シート!F121=0,\"\",入力シート!F121)","v":""},{"$f":"入力シート!I121&\"\"","v":""},{"$f":"入力シート!J121&\"\"","v":""},{"$f":"入力シート!K121&\"\"","v":""},"・","現","帳"]
[{"$f":"入力シート!A122&\"\"","v":"102"},{"$f":"入力シート!B122&\"\"","v":"高松"},null,null,{"$f":"入力シート!C122&\"\"","v":""},null,null,{"$f":"入力シート!D122&\"\"","v":""},null,{"$f":"入力シート!E122&\"\"","v":""},{"$f":"IF(入力シート!F122=0,\"\",入力シート!F122)","v":""},{"$f":"入力シート!I122&\"\"","v":""},{"$f":"入力シート!J122&\"\"","v":""},{"$f":"入力シート!K122&\"\"","v":""},"・","現","帳"]
[{"$f":"入力シート!A123&\"\"","v":"103"},{"$f":"入力シート!B123&\"\"","v":"高松"},null,null,{"$f":"入力シート!C123&\"\"","v":""},null,null,{"$f":"入力シート!D123&\"\"","v":""},null,{"$f":"入力シート!E123&\"\"","v":""},{"$f":"IF(入力シート!F123=0,\"\",入力シート!F123)","v":""},{"$f":"入力シート!I123&\"\"","v":""},{"$f":"入力シート!J123&\"\"","v":""},{"$f":"入力シート!K123&\"\"","v":""},"・","現","帳"]
[{"$f":"入力シート!A124&\"\"","v":"104"},{"$f":"入力シート!B124&\"\"","v":"高松"},null,null,{"$f":"入力シート!C124&\"\"","v":""},null,null,{"$f":"入力シート!D124&\"\"","v":""},null,{"$f":"入力シート!E124&\"\"","v":""},{"$f":"IF(入力シート!F124=0,\"\",入力シート!F124)","v":""},{"$f":"入力シート!I124&\"\"","v":""},{"$f":"入力シート!J124&\"\"","v":""},{"$f":"入力シート!K124&\"\"","v":""},"・","現","帳"]
[{"$f":"入力シート!A125&\"\"","v":"105"},{"$f":"入力シート!B125&\"\"","v":"高松"},null,null,{"$f":"入力シート!C125&\"\"","v":""},null,null,{"$f":"入力シート!D125&\"\"","v":""},null,{"$f":"入力シート!E125&\"\"","v":""},{"$f":"IF(入力シート!F125=0,\"\",入力シート!F125)","v":""},{"$f":"入力シート!I125&\"\"","v":""},{"$f":"入力シート!J125&\"\"","v":""},{"$f":"入力シート!K125&\"\"","v":""},"・","現","帳"]
[{"$f":"入力シート!A126&\"\"","v":"106"},{"$f":"入力シート!B126&\"\"","v":"高松"},null,null,{"$f":"入力シート!C126&\"\"","v":""},null,null,{"$f":"入力シート!D126&\"\"","v":""},null,{"$f":"入力シート!E126&\"\"","v":""},{"$f":"IF(入力シート!F126=0,\"\",入力シート!F126)","v":""},{"$f":"入力シート!I126&\"\"","v":""},{"$f":"入力シート!J126&\"\"","v":""},{"$f":"入力シート!K126&\"\"","v":""},"・","現","帳"]
[{"$f":"入力シート!A127&\"\"","v":"107"},{"$f":"入力シート!B127&\"\"","v":"高松"},null,null,{"$f":"入力シート!C127&\"\"","v":""},null,null,{"$f":"入力シート!D127&\"\"","v":""},null,{"$f":"入力シート!E127&\"\"","v":""},{"$f":"IF(入力シート!F127=0,\"\",入力シート!F127)","v":""},{"$f":"入力シート!I127&\"\"","v":""},{"$f":"入力シート!J127&\"\"","v":""},{"$f":"入力シート!K127&\"\"","v":""},"・","現","帳"]
[{"$f":"入力シート!A128&\"\"","v":"108"},{"$f":"入力シート!B128&\"\"","v":"高松"},null,null,{"$f":"入力シート!C128&\"\"","v":""},null,null,{"$f":"入力シート!D128&\"\"","v":""},null,{"$f":"入力シート!E128&\"\"","v":""},{"$f":"IF(入力シート!F128=0,\"\",入力シート!F128)","v":""},{"$f":"入力シート!I128&\"\"","v":""},{"$f":"入力シート!J128&\"\"","v":""},{"$f":"入力シート!K128&\"\"","v":""},"・","現","帳"]
[{"$f":"入力シート!A129&\"\"","v":"109"},{"$f":"入力シート!B129&\"\"","v":"高松"},null,null,{"$f":"入力シート!C129&\"\"","v":""},null,null,{"$f":"入力シート!D129&\"\"","v":""},null,{"$f":"入力シート!E129&\"\"","v":""},{"$f":"IF(入力シート!F129=0,\"\",入力シート!F129)","v":""},{"$f":"入力シート!I129&\"\"","v":""},{"$f":"入力シート!J129&\"\"","v":""},{"$f":"入力シート!K129&\"\"","v":""},"・","現","帳"]
[{"$f":"入力シート!A130&\"\"","v":"110"},{"$f":"入力シート!B130&\"\"","v":"高松"},null,null,{"$f":"入力シート!C130&\"\"","v":""},null,null,{"$f":"入力シート!D130&\"\"","v":""},null,{"$f":"入力シート!E130&\"\"","v":""},{"$f":"IF(入力シート!F130=0,\"\",入力シート!F130)","v":""},{"$f":"入力シート!I130&\"\"","v":""},{"$f":"入力シート!J130&\"\"","v":""},{"$f":"入力シート!K130&\"\"","v":""},"・","現","帳"]
[{"$f":"入力シート!A131&\"\"","v":"111"},{"$f":"入力シート!B131&\"\"","v":"高松"},null,null,{"$f":"入力シート!C131&\"\"","v":""},null,null,{"$f":"入力シート!D131&\"\"","v":""},null,{"$f":"入力シート!E131&\"\"","v":""},{"$f":"IF(入力シート!F131=0,\"\",入力シート!F131)","v":""},{"$f":"入力シート!I131&\"\"","v":""},{"$f":"入力シート!J131&\"\"","v":""},{"$f":"入力シート!K131&\"\"","v":""},"・","現","帳"]
[{"$f":"入力シート!A132&\"\"","v":"112"},{"$f":"入力シート!B132&\"\"","v":"高松"},null,null,{"$f":"入力シート!C132&\"\"","v":""},null,null,{"$f":"入力シート!D132&\"\"","v":""},null,{"$f":"入力シート!E132&\"\"","v":""},{"$f":"IF(入力シート!F132=0,\"\",入力シート!F132)","v":""},{"$f":"入力シート!I132&\"\"","v":""},{"$f":"入力シート!J132&\"\"","v":""},{"$f":"入力シート!K132&\"\"","v":""},"・","現","帳"]
[{"$f":"入力シート!A133&\"\"","v":"113"},{"$f":"入力シート!B133&\"\"","v":"高松"},null,null,{"$f":"入力シート!C133&\"\"","v":""},null,null,{"$f":"入力シート!D133&\"\"","v":""},null,{"$f":"入力シート!E133&\"\"","v":""},{"$f":"IF(入力シート!F133=0,\"\",入力シート!F133)","v":""},{"$f":"入力シート!I133&\"\"","v":""},{"$f":"入力シート!J133&\"\"","v":""},{"$f":"入力シート!K133&\"\"","v":""},"・","現","帳"]
[{"$f":"入力シート!A134&\"\"","v":"114"},{"$f":"入力シート!B134&\"\"","v":"高松"},null,null,{"$f":"入力シート!C134&\"\"","v":""},null,null,{"$f":"入力シート!D134&\"\"","v":""},null,{"$f":"入力シート!E134&\"\"","v":""},{"$f":"IF(入力シート!F134=0,\"\",入力シート!F134)","v":""},{"$f":"入力シート!I134&\"\"","v":""},{"$f":"入力シート!J134&\"\"","v":""},{"$f":"入力シート!K134&\"\"","v":""},"・","現","帳"]
[{"$f":"入力シート!A135&\"\"","v":"115"},{"$f":"入力シート!B135&\"\"","v":"高松"},null,null,{"$f":"入力シート!C135&\"\"","v":""},null,null,{"$f":"入力シート!D135&\"\"","v":""},null,{"$f":"入力シート!E135&\"\"","v":""},{"$f":"IF(入力シート!F135=0,\"\",入力シート!F135)","v":""},{"$f":"入力シート!I135&\"\"","v":""},{"$f":"入力シート!J135&\"\"","v":""},{"$f":"入力シート!K135&\"\"","v":""},"・","現","帳"]
[{"$f":"入力シート!A136&\"\"","v":"116"},{"$f":"入力シート!B136&\"\"","v":"高松"},null,null,{"$f":"入力シート!C136&\"\"","v":""},null,null,{"$f":"入力シート!D136&\"\"","v":""},null,{"$f":"入力シート!E136&\"\"","v":""},{"$f":"IF(入力シート!F136=0,\"\",入力シート!F136)","v":""},{"$f":"入力シート!I136&\"\"","v":""},{"$f":"入力シート!J136&\"\"","v":""},{"$f":"入力シート!K136&\"\"","v":""},"・","現","帳"]
[{"$f":"入力シート!A137&\"\"","v":"117"},{"$f":"入力シート!B137&\"\"","v":"高松"},null,null,{"$f":"入力シート!C137&\"\"","v":""},null,null,{"$f":"入力シート!D137&\"\"","v":""},null,{"$f":"入力シート!E137&\"\"","v":""},{"$f":"IF(入力シート!F137=0,\"\",入力シート!F137)","v":""},{"$f":"入力シート!I137&\"\"","v":""},{"$f":"入力シート!J137&\"\"","v":""},{"$f":"入力シート!K137&\"\"","v":""},"・","現","帳"]
[{"$f":"入力シート!A138&\"\"","v":"118"},{"$f":"入力シート!B138&\"\"","v":"高松"},null,null,{"$f":"入力シート!C138&\"\"","v":""},null,null,{"$f":"入力シート!D138&\"\"","v":""},null,{"$f":"入力シート!E138&\"\"","v":""},{"$f":"IF(入力シート!F138=0,\"\",入力シート!F138)","v":""},{"$f":"入力シート!I138&\"\"","v":""},{"$f":"入力シート!J138&\"\"","v":""},{"$f":"入力シート!K138&\"\"","v":""},"・","現","帳"]
[{"$f":"入力シート!A139&\"\"","v":"119"},{"$f":"入力シート!B139&\"\"","v":"高松"},null,null,{"$f":"入力シート!C139&\"\"","v":""},null,null,{"$f":"入力シート!D139&\"\"","v":""},null,{"$f":"入力シート!E139&\"\"","v":""},{"$f":"IF(入力シート!F139=0,\"\",入力シート!F139)","v":""},{"$f":"入力シート!I139&\"\"","v":""},{"$f":"入力シート!J139&\"\"","v":""},{"$f":"入力シート!K139&\"\"","v":""},"・","現","帳"]
[{"$f":"入力シート!A140&\"\"","v":"120"},{"$f":"入力シート!B140&\"\"","v":"高松"},null,null,{"$f":"入力シート!C140&\"\"","v":""},null,null,{"$f":"入力シート!D140&\"\"","v":""},null,{"$f":"入力シート!E140&\"\"","v":""},{"$f":"IF(入力シート!F140=0,\"\",入力シート!F140)","v":""},{"$f":"入力シート!I140&\"\"","v":""},{"$f":"入力シート!J140&\"\"","v":""},{"$f":"入力シート!K140&\"\"","v":""},"・","現","帳"]
[{"$f":"入力シート!A141&\"\"","v":"121"},{"$f":"入力シート!B141&\"\"","v":"高松"},null,null,{"$f":"入力シート!C141&\"\"","v":""},null,null,{"$f":"入力シート!D141&\"\"","v":""},null,{"$f":"入力シート!E141&\"\"","v":""},{"$f":"IF(入力シート!F141=0,\"\",入力シート!F141)","v":""},{"$f":"入力シート!I141&\"\"","v":""},{"$f":"入力シート!J141&\"\"","v":""},{"$f":"入力シート!K141&\"\"","v":""},"・","現","帳"]
[{"$f":"入力シート!A142&\"\"","v":"122"},{"$f":"入力シート!B142&\"\"","v":"高松"},null,null,{"$f":"入力シート!C142&\"\"","v":""},null,null,{"$f":"入力シート!D142&\"\"","v":""},null,{"$f":"入力シート!E142&\"\"","v":""},{"$f":"IF(入力シート!F142=0,\"\",入力シート!F142)","v":""},{"$f":"入力シート!I142&\"\"","v":""},{"$f":"入力シート!J142&\"\"","v":""},{"$f":"入力シート!K142&\"\"","v":""},"・","現","帳"]
[{"$f":"入力シート!A143&\"\"","v":"123"},{"$f":"入力シート!B143&\"\"","v":"高松"},null,null,{"$f":"入力シート!C143&\"\"","v":""},null,null,{"$f":"入力シート!D143&\"\"","v":""},null,{"$f":"入力シート!E143&\"\"","v":""},{"$f":"IF(入力シート!F143=0,\"\",入力シート!F143)","v":""},{"$f":"入力シート!I143&\"\"","v":""},{"$f":"入力シート!J143&\"\"","v":""},{"$f":"入力シート!K143&\"\"","v":""},"・","現","帳"]
[{"$f":"入力シート!A144&\"\"","v":"124"},{"$f":"入力シート!B144&\"\"","v":"高松"},null,null,{"$f":"入力シート!C144&\"\"","v":""},null,null,{"$f":"入力シート!D144&\"\"","v":""},null,{"$f":"入力シート!E144&\"\"","v":""},{"$f":"IF(入力シート!F144=0,\"\",入力シート!F144)","v":""},{"$f":"入力シート!I144&\"\"","v":""},{"$f":"入力シート!J144&\"\"","v":""},{"$f":"入力シート!K144&\"\"","v":""},"・","現","帳"]
[{"$f":"入力シート!A145&\"\"","v":"125"},{"$f":"入力シート!B145&\"\"","v":"高松"},null,null,{"$f":"入力シート!C145&\"\"","v":""},null,null,{"$f":"入力シート!D145&\"\"","v":""},null,{"$f":"入力シート!E145&\"\"","v":""},{"$f":"IF(入力シート!F145=0,\"\",入力シート!F145)","v":""},{"$f":"入力シート!I145&\"\"","v":""},{"$f":"入力シート!J145&\"\"","v":""},{"$f":"入力シート!K145&\"\"","v":""},"・","現","帳"]
[{"$f":"入力シート!A146&\"\"","v":"126"},{"$f":"入力シート!B146&\"\"","v":"高松"},null,null,{"$f":"入力シート!C146&\"\"","v":""},null,null,{"$f":"入力シート!D146&\"\"","v":""},null,{"$f":"入力シート!E146&\"\"","v":""},{"$f":"IF(入力シート!F146=0,\"\",入力シート!F146)","v":""},{"$f":"入力シート!I146&\"\"","v":""},{"$f":"入力シート!J146&\"\"","v":""},{"$f":"入力シート!K146&\"\"","v":""},"・","現","帳"]
[{"$f":"入力シート!A147&\"\"","v":"127"},{"$f":"入力シート!B147&\"\"","v":"高松"},null,null,{"$f":"入力シート!C147&\"\"","v":""},null,null,{"$f":"入力シート!D147&\"\"","v":""},null,{"$f":"入力シート!E147&\"\"","v":""},{"$f":"IF(入力シート!F147=0,\"\",入力シート!F147)","v":""},{"$f":"入力シート!I147&\"\"","v":""},{"$f":"入力シート!J147&\"\"","v":""},{"$f":"入力シート!K147&\"\"","v":""},"・","現","帳"]
[{"$f":"入力シート!A148&\"\"","v":"128"},{"$f":"入力シート!B148&\"\"","v":"高松"},null,null,{"$f":"入力シート!C148&\"\"","v":""},null,null,{"$f":"入力シート!D148&\"\"","v":""},null,{"$f":"入力シート!E148&\"\"","v":""},{"$f":"IF(入力シート!F148=0,\"\",入力シート!F148)","v":""},{"$f":"入力シート!I148&\"\"","v":""},{"$f":"入力シート!J148&\"\"","v":""},{"$f":"入力シート!K148&\"\"","v":""},"・","現","帳"]
[{"$f":"入力シート!A149&\"\"","v":"129"},{"$f":"入力シート!B149&\"\"","v":"高松"},null,null,{"$f":"入力シート!C149&\"\"","v":""},null,null,{"$f":"入力シート!D149&\"\"","v":""},null,{"$f":"入力シート!E149&\"\"","v":""},{"$f":"IF(入力シート!F149=0,\"\",入力シート!F149)","v":""},{"$f":"入力シート!I149&\"\"","v":""},{"$f":"入力シート!J149&\"\"","v":""},{"$f":"入力シート!K149&\"\"","v":""},"・","現","帳"]
[{"$f":"入力シート!A150&\"\"","v":"130"},{"$f":"入力シート!B150&\"\"","v":"高松"},null,null,{"$f":"入力シート!C150&\"\"","v":""},null,null,{"$f":"入力シート!D150&\"\"","v":""},null,{"$f":"入力シート!E150&\"\"","v":""},{"$f":"IF(入力シート!F150=0,\"\",入力シート!F150)","v":""},{"$f":"入力シート!I150&\"\"","v":""},{"$f":"入力シート!J150&\"\"","v":""},{"$f":"入力シート!K150&\"\"","v":""},"・","現","帳"]
[{"$f":"入力シート!A151&\"\"","v":"131"},{"$f":"入力シート!B151&\"\"","v":"高松"},null,null,{"$f":"入力シート!C151&\"\"","v":""},null,null,{"$f":"入力シート!D151&\"\"","v":""},null,{"$f":"入力シート!E151&\"\"","v":""},{"$f":"IF(入力シート!F151=0,\"\",入力シート!F151)","v":""},{"$f":"入力シート!I151&\"\"","v":""},{"$f":"入力シート!J151&\"\"","v":""},{"$f":"入力シート!K151&\"\"","v":""},"・","現","帳"]
[{"$f":"入力シート!A152&\"\"","v":"132"},{"$f":"入力シート!B152&\"\"","v":"高松"},null,null,{"$f":"入力シート!C152&\"\"","v":""},null,null,{"$f":"入力シート!D152&\"\"","v":""},null,{"$f":"入力シート!E152&\"\"","v":""},{"$f":"IF(入力シート!F152=0,\"\",入力シート!F152)","v":""},{"$f":"入力シート!I152&\"\"","v":""},{"$f":"入力シート!J152&\"\"","v":""},{"$f":"入力シート!K152&\"\"","v":""},"・","現","帳"]
[{"$f":"入力シート!A153&\"\"","v":"133"},{"$f":"入力シート!B153&\"\"","v":"高松"},null,null,{"$f":"入力シート!C153&\"\"","v":""},null,null,{"$f":"入力シート!D153&\"\"","v":""},null,{"$f":"入力シート!E153&\"\"","v":""},{"$f":"IF(入力シート!F153=0,\"\",入力シート!F153)","v":""},{"$f":"入力シート!I153&\"\"","v":""},{"$f":"入力シート!J153&\"\"","v":""},{"$f":"入力シート!K153&\"\"","v":""},"・","現","帳"]
[{"$f":"入力シート!A154&\"\"","v":"134"},{"$f":"入力シート!B154&\"\"","v":"高松"},null,null,{"$f":"入力シート!C154&\"\"","v":""},null,null,{"$f":"入力シート!D154&\"\"","v":""},null,{"$f":"入力シート!E154&\"\"","v":""},{"$f":"IF(入力シート!F154=0,\"\",入力シート!F154)","v":""},{"$f":"入力シート!I154&\"\"","v":""},{"$f":"入力シート!J154&\"\"","v":""},{"$f":"入力シート!K154&\"\"","v":""},"・","現","帳"]
[{"$f":"入力シート!A155&\"\"","v":"135"},{"$f":"入力シート!B155&\"\"","v":"高松"},null,null,{"$f":"入力シート!C155&\"\"","v":""},null,null,{"$f":"入力シート!D155&\"\"","v":""},null,{"$f":"入力シート!E155&\"\"","v":""},{"$f":"IF(入力シート!F155=0,\"\",入力シート!F155)","v":""},{"$f":"入力シート!I155&\"\"","v":""},{"$f":"入力シート!J155&\"\"","v":""},{"$f":"入力シート!K155&\"\"","v":""},"・","現","帳"]
[{"$f":"入力シート!A156&\"\"","v":"136"},{"$f":"入力シート!B156&\"\"","v":"高松"},null,null,{"$f":"入力シート!C156&\"\"","v":""},null,null,{"$f":"入力シート!D156&\"\"","v":""},null,{"$f":"入力シート!E156&\"\"","v":""},{"$f":"IF(入力シート!F156=0,\"\",入力シート!F156)","v":""},{"$f":"入力シート!I156&\"\"","v":""},{"$f":"入力シート!J156&\"\"","v":""},{"$f":"入力シート!K156&\"\"","v":""},"・","現","帳"]
[{"$f":"入力シート!A157&\"\"","v":"137"},{"$f":"入力シート!B157&\"\"","v":"高松"},null,null,{"$f":"入力シート!C157&\"\"","v":""},null,null,{"$f":"入力シート!D157&\"\"","v":""},null,{"$f":"入力シート!E157&\"\"","v":""},{"$f":"IF(入力シート!F157=0,\"\",入力シート!F157)","v":""},{"$f":"入力シート!I157&\"\"","v":""},{"$f":"入力シート!J157&\"\"","v":""},{"$f":"入力シート!K157&\"\"","v":""},"・","現","帳"]
[{"$f":"入力シート!A158&\"\"","v":"138"},{"$f":"入力シート!B158&\"\"","v":"高松"},null,null,{"$f":"入力シート!C158&\"\"","v":""},null,null,{"$f":"入力シート!D158&\"\"","v":""},null,{"$f":"入力シート!E158&\"\"","v":""},{"$f":"IF(入力シート!F158=0,\"\",入力シート!F158)","v":""},{"$f":"入力シート!I158&\"\"","v":""},{"$f":"入力シート!J158&\"\"","v":""},{"$f":"入力シート!K158&\"\"","v":""},"・","現","帳"]
[{"$f":"入力シート!A159&\"\"","v":"139"},{"$f":"入力シート!B159&\"\"","v":"高松"},null,null,{"$f":"入力シート!C159&\"\"","v":""},null,null,{"$f":"入力シート!D159&\"\"","v":""},null,{"$f":"入力シート!E159&\"\"","v":""},{"$f":"IF(入力シート!F159=0,\"\",入力シート!F159)","v":""},{"$f":"入力シート!I159&\"\"","v":""},{"$f":"入力シート!J159&\"\"","v":""},{"$f":"入力シート!K159&\"\"","v":""},"・","現","帳"]
[{"$f":"入力シート!A160&\"\"","v":"140"},{"$f":"入力シート!B160&\"\"","v":"高松"},null,null,{"$f":"入力シート!C160&\"\"","v":""},null,null,{"$f":"入力シート!D160&\"\"","v":""},null,{"$f":"入力シート!E160&\"\"","v":""},{"$f":"IF(入力シート!F160=0,\"\",入力シート!F160)","v":""},{"$f":"入力シート!I160&\"\"","v":""},{"$f":"入力シート!J160&\"\"","v":""},{"$f":"入力シート!K160&\"\"","v":""},"・","現","帳"]
[{"$f":"入力シート!A161&\"\"","v":"141"},{"$f":"入力シート!B161&\"\"","v":"高松"},null,null,{"$f":"入力シート!C161&\"\"","v":""},null,null,{"$f":"入力シート!D161&\"\"","v":""},null,{"$f":"入力シート!E161&\"\"","v":""},{"$f":"IF(入力シート!F161=0,\"\",入力シート!F161)","v":""},{"$f":"入力シート!I161&\"\"","v":""},{"$f":"入力シート!J161&\"\"","v":""},{"$f":"入力シート!K161&\"\"","v":""},"・","現","帳"]
[{"$f":"入力シート!A162&\"\"","v":"142"},{"$f":"入力シート!B162&\"\"","v":"高松"},null,null,{"$f":"入力シート!C162&\"\"","v":""},null,null,{"$f":"入力シート!D162&\"\"","v":""},null,{"$f":"入力シート!E162&\"\"","v":""},{"$f":"IF(入力シート!F162=0,\"\",入力シート!F162)","v":""},{"$f":"入力シート!I162&\"\"","v":""},{"$f":"入力シート!J162&\"\"","v":""},{"$f":"入力シート!K162&\"\"","v":""},"・","現","帳"]
[{"$f":"入力シート!A163&\"\"","v":"143"},{"$f":"入力シート!B163&\"\"","v":"高松"},null,null,{"$f":"入力シート!C163&\"\"","v":""},null,null,{"$f":"入力シート!D163&\"\"","v":""},null,{"$f":"入力シート!E163&\"\"","v":""},{"$f":"IF(入力シート!F163=0,\"\",入力シート!F163)","v":""},{"$f":"入力シート!I163&\"\"","v":""},{"$f":"入力シート!J163&\"\"","v":""},{"$f":"入力シート!K163&\"\"","v":""},"・","現","帳"]
[{"$f":"入力シート!A164&\"\"","v":"144"},{"$f":"入力シート!B164&\"\"","v":"高松"},null,null,{"$f":"入力シート!C164&\"\"","v":""},null,null,{"$f":"入力シート!D164&\"\"","v":""},null,{"$f":"入力シート!E164&\"\"","v":""},{"$f":"IF(入力シート!F164=0,\"\",入力シート!F164)","v":""},{"$f":"入力シート!I164&\"\"","v":""},{"$f":"入力シート!J164&\"\"","v":""},{"$f":"入力シート!K164&\"\"","v":""},"・","現","帳"]
[{"$f":"入力シート!A165&\"\"","v":"145"},{"$f":"入力シート!B165&\"\"","v":"高松"},null,null,{"$f":"入力シート!C165&\"\"","v":""},null,null,{"$f":"入力シート!D165&\"\"","v":""},null,{"$f":"入力シート!E165&\"\"","v":""},{"$f":"IF(入力シート!F165=0,\"\",入力シート!F165)","v":""},{"$f":"入力シート!I165&\"\"","v":""},{"$f":"入力シート!J165&\"\"","v":""},{"$f":"入力シート!K165&\"\"","v":""},"・","現","帳"]
[{"$f":"入力シート!A166&\"\"","v":"146"},{"$f":"入力シート!B166&\"\"","v":"高松"},null,null,{"$f":"入力シート!C166&\"\"","v":""},null,null,{"$f":"入力シート!D166&\"\"","v":""},null,{"$f":"入力シート!E166&\"\"","v":""},{"$f":"IF(入力シート!F166=0,\"\",入力シート!F166)","v":""},{"$f":"入力シート!I166&\"\"","v":""},{"$f":"入力シート!J166&\"\"","v":""},{"$f":"入力シート!K166&\"\"","v":""},"・","現","帳"]
[{"$f":"入力シート!A167&\"\"","v":"147"},{"$f":"入力シート!B167&\"\"","v":"高松"},null,null,{"$f":"入力シート!C167&\"\"","v":""},null,null,{"$f":"入力シート!D167&\"\"","v":""},null,{"$f":"入力シート!E167&\"\"","v":""},{"$f":"IF(入力シート!F167=0,\"\",入力シート!F167)","v":""},{"$f":"入力シート!I167&\"\"","v":""},{"$f":"入力シート!J167&\"\"","v":""},{"$f":"入力シート!K167&\"\"","v":""},"・","現","帳"]
[{"$f":"入力シート!A168&\"\"","v":"148"},{"$f":"入力シート!B168&\"\"","v":"高松"},null,null,{"$f":"入力シート!C168&\"\"","v":""},null,null,{"$f":"入力シート!D168&\"\"","v":""},null,{"$f":"入力シート!E168&\"\"","v":""},{"$f":"IF(入力シート!F168=0,\"\",入力シート!F168)","v":""},{"$f":"入力シート!I168&\"\"","v":""},{"$f":"入力シート!J168&\"\"","v":""},{"$f":"入力シート!K168&\"\"","v":""},"・","現","帳"]
[{"$f":"入力シート!A169&\"\"","v":"149"},{"$f":"入力シート!B169&\"\"","v":"高松"},null,null,{"$f":"入力シート!C169&\"\"","v":""},null,null,{"$f":"入力シート!D169&\"\"","v":""},null,{"$f":"入力シート!E169&\"\"","v":""},{"$f":"IF(入力シート!F169=0,\"\",入力シート!F169)","v":""},{"$f":"入力シート!I169&\"\"","v":""},{"$f":"入力シート!J169&\"\"","v":""},{"$f":"入力シート!K169&\"\"","v":""},"・","現","帳"]
[{"$f":"入力シート!A170&\"\"","v":"150"},{"$f":"入力シート!B170&\"\"","v":"高松"},null,null,{"$f":"入力シート!C170&\"\"","v":""},null,null,{"$f":"入力シート!D170&\"\"","v":""},null,{"$f":"入力シート!E170&\"\"","v":""},{"$f":"IF(入力シート!F170=0,\"\",入力シート!F170)","v":""},{"$f":"入力シート!I170&\"\"","v":""},{"$f":"入力シート!J170&\"\"","v":""},{"$f":"入力シート!K170&\"\"","v":""},"・","現","帳"]
[{"$f":"入力シート!A171&\"\"","v":"151"},{"$f":"入力シート!B171&\"\"","v":"高松"},null,null,{"$f":"入力シート!C171&\"\"","v":""},null,null,{"$f":"入力シート!D171&\"\"","v":""},null,{"$f":"入力シート!E171&\"\"","v":""},{"$f":"IF(入力シート!F171=0,\"\",入力シート!F171)","v":""},{"$f":"入力シート!I171&\"\"","v":""},{"$f":"入力シート!J171&\"\"","v":""},{"$f":"入力シート!K171&\"\"","v":""},"・","現","帳"]
[{"$f":"入力シート!A172&\"\"","v":"152"},{"$f":"入力シート!B172&\"\"","v":"高松"},null,null,{"$f":"入力シート!C172&\"\"","v":""},null,null,{"$f":"入力シート!D172&\"\"","v":""},null,{"$f":"入力シート!E172&\"\"","v":""},{"$f":"IF(入力シート!F172=0,\"\",入力シート!F172)","v":""},{"$f":"入力シート!I172&\"\"","v":""},{"$f":"入力シート!J172&\"\"","v":""},{"$f":"入力シート!K172&\"\"","v":""},"・","現","帳"]
[{"$f":"入力シート!A173&\"\"","v":"153"},{"$f":"入力シート!B173&\"\"","v":"高松"},null,null,{"$f":"入力シート!C173&\"\"","v":""},null,null,{"$f":"入力シート!D173&\"\"","v":""},null,{"$f":"入力シート!E173&\"\"","v":""},{"$f":"IF(入力シート!F173=0,\"\",入力シート!F173)","v":""},{"$f":"入力シート!I173&\"\"","v":""},{"$f":"入力シート!J173&\"\"","v":""},{"$f":"入力シート!K173&\"\"","v":""},"・","現","帳"]
[{"$f":"入力シート!A174&\"\"","v":"154"},{"$f":"入力シート!B174&\"\"","v":"高松"},null,null,{"$f":"入力シート!C174&\"\"","v":""},null,null,{"$f":"入力シート!D174&\"\"","v":""},null,{"$f":"入力シート!E174&\"\"","v":""},{"$f":"IF(入力シート!F174=0,\"\",入力シート!F174)","v":""},{"$f":"入力シート!I174&\"\"","v":""},{"$f":"入力シート!J174&\"\"","v":""},{"$f":"入力シート!K174&\"\"","v":""},"・","現","帳"]
[{"$f":"入力シート!A175&\"\"","v":"155"},{"$f":"入力シート!B175&\"\"","v":"高松"},null,null,{"$f":"入力シート!C175&\"\"","v":""},null,null,{"$f":"入力シート!D175&\"\"","v":""},null,{"$f":"入力シート!E175&\"\"","v":""},{"$f":"IF(入力シート!F175=0,\"\",入力シート!F175)","v":""},{"$f":"入力シート!I175&\"\"","v":""},{"$f":"入力シート!J175&\"\"","v":""},{"$f":"入力シート!K175&\"\"","v":""},"・","現","帳"]
[{"$f":"入力シート!A176&\"\"","v":"156"},{"$f":"入力シート!B176&\"\"","v":"高松"},null,null,{"$f":"入力シート!C176&\"\"","v":""},null,null,{"$f":"入力シート!D176&\"\"","v":""},null,{"$f":"入力シート!E176&\"\"","v":""},{"$f":"IF(入力シート!F176=0,\"\",入力シート!F176)","v":""},{"$f":"入力シート!I176&\"\"","v":""},{"$f":"入力シート!J176&\"\"","v":""},{"$f":"入力シート!K176&\"\"","v":""},"・","現","帳"]
[{"$f":"入力シート!A177&\"\"","v":"157"},{"$f":"入力シート!B177&\"\"","v":"高松"},null,null,{"$f":"入力シート!C177&\"\"","v":""},null,null,{"$f":"入力シート!D177&\"\"","v":""},null,{"$f":"入力シート!E177&\"\"","v":""},{"$f":"IF(入力シート!F177=0,\"\",入力シート!F177)","v":""},{"$f":"入力シート!I177&\"\"","v":""},{"$f":"入力シート!J177&\"\"","v":""},{"$f":"入力シート!K177&\"\"","v":""},"・","現","帳"]
[{"$f":"入力シート!A178&\"\"","v":"158"},{"$f":"入力シート!B178&\"\"","v":"高松"},null,null,{"$f":"入力シート!C178&\"\"","v":""},null,null,{"$f":"入力シート!D178&\"\"","v":""},null,{"$f":"入力シート!E178&\"\"","v":""},{"$f":"IF(入力シート!F178=0,\"\",入力シート!F178)","v":""},{"$f":"入力シート!I178&\"\"","v":""},{"$f":"入力シート!J178&\"\"","v":""},{"$f":"入力シート!K178&\"\"","v":""},"・","現","帳"]
[{"$f":"入力シート!A179&\"\"","v":"159"},{"$f":"入力シート!B179&\"\"","v":"高松"},null,null,{"$f":"入力シート!C179&\"\"","v":""},null,null,{"$f":"入力シート!D179&\"\"","v":""},null,{"$f":"入力シート!E179&\"\"","v":""},{"$f":"IF(入力シート!F179=0,\"\",入力シート!F179)","v":""},{"$f":"入力シート!I179&\"\"","v":""},{"$f":"入力シート!J179&\"\"","v":""},{"$f":"入力シート!K179&\"\"","v":""},"・","現","帳"]
[{"$f":"入力シート!A180&\"\"","v":"160"},{"$f":"入力シート!B180&\"\"","v":"高松"},null,null,{"$f":"入力シート!C180&\"\"","v":""},null,null,{"$f":"入力シート!D180&\"\"","v":""},null,{"$f":"入力シート!E180&\"\"","v":""},{"$f":"IF(入力シート!F180=0,\"\",入力シート!F180)","v":""},{"$f":"入力シート!I180&\"\"","v":""},{"$f":"入力シート!J180&\"\"","v":""},{"$f":"入力シート!K180&\"\"","v":""},"・","現","帳"]
[{"$f":"入力シート!A181&\"\"","v":"161"},{"$f":"入力シート!B181&\"\"","v":"高松"},null,null,{"$f":"入力シート!C181&\"\"","v":""},null,null,{"$f":"入力シート!D181&\"\"","v":""},null,{"$f":"入力シート!E181&\"\"","v":""},{"$f":"IF(入力シート!F181=0,\"\",入力シート!F181)","v":""},{"$f":"入力シート!I181&\"\"","v":""},{"$f":"入力シート!J181&\"\"","v":""},{"$f":"入力シート!K181&\"\"","v":""},"・","現","帳"]
[{"$f":"入力シート!A182&\"\"","v":"162"},{"$f":"入力シート!B182&\"\"","v":"高松"},null,null,{"$f":"入力シート!C182&\"\"","v":""},null,null,{"$f":"入力シート!D182&\"\"","v":""},null,{"$f":"入力シート!E182&\"\"","v":""},{"$f":"IF(入力シート!F182=0,\"\",入力シート!F182)","v":""},{"$f":"入力シート!I182&\"\"","v":""},{"$f":"入力シート!J182&\"\"","v":""},{"$f":"入力シート!K182&\"\"","v":""},"・","現","帳"]
[{"$f":"入力シート!A183&\"\"","v":"163"},{"$f":"入力シート!B183&\"\"","v":"高松"},null,null,{"$f":"入力シート!C183&\"\"","v":""},null,null,{"$f":"入力シート!D183&\"\"","v":""},null,{"$f":"入力シート!E183&\"\"","v":""},{"$f":"IF(入力シート!F183=0,\"\",入力シート!F183)","v":""},{"$f":"入力シート!I183&\"\"","v":""},{"$f":"入力シート!J183&\"\"","v":""},{"$f":"入力シート!K183&\"\"","v":""},"・","現","帳"]
[{"$f":"入力シート!A184&\"\"","v":"164"},{"$f":"入力シート!B184&\"\"","v":"高松"},null,null,{"$f":"入力シート!C184&\"\"","v":""},null,null,{"$f":"入力シート!D184&\"\"","v":""},null,{"$f":"入力シート!E184&\"\"","v":""},{"$f":"IF(入力シート!F184=0,\"\",入力シート!F184)","v":""},{"$f":"入力シート!I184&\"\"","v":""},{"$f":"入力シート!J184&\"\"","v":""},{"$f":"入力シート!K184&\"\"","v":""},"・","現","帳"]
[{"$f":"入力シート!A185&\"\"","v":"165"},{"$f":"入力シート!B185&\"\"","v":"高松"},null,null,{"$f":"入力シート!C185&\"\"","v":""},null,null,{"$f":"入力シート!D185&\"\"","v":""},null,{"$f":"入力シート!E185&\"\"","v":""},{"$f":"IF(入力シート!F185=0,\"\",入力シート!F185)","v":""},{"$f":"入力シート!I185&\"\"","v":""},{"$f":"入力シート!J185&\"\"","v":""},{"$f":"入力シート!K185&\"\"","v":""},"・","現","帳"]
[{"$f":"入力シート!A186&\"\"","v":"166"},{"$f":"入力シート!B186&\"\"","v":"高松"},null,null,{"$f":"入力シート!C186&\"\"","v":""},null,null,{"$f":"入力シート!D186&\"\"","v":""},null,{"$f":"入力シート!E186&\"\"","v":""},{"$f":"IF(入力シート!F186=0,\"\",入力シート!F186)","v":""},{"$f":"入力シート!I186&\"\"","v":""},{"$f":"入力シート!J186&\"\"","v":""},{"$f":"入力シート!K186&\"\"","v":""},"・","現","帳"]
[{"$f":"入力シート!A187&\"\"","v":"167"},{"$f":"入力シート!B187&\"\"","v":"高松"},null,null,{"$f":"入力シート!C187&\"\"","v":""},null,null,{"$f":"入力シート!D187&\"\"","v":""},null,{"$f":"入力シート!E187&\"\"","v":""},{"$f":"IF(入力シート!F187=0,\"\",入力シート!F187)","v":""},{"$f":"入力シート!I187&\"\"","v":""},{"$f":"入力シート!J187&\"\"","v":""},{"$f":"入力シート!K187&\"\"","v":""},"・","現","帳"]
[{"$f":"入力シート!A188&\"\"","v":"168"},{"$f":"入力シート!B188&\"\"","v":"高松"},null,null,{"$f":"入力シート!C188&\"\"","v":""},null,null,{"$f":"入力シート!D188&\"\"","v":""},null,{"$f":"入力シート!E188&\"\"","v":""},{"$f":"IF(入力シート!F188=0,\"\",入力シート!F188)","v":""},{"$f":"入力シート!I188&\"\"","v":""},{"$f":"入力シート!J188&\"\"","v":""},{"$f":"入力シート!K188&\"\"","v":""},"・","現","帳"]
[{"$f":"入力シート!A189&\"\"","v":"169"},{"$f":"入力シート!B189&\"\"","v":"高松"},null,null,{"$f":"入力シート!C189&\"\"","v":""},null,null,{"$f":"入力シート!D189&\"\"","v":""},null,{"$f":"入力シート!E189&\"\"","v":""},{"$f":"IF(入力シート!F189=0,\"\",入力シート!F189)","v":""},{"$f":"入力シート!I189&\"\"","v":""},{"$f":"入力シート!J189&\"\"","v":""},{"$f":"入力シート!K189&\"\"","v":""},"・","現","帳"]
[{"$f":"入力シート!A190&\"\"","v":"170"},{"$f":"入力シート!B190&\"\"","v":"高松"},null,null,{"$f":"入力シート!C190&\"\"","v":""},null,null,{"$f":"入力シート!D190&\"\"","v":""},null,{"$f":"入力シート!E190&\"\"","v":""},{"$f":"IF(入力シート!F190=0,\"\",入力シート!F190)","v":""},{"$f":"入力シート!I190&\"\"","v":""},{"$f":"入力シート!J190&\"\"","v":""},{"$f":"入力シート!K190&\"\"","v":""},"・","現","帳"]
[{"$f":"入力シート!A191&\"\"","v":"171"},{"$f":"入力シート!B191&\"\"","v":"高松"},null,null,{"$f":"入力シート!C191&\"\"","v":""},null,null,{"$f":"入力シート!D191&\"\"","v":""},null,{"$f":"入力シート!E191&\"\"","v":""},{"$f":"IF(入力シート!F191=0,\"\",入力シート!F191)","v":""},{"$f":"入力シート!I191&\"\"","v":""},{"$f":"入力シート!J191&\"\"","v":""},{"$f":"入力シート!K191&\"\"","v":""},"・","現","帳"]
[{"$f":"入力シート!A192&\"\"","v":"172"},{"$f":"入力シート!B192&\"\"","v":"高松"},null,null,{"$f":"入力シート!C192&\"\"","v":""},null,null,{"$f":"入力シート!D192&\"\"","v":""},null,{"$f":"入力シート!E192&\"\"","v":""},{"$f":"IF(入力シート!F192=0,\"\",入力シート!F192)","v":""},{"$f":"入力シート!I192&\"\"","v":""},{"$f":"入力シート!J192&\"\"","v":""},{"$f":"入力シート!K192&\"\"","v":""},"・","現","帳"]
[{"$f":"入力シート!A193&\"\"","v":"173"},{"$f":"入力シート!B193&\"\"","v":"高松"},null,null,{"$f":"入力シート!C193&\"\"","v":""},null,null,{"$f":"入力シート!D193&\"\"","v":""},null,{"$f":"入力シート!E193&\"\"","v":""},{"$f":"IF(入力シート!F193=0,\"\",入力シート!F193)","v":""},{"$f":"入力シート!I193&\"\"","v":""},{"$f":"入力シート!J193&\"\"","v":""},{"$f":"入力シート!K193&\"\"","v":""},"・","現","帳"]
[{"$f":"入力シート!A194&\"\"","v":"174"},{"$f":"入力シート!B194&\"\"","v":"高松"},null,null,{"$f":"入力シート!C194&\"\"","v":""},null,null,{"$f":"入力シート!D194&\"\"","v":""},null,{"$f":"入力シート!E194&\"\"","v":""},{"$f":"IF(入力シート!F194=0,\"\",入力シート!F194)","v":""},{"$f":"入力シート!I194&\"\"","v":""},{"$f":"入力シート!J194&\"\"","v":""},{"$f":"入力シート!K194&\"\"","v":""},"・","現","帳"]
[{"$f":"入力シート!A195&\"\"","v":"175"},{"$f":"入力シート!B195&\"\"","v":"高松"},null,null,{"$f":"入力シート!C195&\"\"","v":""},null,null,{"$f":"入力シート!D195&\"\"","v":""},null,{"$f":"入力シート!E195&\"\"","v":""},{"$f":"IF(入力シート!F195=0,\"\",入力シート!F195)","v":""},{"$f":"入力シート!I195&\"\"","v":""},{"$f":"入力シート!J195&\"\"","v":""},{"$f":"入力シート!K195&\"\"","v":""},"・","現","帳"]
[{"$f":"入力シート!A196&\"\"","v":"176"},{"$f":"入力シート!B196&\"\"","v":"高松"},null,null,{"$f":"入力シート!C196&\"\"","v":""},null,null,{"$f":"入力シート!D196&\"\"","v":""},null,{"$f":"入力シート!E196&\"\"","v":""},{"$f":"IF(入力シート!F196=0,\"\",入力シート!F196)","v":""},{"$f":"入力シート!I196&\"\"","v":""},{"$f":"入力シート!J196&\"\"","v":""},{"$f":"入力シート!K196&\"\"","v":""},"・","現","帳"]
[{"$f":"入力シート!A197&\"\"","v":"177"},{"$f":"入力シート!B197&\"\"","v":"高松"},null,null,{"$f":"入力シート!C197&\"\"","v":""},null,null,{"$f":"入力シート!D197&\"\"","v":""},null,{"$f":"入力シート!E197&\"\"","v":""},{"$f":"IF(入力シート!F197=0,\"\",入力シート!F197)","v":""},{"$f":"入力シート!I197&\"\"","v":""},{"$f":"入力シート!J197&\"\"","v":""},{"$f":"入力シート!K197&\"\"","v":""},"・","現","帳"]
[{"$f":"入力シート!A198&\"\"","v":"178"},{"$f":"入力シート!B198&\"\"","v":"高松"},null,null,{"$f":"入力シート!C198&\"\"","v":""},null,null,{"$f":"入力シート!D198&\"\"","v":""},null,{"$f":"入力シート!E198&\"\"","v":""},{"$f":"IF(入力シート!F198=0,\"\",入力シート!F198)","v":""},{"$f":"入力シート!I198&\"\"","v":""},{"$f":"入力シート!J198&\"\"","v":""},{"$f":"入力シート!K198&\"\"","v":""},"・","現","帳"]
[{"$f":"入力シート!A199&\"\"","v":"179"},{"$f":"入力シート!B199&\"\"","v":"高松"},null,null,{"$f":"入力シート!C199&\"\"","v":""},null,null,{"$f":"入力シート!D199&\"\"","v":""},null,{"$f":"入力シート!E199&\"\"","v":""},{"$f":"IF(入力シート!F199=0,\"\",入力シート!F199)","v":""},{"$f":"入力シート!I199&\"\"","v":""},{"$f":"入力シート!J199&\"\"","v":""},{"$f":"入力シート!K199&\"\"","v":""},"・","現","帳"]
[{"$f":"入力シート!A200&\"\"","v":"180"},{"$f":"入力シート!B200&\"\"","v":"高松"},null,null,{"$f":"入力シート!C200&\"\"","v":""},null,null,{"$f":"入力シート!D200&\"\"","v":""},null,{"$f":"入力シート!E200&\"\"","v":""},{"$f":"IF(入力シート!F200=0,\"\",入力シート!F200)","v":""},{"$f":"入力シート!I200&\"\"","v":""},{"$f":"入力シート!J200&\"\"","v":""},{"$f":"入力シート!K200&\"\"","v":""},"・","現","帳"]
[{"$f":"入力シート!A201&\"\"","v":"181"},{"$f":"入力シート!B201&\"\"","v":"高松"},null,null,{"$f":"入力シート!C201&\"\"","v":""},null,null,{"$f":"入力シート!D201&\"\"","v":""},null,{"$f":"入力シート!E201&\"\"","v":""},{"$f":"IF(入力シート!F201=0,\"\",入力シート!F201)","v":""},{"$f":"入力シート!I201&\"\"","v":""},{"$f":"入力シート!J201&\"\"","v":""},{"$f":"入力シート!K201&\"\"","v":""},"・","現","帳"]
[{"$f":"入力シート!A202&\"\"","v":"182"},{"$f":"入力シート!B202&\"\"","v":"高松"},null,null,{"$f":"入力シート!C202&\"\"","v":""},null,null,{"$f":"入力シート!D202&\"\"","v":""},null,{"$f":"入力シート!E202&\"\"","v":""},{"$f":"IF(入力シート!F202=0,\"\",入力シート!F202)","v":""},{"$f":"入力シート!I202&\"\"","v":""},{"$f":"入力シート!J202&\"\"","v":""},{"$f":"入力シート!K202&\"\"","v":""},"・","現","帳"]
[{"$f":"入力シート!A203&\"\"","v":"183"},{"$f":"入力シート!B203&\"\"","v":"高松"},null,null,{"$f":"入力シート!C203&\"\"","v":""},null,null,{"$f":"入力シート!D203&\"\"","v":""},null,{"$f":"入力シート!E203&\"\"","v":""},{"$f":"IF(入力シート!F203=0,\"\",入力シート!F203)","v":""},{"$f":"入力シート!I203&\"\"","v":""},{"$f":"入力シート!J203&\"\"","v":""},{"$f":"入力シート!K203&\"\"","v":""},"・","現","帳"]
[{"$f":"入力シート!A204&\"\"","v":"184"},{"$f":"入力シート!B204&\"\"","v":"高松"},null,null,{"$f":"入力シート!C204&\"\"","v":""},null,null,{"$f":"入力シート!D204&\"\"","v":""},null,{"$f":"入力シート!E204&\"\"","v":""},{"$f":"IF(入力シート!F204=0,\"\",入力シート!F204)","v":""},{"$f":"入力シート!I204&\"\"","v":""},{"$f":"入力シート!J204&\"\"","v":""},{"$f":"入力シート!K204&\"\"","v":""},"・","現","帳"]
[{"$f":"入力シート!A205&\"\"","v":"185"},{"$f":"入力シート!B205&\"\"","v":"高松"},null,null,{"$f":"入力シート!C205&\"\"","v":""},null,null,{"$f":"入力シート!D205&\"\"","v":""},null,{"$f":"入力シート!E205&\"\"","v":""},{"$f":"IF(入力シート!F205=0,\"\",入力シート!F205)","v":""},{"$f":"入力シート!I205&\"\"","v":""},{"$f":"入力シート!J205&\"\"","v":""},{"$f":"入力シート!K205&\"\"","v":""},"・","現","帳"]
[{"$f":"入力シート!A206&\"\"","v":"186"},{"$f":"入力シート!B206&\"\"","v":"高松"},null,null,{"$f":"入力シート!C206&\"\"","v":""},null,null,{"$f":"入力シート!D206&\"\"","v":""},null,{"$f":"入力シート!E206&\"\"","v":""},{"$f":"IF(入力シート!F206=0,\"\",入力シート!F206)","v":""},{"$f":"入力シート!I206&\"\"","v":""},{"$f":"入力シート!J206&\"\"","v":""},{"$f":"入力シート!K206&\"\"","v":""},"・","現","帳"]
[{"$f":"入力シート!A207&\"\"","v":"187"},{"$f":"入力シート!B207&\"\"","v":"高松"},null,null,{"$f":"入力シート!C207&\"\"","v":""},null,null,{"$f":"入力シート!D207&\"\"","v":""},null,{"$f":"入力シート!E207&\"\"","v":""},{"$f":"IF(入力シート!F207=0,\"\",入力シート!F207)","v":""},{"$f":"入力シート!I207&\"\"","v":""},{"$f":"入力シート!J207&\"\"","v":""},{"$f":"入力シート!K207&\"\"","v":""},"・","現","帳"]
[{"$f":"入力シート!A208&\"\"","v":"188"},{"$f":"入力シート!B208&\"\"","v":"高松"},null,null,{"$f":"入力シート!C208&\"\"","v":""},null,null,{"$f":"入力シート!D208&\"\"","v":""},null,{"$f":"入力シート!E208&\"\"","v":""},{"$f":"IF(入力シート!F208=0,\"\",入力シート!F208)","v":""},{"$f":"入力シート!I208&\"\"","v":""},{"$f":"入力シート!J208&\"\"","v":""},{"$f":"入力シート!K208&\"\"","v":""},"・","現","帳"]
[{"$f":"入力シート!A209&\"\"","v":"189"},{"$f":"入力シート!B209&\"\"","v":"高松"},null,null,{"$f":"入力シート!C209&\"\"","v":""},null,null,{"$f":"入力シート!D209&\"\"","v":""},null,{"$f":"入力シート!E209&\"\"","v":""},{"$f":"IF(入力シート!F209=0,\"\",入力シート!F209)","v":""},{"$f":"入力シート!I209&\"\"","v":""},{"$f":"入力シート!J209&\"\"","v":""},{"$f":"入力シート!K209&\"\"","v":""},"・","現","帳"]
[{"$f":"入力シート!A210&\"\"","v":"190"},{"$f":"入力シート!B210&\"\"","v":"高松"},null,null,{"$f":"入力シート!C210&\"\"","v":""},null,null,{"$f":"入力シート!D210&\"\"","v":""},null,{"$f":"入力シート!E210&\"\"","v":""},{"$f":"IF(入力シート!F210=0,\"\",入力シート!F210)","v":""},{"$f":"入力シート!I210&\"\"","v":""},{"$f":"入力シート!J210&\"\"","v":""},{"$f":"入力シート!K210&\"\"","v":""},"・","現","帳"]
[{"$f":"入力シート!A211&\"\"","v":"191"},{"$f":"入力シート!B211&\"\"","v":"高松"},null,null,{"$f":"入力シート!C211&\"\"","v":""},null,null,{"$f":"入力シート!D211&\"\"","v":""},null,{"$f":"入力シート!E211&\"\"","v":""},{"$f":"IF(入力シート!F211=0,\"\",入力シート!F211)","v":""},{"$f":"入力シート!I211&\"\"","v":""},{"$f":"入力シート!J211&\"\"","v":""},{"$f":"入力シート!K211&\"\"","v":""},"・","現","帳"]
[{"$f":"入力シート!A212&\"\"","v":"192"},{"$f":"入力シート!B212&\"\"","v":"高松"},null,null,{"$f":"入力シート!C212&\"\"","v":""},null,null,{"$f":"入力シート!D212&\"\"","v":""},null,{"$f":"入力シート!E212&\"\"","v":""},{"$f":"IF(入力シート!F212=0,\"\",入力シート!F212)","v":""},{"$f":"入力シート!I212&\"\"","v":""},{"$f":"入力シート!J212&\"\"","v":""},{"$f":"入力シート!K212&\"\"","v":""},"・","現","帳"]
[{"$f":"入力シート!A213&\"\"","v":"193"},{"$f":"入力シート!B213&\"\"","v":"高松"},null,null,{"$f":"入力シート!C213&\"\"","v":""},null,null,{"$f":"入力シート!D213&\"\"","v":""},null,{"$f":"入力シート!E213&\"\"","v":""},{"$f":"IF(入力シート!F213=0,\"\",入力シート!F213)","v":""},{"$f":"入力シート!I213&\"\"","v":""},{"$f":"入力シート!J213&\"\"","v":""},{"$f":"入力シート!K213&\"\"","v":""},"・","現","帳"]
[{"$f":"入力シート!A214&\"\"","v":"194"},{"$f":"入力シート!B214&\"\"","v":"高松"},null,null,{"$f":"入力シート!C214&\"\"","v":""},null,null,{"$f":"入力シート!D214&\"\"","v":""},null,{"$f":"入力シート!E214&\"\"","v":""},{"$f":"IF(入力シート!F214=0,\"\",入力シート!F214)","v":""},{"$f":"入力シート!I214&\"\"","v":""},{"$f":"入力シート!J214&\"\"","v":""},{"$f":"入力シート!K214&\"\"","v":""},"・","現","帳"]
[{"$f":"入力シート!A215&\"\"","v":"195"},{"$f":"入力シート!B215&\"\"","v":"高松"},null,null,{"$f":"入力シート!C215&\"\"","v":""},null,null,{"$f":"入力シート!D215&\"\"","v":""},null,{"$f":"入力シート!E215&\"\"","v":""},{"$f":"IF(入力シート!F215=0,\"\",入力シート!F215)","v":""},{"$f":"入力シート!I215&\"\"","v":""},{"$f":"入力シート!J215&\"\"","v":""},{"$f":"入力シート!K215&\"\"","v":""},"・","現","帳"]
[{"$f":"入力シート!A216&\"\"","v":"196"},{"$f":"入力シート!B216&\"\"","v":"高松"},null,null,{"$f":"入力シート!C216&\"\"","v":""},null,null,{"$f":"入力シート!D216&\"\"","v":""},null,{"$f":"入力シート!E216&\"\"","v":""},{"$f":"IF(入力シート!F216=0,\"\",入力シート!F216)","v":""},{"$f":"入力シート!I216&\"\"","v":""},{"$f":"入力シート!J216&\"\"","v":""},{"$f":"入力シート!K216&\"\"","v":""},"・","現","帳"]
[{"$f":"入力シート!A217&\"\"","v":"197"},{"$f":"入力シート!B217&\"\"","v":"高松"},null,null,{"$f":"入力シート!C217&\"\"","v":""},null,null,{"$f":"入力シート!D217&\"\"","v":""},null,{"$f":"入力シート!E217&\"\"","v":""},{"$f":"IF(入力シート!F217=0,\"\",入力シート!F217)","v":""},{"$f":"入力シート!I217&\"\"","v":""},{"$f":"入力シート!J217&\"\"","v":""},{"$f":"入力シート!K217&\"\"","v":""},"・","現","帳"]
[{"$f":"入力シート!A218&\"\"","v":"198"},{"$f":"入力シート!B218&\"\"","v":"高松"},null,null,{"$f":"入力シート!C218&\"\"","v":""},null,null,{"$f":"入力シート!D218&\"\"","v":""},null,{"$f":"入力シート!E218&\"\"","v":""},{"$f":"IF(入力シート!F218=0,\"\",入力シート!F218)","v":""},{"$f":"入力シート!I218&\"\"","v":""},{"$f":"入力シート!J218&\"\"","v":""},{"$f":"入力シート!K218&\"\"","v":""},"・","現","帳"]
[{"$f":"入力シート!A219&\"\"","v":"199"},{"$f":"入力シート!B219&\"\"","v":"高松"},null,null,{"$f":"入力シート!C219&\"\"","v":""},null,null,{"$f":"入力シート!D219&\"\"","v":""},null,{"$f":"入力シート!E219&\"\"","v":""},{"$f":"IF(入力シート!F219=0,\"\",入力シート!F219)","v":""},{"$f":"入力シート!I219&\"\"","v":""},{"$f":"入力シート!J219&\"\"","v":""},{"$f":"入力シート!K219&\"\"","v":""},"・","現","帳"]
[{"$f":"入力シート!A220&\"\"","v":"200"},{"$f":"入力シート!B220&\"\"","v":"高松"},null,null,{"$f":"入力シート!C220&\"\"","v":""},null,null,{"$f":"入力シート!D220&\"\"","v":""},null,{"$f":"入力シート!E220&\"\"","v":""},{"$f":"IF(入力シート!F220=0,\"\",入力シート!F220)","v":""},{"$f":"入力シート!I220&\"\"","v":""},{"$f":"入力シート!J220&\"\"","v":""},{"$f":"入力シート!K220&\"\"","v":""},"・","現","帳"]
[{"$f":"入力シート!A221&\"\"","v":"201"},{"$f":"入力シート!B221&\"\"","v":"高松"},null,null,{"$f":"入力シート!C221&\"\"","v":""},null,null,{"$f":"入力シート!D221&\"\"","v":""},null,{"$f":"入力シート!E221&\"\"","v":""},{"$f":"IF(入力シート!F221=0,\"\",入力シート!F221)","v":""},{"$f":"入力シート!I221&\"\"","v":""},{"$f":"入力シート!J221&\"\"","v":""},{"$f":"入力シート!K221&\"\"","v":""},"・","現","帳"]
[{"$f":"入力シート!A222&\"\"","v":"202"},{"$f":"入力シート!B222&\"\"","v":"高松"},null,null,{"$f":"入力シート!C222&\"\"","v":""},null,null,{"$f":"入力シート!D222&\"\"","v":""},null,{"$f":"入力シート!E222&\"\"","v":""},{"$f":"IF(入力シート!F222=0,\"\",入力シート!F222)","v":""},{"$f":"入力シート!I222&\"\"","v":""},{"$f":"入力シート!J222&\"\"","v":""},{"$f":"入力シート!K222&\"\"","v":""},"・","現","帳"]
[{"$f":"入力シート!A223&\"\"","v":"203"},{"$f":"入力シート!B223&\"\"","v":"高松"},null,null,{"$f":"入力シート!C223&\"\"","v":""},null,null,{"$f":"入力シート!D223&\"\"","v":""},null,{"$f":"入力シート!E223&\"\"","v":""},{"$f":"IF(入力シート!F223=0,\"\",入力シート!F223)","v":""},{"$f":"入力シート!I223&\"\"","v":""},{"$f":"入力シート!J223&\"\"","v":""},{"$f":"入力シート!K223&\"\"","v":""},"・","現","帳"]
[{"$f":"入力シート!A224&\"\"","v":"204"},{"$f":"入力シート!B224&\"\"","v":"高松"},null,null,{"$f":"入力シート!C224&\"\"","v":""},null,null,{"$f":"入力シート!D224&\"\"","v":""},null,{"$f":"入力シート!E224&\"\"","v":""},{"$f":"IF(入力シート!F224=0,\"\",入力シート!F224)","v":""},{"$f":"入力シート!I224&\"\"","v":""},{"$f":"入力シート!J224&\"\"","v":""},{"$f":"入力シート!K224&\"\"","v":""},"・","現","帳"]
[{"$f":"入力シート!A225&\"\"","v":"205"},{"$f":"入力シート!B225&\"\"","v":"高松"},null,null,{"$f":"入力シート!C225&\"\"","v":""},null,null,{"$f":"入力シート!D225&\"\"","v":""},null,{"$f":"入力シート!E225&\"\"","v":""},{"$f":"IF(入力シート!F225=0,\"\",入力シート!F225)","v":""},{"$f":"入力シート!I225&\"\"","v":""},{"$f":"入力シート!J225&\"\"","v":""},{"$f":"入力シート!K225&\"\"","v":""},"・","現","帳"]
[{"$f":"入力シート!A226&\"\"","v":"206"},{"$f":"入力シート!B226&\"\"","v":"高松"},null,null,{"$f":"入力シート!C226&\"\"","v":""},null,null,{"$f":"入力シート!D226&\"\"","v":""},null,{"$f":"入力シート!E226&\"\"","v":""},{"$f":"IF(入力シート!F226=0,\"\",入力シート!F226)","v":""},{"$f":"入力シート!I226&\"\"","v":""},{"$f":"入力シート!J226&\"\"","v":""},{"$f":"入力シート!K226&\"\"","v":""},"・","現","帳"]
[{"$f":"入力シート!A227&\"\"","v":"207"},{"$f":"入力シート!B227&\"\"","v":"高松"},null,null,{"$f":"入力シート!C227&\"\"","v":""},null,null,{"$f":"入力シート!D227&\"\"","v":""},null,{"$f":"入力シート!E227&\"\"","v":""},{"$f":"IF(入力シート!F227=0,\"\",入力シート!F227)","v":""},{"$f":"入力シート!I227&\"\"","v":""},{"$f":"入力シート!J227&\"\"","v":""},{"$f":"入力シート!K227&\"\"","v":""},"・","現","帳"]
[{"$f":"入力シート!A228&\"\"","v":"208"},{"$f":"入力シート!B228&\"\"","v":"高松"},null,null,{"$f":"入力シート!C228&\"\"","v":""},null,null,{"$f":"入力シート!D228&\"\"","v":""},null,{"$f":"入力シート!E228&\"\"","v":""},{"$f":"IF(入力シート!F228=0,\"\",入力シート!F228)","v":""},{"$f":"入力シート!I228&\"\"","v":""},{"$f":"入力シート!J228&\"\"","v":""},{"$f":"入力シート!K228&\"\"","v":""},"・","現","帳"]
[{"$f":"入力シート!A229&\"\"","v":"209"},{"$f":"入力シート!B229&\"\"","v":"高松"},null,null,{"$f":"入力シート!C229&\"\"","v":""},null,null,{"$f":"入力シート!D229&\"\"","v":""},null,{"$f":"入力シート!E229&\"\"","v":""},{"$f":"IF(入力シート!F229=0,\"\",入力シート!F229)","v":""},{"$f":"入力シート!I229&\"\"","v":""},{"$f":"入力シート!J229&\"\"","v":""},{"$f":"入力シート!K229&\"\"","v":""},"・","現","帳"]
[{"$f":"入力シート!A230&\"\"","v":"210"},{"$f":"入力シート!B230&\"\"","v":"高松"},null,null,{"$f":"入力シート!C230&\"\"","v":""},null,null,{"$f":"入力シート!D230&\"\"","v":""},null,{"$f":"入力シート!E230&\"\"","v":""},{"$f":"IF(入力シート!F230=0,\"\",入力シート!F230)","v":""},{"$f":"入力シート!I230&\"\"","v":""},{"$f":"入力シート!J230&\"\"","v":""},{"$f":"入力シート!K230&\"\"","v":""},"・","現","帳"]
[{"$f":"入力シート!A231&\"\"","v":"211"},{"$f":"入力シート!B231&\"\"","v":"高松"},null,null,{"$f":"入力シート!C231&\"\"","v":""},null,null,{"$f":"入力シート!D231&\"\"","v":""},null,{"$f":"入力シート!E231&\"\"","v":""},{"$f":"IF(入力シート!F231=0,\"\",入力シート!F231)","v":""},{"$f":"入力シート!I231&\"\"","v":""},{"$f":"入力シート!J231&\"\"","v":""},{"$f":"入力シート!K231&\"\"","v":""},"・","現","帳"]
[{"$f":"入力シート!A232&\"\"","v":"212"},{"$f":"入力シート!B232&\"\"","v":"高松"},null,null,{"$f":"入力シート!C232&\"\"","v":""},null,null,{"$f":"入力シート!D232&\"\"","v":""},null,{"$f":"入力シート!E232&\"\"","v":""},{"$f":"IF(入力シート!F232=0,\"\",入力シート!F232)","v":""},{"$f":"入力シート!I232&\"\"","v":""},{"$f":"入力シート!J232&\"\"","v":""},{"$f":"入力シート!K232&\"\"","v":""},"・","現","帳"]
[{"$f":"入力シート!A233&\"\"","v":"213"},{"$f":"入力シート!B233&\"\"","v":"高松"},null,null,{"$f":"入力シート!C233&\"\"","v":""},null,null,{"$f":"入力シート!D233&\"\"","v":""},null,{"$f":"入力シート!E233&\"\"","v":""},{"$f":"IF(入力シート!F233=0,\"\",入力シート!F233)","v":""},{"$f":"入力シート!I233&\"\"","v":""},{"$f":"入力シート!J233&\"\"","v":""},{"$f":"入力シート!K233&\"\"","v":""},"・","現","帳"]
[{"$f":"入力シート!A234&\"\"","v":"214"},{"$f":"入力シート!B234&\"\"","v":"高松"},null,null,{"$f":"入力シート!C234&\"\"","v":""},null,null,{"$f":"入力シート!D234&\"\"","v":""},null,{"$f":"入力シート!E234&\"\"","v":""},{"$f":"IF(入力シート!F234=0,\"\",入力シート!F234)","v":""},{"$f":"入力シート!I234&\"\"","v":""},{"$f":"入力シート!J234&\"\"","v":""},{"$f":"入力シート!K234&\"\"","v":""},"・","現","帳"]
[{"$f":"入力シート!A235&\"\"","v":"215"},{"$f":"入力シート!B235&\"\"","v":"高松"},null,null,{"$f":"入力シート!C235&\"\"","v":""},null,null,{"$f":"入力シート!D235&\"\"","v":""},null,{"$f":"入力シート!E235&\"\"","v":""},{"$f":"IF(入力シート!F235=0,\"\",入力シート!F235)","v":""},{"$f":"入力シート!I235&\"\"","v":""},{"$f":"入力シート!J235&\"\"","v":""},{"$f":"入力シート!K235&\"\"","v":""},"・","現","帳"]
[{"$f":"入力シート!A236&\"\"","v":"216"},{"$f":"入力シート!B236&\"\"","v":"高松"},null,null,{"$f":"入力シート!C236&\"\"","v":""},null,null,{"$f":"入力シート!D236&\"\"","v":""},null,{"$f":"入力シート!E236&\"\"","v":""},{"$f":"IF(入力シート!F236=0,\"\",入力シート!F236)","v":""},{"$f":"入力シート!I236&\"\"","v":""},{"$f":"入力シート!J236&\"\"","v":""},{"$f":"入力シート!K236&\"\"","v":""},"・","現","帳"]
[{"$f":"入力シート!A237&\"\"","v":"217"},{"$f":"入力シート!B237&\"\"","v":"高松"},null,null,{"$f":"入力シート!C237&\"\"","v":""},null,null,{"$f":"入力シート!D237&\"\"","v":""},null,{"$f":"入力シート!E237&\"\"","v":""},{"$f":"IF(入力シート!F237=0,\"\",入力シート!F237)","v":""},{"$f":"入力シート!I237&\"\"","v":""},{"$f":"入力シート!J237&\"\"","v":""},{"$f":"入力シート!K237&\"\"","v":""},"・","現","帳"]
[{"$f":"入力シート!A238&\"\"","v":"218"},{"$f":"入力シート!B238&\"\"","v":"高松"},null,null,{"$f":"入力シート!C238&\"\"","v":""},null,null,{"$f":"入力シート!D238&\"\"","v":""},null,{"$f":"入力シート!E238&\"\"","v":""},{"$f":"IF(入力シート!F238=0,\"\",入力シート!F238)","v":""},{"$f":"入力シート!I238&\"\"","v":""},{"$f":"入力シート!J238&\"\"","v":""},{"$f":"入力シート!K238&\"\"","v":""},"・","現","帳"]
[{"$f":"入力シート!A239&\"\"","v":"219"},{"$f":"入力シート!B239&\"\"","v":"高松"},null,null,{"$f":"入力シート!C239&\"\"","v":""},null,null,{"$f":"入力シート!D239&\"\"","v":""},null,{"$f":"入力シート!E239&\"\"","v":""},{"$f":"IF(入力シート!F239=0,\"\",入力シート!F239)","v":""},{"$f":"入力シート!I239&\"\"","v":""},{"$f":"入力シート!J239&\"\"","v":""},{"$f":"入力シート!K239&\"\"","v":""},"・","現","帳"]
[{"$f":"入力シート!A240&\"\"","v":"220"},{"$f":"入力シート!B240&\"\"","v":"高松"},null,null,{"$f":"入力シート!C240&\"\"","v":""},null,null,{"$f":"入力シート!D240&\"\"","v":""},null,{"$f":"入力シート!E240&\"\"","v":""},{"$f":"IF(入力シート!F240=0,\"\",入力シート!F240)","v":""},{"$f":"入力シート!I240&\"\"","v":""},{"$f":"入力シート!J240&\"\"","v":""},{"$f":"入力シート!K240&\"\"","v":""},"・","現","帳"]
[{"$f":"入力シート!A241&\"\"","v":"221"},{"$f":"入力シート!B241&\"\"","v":"高松"},null,null,{"$f":"入力シート!C241&\"\"","v":""},null,null,{"$f":"入力シート!D241&\"\"","v":""},null,{"$f":"入力シート!E241&\"\"","v":""},{"$f":"IF(入力シート!F241=0,\"\",入力シート!F241)","v":""},{"$f":"入力シート!I241&\"\"","v":""},{"$f":"入力シート!J241&\"\"","v":""},{"$f":"入力シート!K241&\"\"","v":""},"・","現","帳"]
[{"$f":"入力シート!A242&\"\"","v":"222"},{"$f":"入力シート!B242&\"\"","v":"高松"},null,null,{"$f":"入力シート!C242&\"\"","v":""},null,null,{"$f":"入力シート!D242&\"\"","v":""},null,{"$f":"入力シート!E242&\"\"","v":""},{"$f":"IF(入力シート!F242=0,\"\",入力シート!F242)","v":""},{"$f":"入力シート!I242&\"\"","v":""},{"$f":"入力シート!J242&\"\"","v":""},{"$f":"入力シート!K242&\"\"","v":""},"・","現","帳"]
[{"$f":"入力シート!A243&\"\"","v":"223"},{"$f":"入力シート!B243&\"\"","v":"高松"},null,null,{"$f":"入力シート!C243&\"\"","v":""},null,null,{"$f":"入力シート!D243&\"\"","v":""},null,{"$f":"入力シート!E243&\"\"","v":""},{"$f":"IF(入力シート!F243=0,\"\",入力シート!F243)","v":""},{"$f":"入力シート!I243&\"\"","v":""},{"$f":"入力シート!J243&\"\"","v":""},{"$f":"入力シート!K243&\"\"","v":""},"・","現","帳"]
[{"$f":"入力シート!A244&\"\"","v":"224"},{"$f":"入力シート!B244&\"\"","v":"高松"},null,null,{"$f":"入力シート!C244&\"\"","v":""},null,null,{"$f":"入力シート!D244&\"\"","v":""},null,{"$f":"入力シート!E244&\"\"","v":""},{"$f":"IF(入力シート!F244=0,\"\",入力シート!F244)","v":""},{"$f":"入力シート!I244&\"\"","v":""},{"$f":"入力シート!J244&\"\"","v":""},{"$f":"入力シート!K244&\"\"","v":""},"・","現","帳"]
[{"$f":"入力シート!A245&\"\"","v":"225"},{"$f":"入力シート!B245&\"\"","v":"高松"},null,null,{"$f":"入力シート!C245&\"\"","v":""},null,null,{"$f":"入力シート!D245&\"\"","v":""},null,{"$f":"入力シート!E245&\"\"","v":""},{"$f":"IF(入力シート!F245=0,\"\",入力シート!F245)","v":""},{"$f":"入力シート!I245&\"\"","v":""},{"$f":"入力シート!J245&\"\"","v":""},{"$f":"入力シート!K245&\"\"","v":""},"・","現","帳"]
[{"$f":"入力シート!A246&\"\"","v":"226"},{"$f":"入力シート!B246&\"\"","v":"高松"},null,null,{"$f":"入力シート!C246&\"\"","v":""},null,null,{"$f":"入力シート!D246&\"\"","v":""},null,{"$f":"入力シート!E246&\"\"","v":""},{"$f":"IF(入力シート!F246=0,\"\",入力シート!F246)","v":""},{"$f":"入力シート!I246&\"\"","v":""},{"$f":"入力シート!J246&\"\"","v":""},{"$f":"入力シート!K246&\"\"","v":""},"・","現","帳"]
[{"$f":"入力シート!A247&\"\"","v":"227"},{"$f":"入力シート!B247&\"\"","v":"高松"},null,null,{"$f":"入力シート!C247&\"\"","v":""},null,null,{"$f":"入力シート!D247&\"\"","v":""},null,{"$f":"入力シート!E247&\"\"","v":""},{"$f":"IF(入力シート!F247=0,\"\",入力シート!F247)","v":""},{"$f":"入力シート!I247&\"\"","v":""},{"$f":"入力シート!J247&\"\"","v":""},{"$f":"入力シート!K247&\"\"","v":""},"・","現","帳"]
[{"$f":"入力シート!A248&\"\"","v":"228"},{"$f":"入力シート!B248&\"\"","v":"高松"},null,null,{"$f":"入力シート!C248&\"\"","v":""},null,null,{"$f":"入力シート!D248&\"\"","v":""},null,{"$f":"入力シート!E248&\"\"","v":""},{"$f":"IF(入力シート!F248=0,\"\",入力シート!F248)","v":""},{"$f":"入力シート!I248&\"\"","v":""},{"$f":"入力シート!J248&\"\"","v":""},{"$f":"入力シート!K248&\"\"","v":""},"・","現","帳"]
[{"$f":"入力シート!A249&\"\"","v":"229"},{"$f":"入力シート!B249&\"\"","v":"高松"},null,null,{"$f":"入力シート!C249&\"\"","v":""},null,null,{"$f":"入力シート!D249&\"\"","v":""},null,{"$f":"入力シート!E249&\"\"","v":""},{"$f":"IF(入力シート!F249=0,\"\",入力シート!F249)","v":""},{"$f":"入力シート!I249&\"\"","v":""},{"$f":"入力シート!J249&\"\"","v":""},{"$f":"入力シート!K249&\"\"","v":""},"・","現","帳"]
[{"$f":"入力シート!A250&\"\"","v":"230"},{"$f":"入力シート!B250&\"\"","v":"高松"},null,null,{"$f":"入力シート!C250&\"\"","v":""},null,null,{"$f":"入力シート!D250&\"\"","v":""},null,{"$f":"入力シート!E250&\"\"","v":""},{"$f":"IF(入力シート!F250=0,\"\",入力シート!F250)","v":""},{"$f":"入力シート!I250&\"\"","v":""},{"$f":"入力シート!J250&\"\"","v":""},{"$f":"入力シート!K250&\"\"","v":""},"・","現","帳"]
[{"$f":"入力シート!A251&\"\"","v":"231"},{"$f":"入力シート!B251&\"\"","v":"高松"},null,null,{"$f":"入力シート!C251&\"\"","v":""},null,null,{"$f":"入力シート!D251&\"\"","v":""},null,{"$f":"入力シート!E251&\"\"","v":""},{"$f":"IF(入力シート!F251=0,\"\",入力シート!F251)","v":""},{"$f":"入力シート!I251&\"\"","v":""},{"$f":"入力シート!J251&\"\"","v":""},{"$f":"入力シート!K251&\"\"","v":""},"・","現","帳"]
[{"$f":"入力シート!A252&\"\"","v":"232"},{"$f":"入力シート!B252&\"\"","v":"高松"},null,null,{"$f":"入力シート!C252&\"\"","v":""},null,null,{"$f":"入力シート!D252&\"\"","v":""},null,{"$f":"入力シート!E252&\"\"","v":""},{"$f":"IF(入力シート!F252=0,\"\",入力シート!F252)","v":""},{"$f":"入力シート!I252&\"\"","v":""},{"$f":"入力シート!J252&\"\"","v":""},{"$f":"入力シート!K252&\"\"","v":""},"・","現","帳"]
[{"$f":"入力シート!A253&\"\"","v":"233"},{"$f":"入力シート!B253&\"\"","v":"高松"},null,null,{"$f":"入力シート!C253&\"\"","v":""},null,null,{"$f":"入力シート!D253&\"\"","v":""},null,{"$f":"入力シート!E253&\"\"","v":""},{"$f":"IF(入力シート!F253=0,\"\",入力シート!F253)","v":""},{"$f":"入力シート!I253&\"\"","v":""},{"$f":"入力シート!J253&\"\"","v":""},{"$f":"入力シート!K253&\"\"","v":""},"・","現","帳"]
[{"$f":"入力シート!A254&\"\"","v":"234"},{"$f":"入力シート!B254&\"\"","v":"高松"},null,null,{"$f":"入力シート!C254&\"\"","v":""},null,null,{"$f":"入力シート!D254&\"\"","v":""},null,{"$f":"入力シート!E254&\"\"","v":""},{"$f":"IF(入力シート!F254=0,\"\",入力シート!F254)","v":""},{"$f":"入力シート!I254&\"\"","v":""},{"$f":"入力シート!J254&\"\"","v":""},{"$f":"入力シート!K254&\"\"","v":""},"・","現","帳"]
[{"$f":"入力シート!A255&\"\"","v":"235"},{"$f":"入力シート!B255&\"\"","v":"高松"},null,null,{"$f":"入力シート!C255&\"\"","v":""},null,null,{"$f":"入力シート!D255&\"\"","v":""},null,{"$f":"入力シート!E255&\"\"","v":""},{"$f":"IF(入力シート!F255=0,\"\",入力シート!F255)","v":""},{"$f":"入力シート!I255&\"\"","v":""},{"$f":"入力シート!J255&\"\"","v":""},{"$f":"入力シート!K255&\"\"","v":""},"・","現","帳"]
[{"$f":"入力シート!A256&\"\"","v":"236"},{"$f":"入力シート!B256&\"\"","v":"高松"},null,null,{"$f":"入力シート!C256&\"\"","v":""},null,null,{"$f":"入力シート!D256&\"\"","v":""},null,{"$f":"入力シート!E256&\"\"","v":""},{"$f":"IF(入力シート!F256=0,\"\",入力シート!F256)","v":""},{"$f":"入力シート!I256&\"\"","v":""},{"$f":"入力シート!J256&\"\"","v":""},{"$f":"入力シート!K256&\"\"","v":""},"・","現","帳"]
[{"$f":"入力シート!A257&\"\"","v":"237"},{"$f":"入力シート!B257&\"\"","v":"高松"},null,null,{"$f":"入力シート!C257&\"\"","v":""},null,null,{"$f":"入力シート!D257&\"\"","v":""},null,{"$f":"入力シート!E257&\"\"","v":""},{"$f":"IF(入力シート!F257=0,\"\",入力シート!F257)","v":""},{"$f":"入力シート!I257&\"\"","v":""},{"$f":"入力シート!J257&\"\"","v":""},{"$f":"入力シート!K257&\"\"","v":""},"・","現","帳"]
[{"$f":"入力シート!A258&\"\"","v":"238"},{"$f":"入力シート!B258&\"\"","v":"高松"},null,null,{"$f":"入力シート!C258&\"\"","v":""},null,null,{"$f":"入力シート!D258&\"\"","v":""},null,{"$f":"入力シート!E258&\"\"","v":""},{"$f":"IF(入力シート!F258=0,\"\",入力シート!F258)","v":""},{"$f":"入力シート!I258&\"\"","v":""},{"$f":"入力シート!J258&\"\"","v":""},{"$f":"入力シート!K258&\"\"","v":""},"・","現","帳"]
[{"$f":"入力シート!A259&\"\"","v":"239"},{"$f":"入力シート!B259&\"\"","v":"高松"},null,null,{"$f":"入力シート!C259&\"\"","v":""},null,null,{"$f":"入力シート!D259&\"\"","v":""},null,{"$f":"入力シート!E259&\"\"","v":""},{"$f":"IF(入力シート!F259=0,\"\",入力シート!F259)","v":""},{"$f":"入力シート!I259&\"\"","v":""},{"$f":"入力シート!J259&\"\"","v":""},{"$f":"入力シート!K259&\"\"","v":""},"・","現","帳"]
[{"$f":"入力シート!A260&\"\"","v":"240"},{"$f":"入力シート!B260&\"\"","v":"高松"},null,null,{"$f":"入力シート!C260&\"\"","v":""},null,null,{"$f":"入力シート!D260&\"\"","v":""},null,{"$f":"入力シート!E260&\"\"","v":""},{"$f":"IF(入力シート!F260=0,\"\",入力シート!F260)","v":""},{"$f":"入力シート!I260&\"\"","v":""},{"$f":"入力シート!J260&\"\"","v":""},{"$f":"入力シート!K260&\"\"","v":""},"・","現","帳"]
[{"$f":"入力シート!A261&\"\"","v":"241"},{"$f":"入力シート!B261&\"\"","v":"高松"},null,null,{"$f":"入力シート!C261&\"\"","v":""},null,null,{"$f":"入力シート!D261&\"\"","v":""},null,{"$f":"入力シート!E261&\"\"","v":""},{"$f":"IF(入力シート!F261=0,\"\",入力シート!F261)","v":""},{"$f":"入力シート!I261&\"\"","v":""},{"$f":"入力シート!J261&\"\"","v":""},{"$f":"入力シート!K261&\"\"","v":""},"・","現","帳"]
[{"$f":"入力シート!A262&\"\"","v":"242"},{"$f":"入力シート!B262&\"\"","v":"高松"},null,null,{"$f":"入力シート!C262&\"\"","v":""},null,null,{"$f":"入力シート!D262&\"\"","v":""},null,{"$f":"入力シート!E262&\"\"","v":""},{"$f":"IF(入力シート!F262=0,\"\",入力シート!F262)","v":""},{"$f":"入力シート!I262&\"\"","v":""},{"$f":"入力シート!J262&\"\"","v":""},{"$f":"入力シート!K262&\"\"","v":""},"・","現","帳"]
[{"$f":"入力シート!A263&\"\"","v":"243"},{"$f":"入力シート!B263&\"\"","v":"高松"},null,null,{"$f":"入力シート!C263&\"\"","v":""},null,null,{"$f":"入力シート!D263&\"\"","v":""},null,{"$f":"入力シート!E263&\"\"","v":""},{"$f":"IF(入力シート!F263=0,\"\",入力シート!F263)","v":""},{"$f":"入力シート!I263&\"\"","v":""},{"$f":"入力シート!J263&\"\"","v":""},{"$f":"入力シート!K263&\"\"","v":""},"・","現","帳"]
[{"$f":"入力シート!A264&\"\"","v":"244"},{"$f":"入力シート!B264&\"\"","v":"高松"},null,null,{"$f":"入力シート!C264&\"\"","v":""},null,null,{"$f":"入力シート!D264&\"\"","v":""},null,{"$f":"入力シート!E264&\"\"","v":""},{"$f":"IF(入力シート!F264=0,\"\",入力シート!F264)","v":""},{"$f":"入力シート!I264&\"\"","v":""},{"$f":"入力シート!J264&\"\"","v":""},{"$f":"入力シート!K264&\"\"","v":""},"・","現","帳"]
[{"$f":"入力シート!A265&\"\"","v":"245"},{"$f":"入力シート!B265&\"\"","v":"高松"},null,null,{"$f":"入力シート!C265&\"\"","v":""},null,null,{"$f":"入力シート!D265&\"\"","v":""},null,{"$f":"入力シート!E265&\"\"","v":""},{"$f":"IF(入力シート!F265=0,\"\",入力シート!F265)","v":""},{"$f":"入力シート!I265&\"\"","v":""},{"$f":"入力シート!J265&\"\"","v":""},{"$f":"入力シート!K265&\"\"","v":""},"・","現","帳"]
[{"$f":"入力シート!A266&\"\"","v":"246"},{"$f":"入力シート!B266&\"\"","v":"高松"},null,null,{"$f":"入力シート!C266&\"\"","v":""},null,null,{"$f":"入力シート!D266&\"\"","v":""},null,{"$f":"入力シート!E266&\"\"","v":""},{"$f":"IF(入力シート!F266=0,\"\",入力シート!F266)","v":""},{"$f":"入力シート!I266&\"\"","v":""},{"$f":"入力シート!J266&\"\"","v":""},{"$f":"入力シート!K266&\"\"","v":""},"・","現","帳"]
[{"$f":"入力シート!A267&\"\"","v":"247"},{"$f":"入力シート!B267&\"\"","v":"高松"},null,null,{"$f":"入力シート!C267&\"\"","v":""},null,null,{"$f":"入力シート!D267&\"\"","v":""},null,{"$f":"入力シート!E267&\"\"","v":""},{"$f":"IF(入力シート!F267=0,\"\",入力シート!F267)","v":""},{"$f":"入力シート!I267&\"\"","v":""},{"$f":"入力シート!J267&\"\"","v":""},{"$f":"入力シート!K267&\"\"","v":""},"・","現","帳"]
[{"$f":"入力シート!A268&\"\"","v":"248"},{"$f":"入力シート!B268&\"\"","v":"高松"},null,null,{"$f":"入力シート!C268&\"\"","v":""},null,null,{"$f":"入力シート!D268&\"\"","v":""},null,{"$f":"入力シート!E268&\"\"","v":""},{"$f":"IF(入力シート!F268=0,\"\",入力シート!F268)","v":""},{"$f":"入力シート!I268&\"\"","v":""},{"$f":"入力シート!J268&\"\"","v":""},{"$f":"入力シート!K268&\"\"","v":""},"・","現","帳"]
[{"$f":"入力シート!A269&\"\"","v":"249"},{"$f":"入力シート!B269&\"\"","v":"高松"},null,null,{"$f":"入力シート!C269&\"\"","v":""},null,null,{"$f":"入力シート!D269&\"\"","v":""},null,{"$f":"入力シート!E269&\"\"","v":""},{"$f":"IF(入力シート!F269=0,\"\",入力シート!F269)","v":""},{"$f":"入力シート!I269&\"\"","v":""},{"$f":"入力シート!J269&\"\"","v":""},{"$f":"入力シート!K269&\"\"","v":""},"・","現","帳"]
[{"$f":"入力シート!A270&\"\"","v":"250"},{"$f":"入力シート!B270&\"\"","v":"高松"},null,null,{"$f":"入力シート!C270&\"\"","v":""},null,null,{"$f":"入力シート!D270&\"\"","v":""},null,{"$f":"入力シート!E270&\"\"","v":""},{"$f":"IF(入力シート!F270=0,\"\",入力シート!F270)","v":""},{"$f":"入力シート!I270&\"\"","v":""},{"$f":"入力シート!J270&\"\"","v":""},{"$f":"入力シート!K270&\"\"","v":""},"・","現","帳"]
[{"$f":"入力シート!A271&\"\"","v":"251"},{"$f":"入力シート!B271&\"\"","v":"高松"},null,null,{"$f":"入力シート!C271&\"\"","v":""},null,null,{"$f":"入力シート!D271&\"\"","v":""},null,{"$f":"入力シート!E271&\"\"","v":""},{"$f":"IF(入力シート!F271=0,\"\",入力シート!F271)","v":""},{"$f":"入力シート!I271&\"\"","v":""},{"$f":"入力シート!J271&\"\"","v":""},{"$f":"入力シート!K271&\"\"","v":""},"・","現","帳"]
[{"$f":"入力シート!A272&\"\"","v":"252"},{"$f":"入力シート!B272&\"\"","v":"高松"},null,null,{"$f":"入力シート!C272&\"\"","v":""},null,null,{"$f":"入力シート!D272&\"\"","v":""},null,{"$f":"入力シート!E272&\"\"","v":""},{"$f":"IF(入力シート!F272=0,\"\",入力シート!F272)","v":""},{"$f":"入力シート!I272&\"\"","v":""},{"$f":"入力シート!J272&\"\"","v":""},{"$f":"入力シート!K272&\"\"","v":""},"・","現","帳"]
[{"$f":"入力シート!A273&\"\"","v":"253"},{"$f":"入力シート!B273&\"\"","v":"高松"},null,null,{"$f":"入力シート!C273&\"\"","v":""},null,null,{"$f":"入力シート!D273&\"\"","v":""},null,{"$f":"入力シート!E273&\"\"","v":""},{"$f":"IF(入力シート!F273=0,\"\",入力シート!F273)","v":""},{"$f":"入力シート!I273&\"\"","v":""},{"$f":"入力シート!J273&\"\"","v":""},{"$f":"入力シート!K273&\"\"","v":""},"・","現","帳"]
[{"$f":"入力シート!A274&\"\"","v":"254"},{"$f":"入力シート!B274&\"\"","v":"高松"},null,null,{"$f":"入力シート!C274&\"\"","v":""},null,null,{"$f":"入力シート!D274&\"\"","v":""},null,{"$f":"入力シート!E274&\"\"","v":""},{"$f":"IF(入力シート!F274=0,\"\",入力シート!F274)","v":""},{"$f":"入力シート!I274&\"\"","v":""},{"$f":"入力シート!J274&\"\"","v":""},{"$f":"入力シート!K274&\"\"","v":""},"・","現","帳"]
[{"$f":"入力シート!A275&\"\"","v":"255"},{"$f":"入力シート!B275&\"\"","v":"高松"},null,null,{"$f":"入力シート!C275&\"\"","v":""},null,null,{"$f":"入力シート!D275&\"\"","v":""},null,{"$f":"入力シート!E275&\"\"","v":""},{"$f":"IF(入力シート!F275=0,\"\",入力シート!F275)","v":""},{"$f":"入力シート!I275&\"\"","v":""},{"$f":"入力シート!J275&\"\"","v":""},{"$f":"入力シート!K275&\"\"","v":""},"・","現","帳"]
[{"$f":"入力シート!A276&\"\"","v":"256"},{"$f":"入力シート!B276&\"\"","v":"高松"},null,null,{"$f":"入力シート!C276&\"\"","v":""},null,null,{"$f":"入力シート!D276&\"\"","v":""},null,{"$f":"入力シート!E276&\"\"","v":""},{"$f":"IF(入力シート!F276=0,\"\",入力シート!F276)","v":""},{"$f":"入力シート!I276&\"\"","v":""},{"$f":"入力シート!J276&\"\"","v":""},{"$f":"入力シート!K276&\"\"","v":""},"・","現","帳"]
[{"$f":"入力シート!A277&\"\"","v":"257"},{"$f":"入力シート!B277&\"\"","v":"高松"},null,null,{"$f":"入力シート!C277&\"\"","v":""},null,null,{"$f":"入力シート!D277&\"\"","v":""},null,{"$f":"入力シート!E277&\"\"","v":""},{"$f":"IF(入力シート!F277=0,\"\",入力シート!F277)","v":""},{"$f":"入力シート!I277&\"\"","v":""},{"$f":"入力シート!J277&\"\"","v":""},{"$f":"入力シート!K277&\"\"","v":""},"・","現","帳"]
[{"$f":"入力シート!A278&\"\"","v":"258"},{"$f":"入力シート!B278&\"\"","v":"高松"},null,null,{"$f":"入力シート!C278&\"\"","v":""},null,null,{"$f":"入力シート!D278&\"\"","v":""},null,{"$f":"入力シート!E278&\"\"","v":""},{"$f":"IF(入力シート!F278=0,\"\",入力シート!F278)","v":""},{"$f":"入力シート!I278&\"\"","v":""},{"$f":"入力シート!J278&\"\"","v":""},{"$f":"入力シート!K278&\"\"","v":""},"・","現","帳"]
[{"$f":"入力シート!A279&\"\"","v":"259"},{"$f":"入力シート!B279&\"\"","v":"高松"},null,null,{"$f":"入力シート!C279&\"\"","v":""},null,null,{"$f":"入力シート!D279&\"\"","v":""},null,{"$f":"入力シート!E279&\"\"","v":""},{"$f":"IF(入力シート!F279=0,\"\",入力シート!F279)","v":""},{"$f":"入力シート!I279&\"\"","v":""},{"$f":"入力シート!J279&\"\"","v":""},{"$f":"入力シート!K279&\"\"","v":""},"・","現","帳"]
[{"$f":"入力シート!A280&\"\"","v":"260"},{"$f":"入力シート!B280&\"\"","v":"高松"},null,null,{"$f":"入力シート!C280&\"\"","v":""},null,null,{"$f":"入力シート!D280&\"\"","v":""},null,{"$f":"入力シート!E280&\"\"","v":""},{"$f":"IF(入力シート!F280=0,\"\",入力シート!F280)","v":""},{"$f":"入力シート!I280&\"\"","v":""},{"$f":"入力シート!J280&\"\"","v":""},{"$f":"入力シート!K280&\"\"","v":""},"・","現","帳"]
[{"$f":"入力シート!A281&\"\"","v":"261"},{"$f":"入力シート!B281&\"\"","v":"高松"},null,null,{"$f":"入力シート!C281&\"\"","v":""},null,null,{"$f":"入力シート!D281&\"\"","v":""},null,{"$f":"入力シート!E281&\"\"","v":""},{"$f":"IF(入力シート!F281=0,\"\",入力シート!F281)","v":""},{"$f":"入力シート!I281&\"\"","v":""},{"$f":"入力シート!J281&\"\"","v":""},{"$f":"入力シート!K281&\"\"","v":""},"・","現","帳"]
[{"$f":"入力シート!A282&\"\"","v":"262"},{"$f":"入力シート!B282&\"\"","v":"高松"},null,null,{"$f":"入力シート!C282&\"\"","v":""},null,null,{"$f":"入力シート!D282&\"\"","v":""},null,{"$f":"入力シート!E282&\"\"","v":""},{"$f":"IF(入力シート!F282=0,\"\",入力シート!F282)","v":""},{"$f":"入力シート!I282&\"\"","v":""},{"$f":"入力シート!J282&\"\"","v":""},{"$f":"入力シート!K282&\"\"","v":""},"・","現","帳"]
[{"$f":"入力シート!A283&\"\"","v":"263"},{"$f":"入力シート!B283&\"\"","v":"高松"},null,null,{"$f":"入力シート!C283&\"\"","v":""},null,null,{"$f":"入力シート!D283&\"\"","v":""},null,{"$f":"入力シート!E283&\"\"","v":""},{"$f":"IF(入力シート!F283=0,\"\",入力シート!F283)","v":""},{"$f":"入力シート!I283&\"\"","v":""},{"$f":"入力シート!J283&\"\"","v":""},{"$f":"入力シート!K283&\"\"","v":""},"・","現","帳"]
[{"$f":"入力シート!A284&\"\"","v":"264"},{"$f":"入力シート!B284&\"\"","v":"高松"},null,null,{"$f":"入力シート!C284&\"\"","v":""},null,null,{"$f":"入力シート!D284&\"\"","v":""},null,{"$f":"入力シート!E284&\"\"","v":""},{"$f":"IF(入力シート!F284=0,\"\",入力シート!F284)","v":""},{"$f":"入力シート!I284&\"\"","v":""},{"$f":"入力シート!J284&\"\"","v":""},{"$f":"入力シート!K284&\"\"","v":""},"・","現","帳"]
[{"$f":"入力シート!A285&\"\"","v":"265"},{"$f":"入力シート!B285&\"\"","v":"高松"},null,null,{"$f":"入力シート!C285&\"\"","v":""},null,null,{"$f":"入力シート!D285&\"\"","v":""},null,{"$f":"入力シート!E285&\"\"","v":""},{"$f":"IF(入力シート!F285=0,\"\",入力シート!F285)","v":""},{"$f":"入力シート!I285&\"\"","v":""},{"$f":"入力シート!J285&\"\"","v":""},{"$f":"入力シート!K285&\"\"","v":""},"・","現","帳"]
[{"$f":"入力シート!A286&\"\"","v":"266"},{"$f":"入力シート!B286&\"\"","v":"高松"},null,null,{"$f":"入力シート!C286&\"\"","v":""},null,null,{"$f":"入力シート!D286&\"\"","v":""},null,{"$f":"入力シート!E286&\"\"","v":""},{"$f":"IF(入力シート!F286=0,\"\",入力シート!F286)","v":""},{"$f":"入力シート!I286&\"\"","v":""},{"$f":"入力シート!J286&\"\"","v":""},{"$f":"入力シート!K286&\"\"","v":""},"・","現","帳"]
[{"$f":"入力シート!A287&\"\"","v":"267"},{"$f":"入力シート!B287&\"\"","v":"高松"},null,null,{"$f":"入力シート!C287&\"\"","v":""},null,null,{"$f":"入力シート!D287&\"\"","v":""},null,{"$f":"入力シート!E287&\"\"","v":""},{"$f":"IF(入力シート!F287=0,\"\",入力シート!F287)","v":""},{"$f":"入力シート!I287&\"\"","v":""},{"$f":"入力シート!J287&\"\"","v":""},{"$f":"入力シート!K287&\"\"","v":""},"・","現","帳"]
[{"$f":"入力シート!A288&\"\"","v":"268"},{"$f":"入力シート!B288&\"\"","v":"高松"},null,null,{"$f":"入力シート!C288&\"\"","v":""},null,null,{"$f":"入力シート!D288&\"\"","v":""},null,{"$f":"入力シート!E288&\"\"","v":""},{"$f":"IF(入力シート!F288=0,\"\",入力シート!F288)","v":""},{"$f":"入力シート!I288&\"\"","v":""},{"$f":"入力シート!J288&\"\"","v":""},{"$f":"入力シート!K288&\"\"","v":""},"・","現","帳"]
[{"$f":"入力シート!A289&\"\"","v":"269"},{"$f":"入力シート!B289&\"\"","v":"高松"},null,null,{"$f":"入力シート!C289&\"\"","v":""},null,null,{"$f":"入力シート!D289&\"\"","v":""},null,{"$f":"入力シート!E289&\"\"","v":""},{"$f":"IF(入力シート!F289=0,\"\",入力シート!F289)","v":""},{"$f":"入力シート!I289&\"\"","v":""},{"$f":"入力シート!J289&\"\"","v":""},{"$f":"入力シート!K289&\"\"","v":""},"・","現","帳"]
[{"$f":"入力シート!A290&\"\"","v":"270"},{"$f":"入力シート!B290&\"\"","v":"高松"},null,null,{"$f":"入力シート!C290&\"\"","v":""},null,null,{"$f":"入力シート!D290&\"\"","v":""},null,{"$f":"入力シート!E290&\"\"","v":""},{"$f":"IF(入力シート!F290=0,\"\",入力シート!F290)","v":""},{"$f":"入力シート!I290&\"\"","v":""},{"$f":"入力シート!J290&\"\"","v":""},{"$f":"入力シート!K290&\"\"","v":""},"・","現","帳"]
[{"$f":"入力シート!A291&\"\"","v":"271"},{"$f":"入力シート!B291&\"\"","v":"高松"},null,null,{"$f":"入力シート!C291&\"\"","v":""},null,null,{"$f":"入力シート!D291&\"\"","v":""},null,{"$f":"入力シート!E291&\"\"","v":""},{"$f":"IF(入力シート!F291=0,\"\",入力シート!F291)","v":""},{"$f":"入力シート!I291&\"\"","v":""},{"$f":"入力シート!J291&\"\"","v":""},{"$f":"入力シート!K291&\"\"","v":""},"・","現","帳"]
[{"$f":"入力シート!A292&\"\"","v":"272"},{"$f":"入力シート!B292&\"\"","v":"高松"},null,null,{"$f":"入力シート!C292&\"\"","v":""},null,null,{"$f":"入力シート!D292&\"\"","v":""},null,{"$f":"入力シート!E292&\"\"","v":""},{"$f":"IF(入力シート!F292=0,\"\",入力シート!F292)","v":""},{"$f":"入力シート!I292&\"\"","v":""},{"$f":"入力シート!J292&\"\"","v":""},{"$f":"入力シート!K292&\"\"","v":""},"・","現","帳"]
[{"$f":"入力シート!A293&\"\"","v":"273"},{"$f":"入力シート!B293&\"\"","v":"高松"},null,null,{"$f":"入力シート!C293&\"\"","v":""},null,null,{"$f":"入力シート!D293&\"\"","v":""},null,{"$f":"入力シート!E293&\"\"","v":""},{"$f":"IF(入力シート!F293=0,\"\",入力シート!F293)","v":""},{"$f":"入力シート!I293&\"\"","v":""},{"$f":"入力シート!J293&\"\"","v":""},{"$f":"入力シート!K293&\"\"","v":""},"・","現","帳"]
[{"$f":"入力シート!A294&\"\"","v":"274"},{"$f":"入力シート!B294&\"\"","v":"高松"},null,null,{"$f":"入力シート!C294&\"\"","v":""},null,null,{"$f":"入力シート!D294&\"\"","v":""},null,{"$f":"入力シート!E294&\"\"","v":""},{"$f":"IF(入力シート!F294=0,\"\",入力シート!F294)","v":""},{"$f":"入力シート!I294&\"\"","v":""},{"$f":"入力シート!J294&\"\"","v":""},{"$f":"入力シート!K294&\"\"","v":""},"・","現","帳"]
[{"$f":"入力シート!A295&\"\"","v":"275"},{"$f":"入力シート!B295&\"\"","v":"高松"},null,null,{"$f":"入力シート!C295&\"\"","v":""},null,null,{"$f":"入力シート!D295&\"\"","v":""},null,{"$f":"入力シート!E295&\"\"","v":""},{"$f":"IF(入力シート!F295=0,\"\",入力シート!F295)","v":""},{"$f":"入力シート!I295&\"\"","v":""},{"$f":"入力シート!J295&\"\"","v":""},{"$f":"入力シート!K295&\"\"","v":""},"・","現","帳"]
[{"$f":"入力シート!A296&\"\"","v":"276"},{"$f":"入力シート!B296&\"\"","v":"高松"},null,null,{"$f":"入力シート!C296&\"\"","v":""},null,null,{"$f":"入力シート!D296&\"\"","v":""},null,{"$f":"入力シート!E296&\"\"","v":""},{"$f":"IF(入力シート!F296=0,\"\",入力シート!F296)","v":""},{"$f":"入力シート!I296&\"\"","v":""},{"$f":"入力シート!J296&\"\"","v":""},{"$f":"入力シート!K296&\"\"","v":""},"・","現","帳"]
[{"$f":"入力シート!A297&\"\"","v":"277"},{"$f":"入力シート!B297&\"\"","v":"高松"},null,null,{"$f":"入力シート!C297&\"\"","v":""},null,null,{"$f":"入力シート!D297&\"\"","v":""},null,{"$f":"入力シート!E297&\"\"","v":""},{"$f":"IF(入力シート!F297=0,\"\",入力シート!F297)","v":""},{"$f":"入力シート!I297&\"\"","v":""},{"$f":"入力シート!J297&\"\"","v":""},{"$f":"入力シート!K297&\"\"","v":""},"・","現","帳"]
[{"$f":"入力シート!A298&\"\"","v":"278"},{"$f":"入力シート!B298&\"\"","v":"高松"},null,null,{"$f":"入力シート!C298&\"\"","v":""},null,null,{"$f":"入力シート!D298&\"\"","v":""},null,{"$f":"入力シート!E298&\"\"","v":""},{"$f":"IF(入力シート!F298=0,\"\",入力シート!F298)","v":""},{"$f":"入力シート!I298&\"\"","v":""},{"$f":"入力シート!J298&\"\"","v":""},{"$f":"入力シート!K298&\"\"","v":""},"・","現","帳"]
[{"$f":"入力シート!A299&\"\"","v":"279"},{"$f":"入力シート!B299&\"\"","v":"高松"},null,null,{"$f":"入力シート!C299&\"\"","v":""},null,null,{"$f":"入力シート!D299&\"\"","v":""},null,{"$f":"入力シート!E299&\"\"","v":""},{"$f":"IF(入力シート!F299=0,\"\",入力シート!F299)","v":""},{"$f":"入力シート!I299&\"\"","v":""},{"$f":"入力シート!J299&\"\"","v":""},{"$f":"入力シート!K299&\"\"","v":""},"・","現","帳"]
[{"$f":"入力シート!A300&\"\"","v":"280"},{"$f":"入力シート!B300&\"\"","v":"高松"},null,null,{"$f":"入力シート!C300&\"\"","v":""},null,null,{"$f":"入力シート!D300&\"\"","v":""},null,{"$f":"入力シート!E300&\"\"","v":""},{"$f":"IF(入力シート!F300=0,\"\",入力シート!F300)","v":""},{"$f":"入力シート!I300&\"\"","v":""},{"$f":"入力シート!J300&\"\"","v":""},{"$f":"入力シート!K300&\"\"","v":""},"・","現","帳"]
[{"$f":"入力シート!A301&\"\"","v":"281"},{"$f":"入力シート!B301&\"\"","v":"高松"},null,null,{"$f":"入力シート!C301&\"\"","v":""},null,null,{"$f":"入力シート!D301&\"\"","v":""},null,{"$f":"入力シート!E301&\"\"","v":""},{"$f":"IF(入力シート!F301=0,\"\",入力シート!F301)","v":""},{"$f":"入力シート!I301&\"\"","v":""},{"$f":"入力シート!J301&\"\"","v":""},{"$f":"入力シート!K301&\"\"","v":""},"・","現","帳"]
[{"$f":"入力シート!A302&\"\"","v":"282"},{"$f":"入力シート!B302&\"\"","v":"高松"},null,null,{"$f":"入力シート!C302&\"\"","v":""},null,null,{"$f":"入力シート!D302&\"\"","v":""},null,{"$f":"入力シート!E302&\"\"","v":""},{"$f":"IF(入力シート!F302=0,\"\",入力シート!F302)","v":""},{"$f":"入力シート!I302&\"\"","v":""},{"$f":"入力シート!J302&\"\"","v":""},{"$f":"入力シート!K302&\"\"","v":""},"・","現","帳"]
[{"$f":"入力シート!A303&\"\"","v":"283"},{"$f":"入力シート!B303&\"\"","v":"高松"},null,null,{"$f":"入力シート!C303&\"\"","v":""},null,null,{"$f":"入力シート!D303&\"\"","v":""},null,{"$f":"入力シート!E303&\"\"","v":""},{"$f":"IF(入力シート!F303=0,\"\",入力シート!F303)","v":""},{"$f":"入力シート!I303&\"\"","v":""},{"$f":"入力シート!J303&\"\"","v":""},{"$f":"入力シート!K303&\"\"","v":""},"・","現","帳"]
[{"$f":"入力シート!A304&\"\"","v":"284"},{"$f":"入力シート!B304&\"\"","v":"高松"},null,null,{"$f":"入力シート!C304&\"\"","v":""},null,null,{"$f":"入力シート!D304&\"\"","v":""},null,{"$f":"入力シート!E304&\"\"","v":""},{"$f":"IF(入力シート!F304=0,\"\",入力シート!F304)","v":""},{"$f":"入力シート!I304&\"\"","v":""},{"$f":"入力シート!J304&\"\"","v":""},{"$f":"入力シート!K304&\"\"","v":""},"・","現","帳"]
[{"$f":"入力シート!A305&\"\"","v":"285"},{"$f":"入力シート!B305&\"\"","v":"高松"},null,null,{"$f":"入力シート!C305&\"\"","v":""},null,null,{"$f":"入力シート!D305&\"\"","v":""},null,{"$f":"入力シート!E305&\"\"","v":""},{"$f":"IF(入力シート!F305=0,\"\",入力シート!F305)","v":""},{"$f":"入力シート!I305&\"\"","v":""},{"$f":"入力シート!J305&\"\"","v":""},{"$f":"入力シート!K305&\"\"","v":""},"・","現","帳"]
[{"$f":"入力シート!A306&\"\"","v":"286"},{"$f":"入力シート!B306&\"\"","v":"高松"},null,null,{"$f":"入力シート!C306&\"\"","v":""},null,null,{"$f":"入力シート!D306&\"\"","v":""},null,{"$f":"入力シート!E306&\"\"","v":""},{"$f":"IF(入力シート!F306=0,\"\",入力シート!F306)","v":""},{"$f":"入力シート!I306&\"\"","v":""},{"$f":"入力シート!J306&\"\"","v":""},{"$f":"入力シート!K306&\"\"","v":""},"・","現","帳"]
[{"$f":"入力シート!A307&\"\"","v":"287"},{"$f":"入力シート!B307&\"\"","v":"高松"},null,null,{"$f":"入力シート!C307&\"\"","v":""},null,null,{"$f":"入力シート!D307&\"\"","v":""},null,{"$f":"入力シート!E307&\"\"","v":""},{"$f":"IF(入力シート!F307=0,\"\",入力シート!F307)","v":""},{"$f":"入力シート!I307&\"\"","v":""},{"$f":"入力シート!J307&\"\"","v":""},{"$f":"入力シート!K307&\"\"","v":""},"・","現","帳"]
[{"$f":"入力シート!A308&\"\"","v":"288"},{"$f":"入力シート!B308&\"\"","v":"高松"},null,null,{"$f":"入力シート!C308&\"\"","v":""},null,null,{"$f":"入力シート!D308&\"\"","v":""},null,{"$f":"入力シート!E308&\"\"","v":""},{"$f":"IF(入力シート!F308=0,\"\",入力シート!F308)","v":""},{"$f":"入力シート!I308&\"\"","v":""},{"$f":"入力シート!J308&\"\"","v":""},{"$f":"入力シート!K308&\"\"","v":""},"・","現","帳"]
[{"$f":"入力シート!A309&\"\"","v":"289"},{"$f":"入力シート!B309&\"\"","v":"高松"},null,null,{"$f":"入力シート!C309&\"\"","v":""},null,null,{"$f":"入力シート!D309&\"\"","v":""},null,{"$f":"入力シート!E309&\"\"","v":""},{"$f":"IF(入力シート!F309=0,\"\",入力シート!F309)","v":""},{"$f":"入力シート!I309&\"\"","v":""},{"$f":"入力シート!J309&\"\"","v":""},{"$f":"入力シート!K309&\"\"","v":""},"・","現","帳"]
[{"$f":"入力シート!A310&\"\"","v":"290"},{"$f":"入力シート!B310&\"\"","v":"高松"},null,null,{"$f":"入力シート!C310&\"\"","v":""},null,null,{"$f":"入力シート!D310&\"\"","v":""},null,{"$f":"入力シート!E310&\"\"","v":""},{"$f":"IF(入力シート!F310=0,\"\",入力シート!F310)","v":""},{"$f":"入力シート!I310&\"\"","v":""},{"$f":"入力シート!J310&\"\"","v":""},{"$f":"入力シート!K310&\"\"","v":""},"・","現","帳"]
[{"$f":"入力シート!A311&\"\"","v":"291"},{"$f":"入力シート!B311&\"\"","v":"高松"},null,null,{"$f":"入力シート!C311&\"\"","v":""},null,null,{"$f":"入力シート!D311&\"\"","v":""},null,{"$f":"入力シート!E311&\"\"","v":""},{"$f":"IF(入力シート!F311=0,\"\",入力シート!F311)","v":""},{"$f":"入力シート!I311&\"\"","v":""},{"$f":"入力シート!J311&\"\"","v":""},{"$f":"入力シート!K311&\"\"","v":""},"・","現","帳"]
[{"$f":"入力シート!A312&\"\"","v":"292"},{"$f":"入力シート!B312&\"\"","v":"高松"},null,null,{"$f":"入力シート!C312&\"\"","v":""},null,null,{"$f":"入力シート!D312&\"\"","v":""},null,{"$f":"入力シート!E312&\"\"","v":""},{"$f":"IF(入力シート!F312=0,\"\",入力シート!F312)","v":""},{"$f":"入力シート!I312&\"\"","v":""},{"$f":"入力シート!J312&\"\"","v":""},{"$f":"入力シート!K312&\"\"","v":""},"・","現","帳"]
[{"$f":"入力シート!A313&\"\"","v":"293"},{"$f":"入力シート!B313&\"\"","v":"高松"},null,null,{"$f":"入力シート!C313&\"\"","v":""},null,null,{"$f":"入力シート!D313&\"\"","v":""},null,{"$f":"入力シート!E313&\"\"","v":""},{"$f":"IF(入力シート!F313=0,\"\",入力シート!F313)","v":""},{"$f":"入力シート!I313&\"\"","v":""},{"$f":"入力シート!J313&\"\"","v":""},{"$f":"入力シート!K313&\"\"","v":""},"・","現","帳"]
[{"$f":"入力シート!A314&\"\"","v":"294"},{"$f":"入力シート!B314&\"\"","v":"高松"},null,null,{"$f":"入力シート!C314&\"\"","v":""},null,null,{"$f":"入力シート!D314&\"\"","v":""},null,{"$f":"入力シート!E314&\"\"","v":""},{"$f":"IF(入力シート!F314=0,\"\",入力シート!F314)","v":""},{"$f":"入力シート!I314&\"\"","v":""},{"$f":"入力シート!J314&\"\"","v":""},{"$f":"入力シート!K314&\"\"","v":""},"・","現","帳"]
[{"$f":"入力シート!A315&\"\"","v":"295"},{"$f":"入力シート!B315&\"\"","v":"高松"},null,null,{"$f":"入力シート!C315&\"\"","v":""},null,null,{"$f":"入力シート!D315&\"\"","v":""},null,{"$f":"入力シート!E315&\"\"","v":""},{"$f":"IF(入力シート!F315=0,\"\",入力シート!F315)","v":""},{"$f":"入力シート!I315&\"\"","v":""},{"$f":"入力シート!J315&\"\"","v":""},{"$f":"入力シート!K315&\"\"","v":""},"・","現","帳"]
[{"$f":"入力シート!A316&\"\"","v":"296"},{"$f":"入力シート!B316&\"\"","v":"高松"},null,null,{"$f":"入力シート!C316&\"\"","v":""},null,null,{"$f":"入力シート!D316&\"\"","v":""},null,{"$f":"入力シート!E316&\"\"","v":""},{"$f":"IF(入力シート!F316=0,\"\",入力シート!F316)","v":""},{"$f":"入力シート!I316&\"\"","v":""},{"$f":"入力シート!J316&\"\"","v":""},{"$f":"入力シート!K316&\"\"","v":""},"・","現","帳"]
[{"$f":"入力シート!A317&\"\"","v":"297"},{"$f":"入力シート!B317&\"\"","v":"高松"},null,null,{"$f":"入力シート!C317&\"\"","v":""},null,null,{"$f":"入力シート!D317&\"\"","v":""},null,{"$f":"入力シート!E317&\"\"","v":""},{"$f":"IF(入力シート!F317=0,\"\",入力シート!F317)","v":""},{"$f":"入力シート!I317&\"\"","v":""},{"$f":"入力シート!J317&\"\"","v":""},{"$f":"入力シート!K317&\"\"","v":""},"・","現","帳"]
[{"$f":"入力シート!A318&\"\"","v":"298"},{"$f":"入力シート!B318&\"\"","v":"高松"},null,null,{"$f":"入力シート!C318&\"\"","v":""},null,null,{"$f":"入力シート!D318&\"\"","v":""},null,{"$f":"入力シート!E318&\"\"","v":""},{"$f":"IF(入力シート!F318=0,\"\",入力シート!F318)","v":""},{"$f":"入力シート!I318&\"\"","v":""},{"$f":"入力シート!J318&\"\"","v":""},{"$f":"入力シート!K318&\"\"","v":""},"・","現","帳"]
[{"$f":"入力シート!A319&\"\"","v":"299"},{"$f":"入力シート!B319&\"\"","v":"高松"},null,null,{"$f":"入力シート!C319&\"\"","v":""},null,null,{"$f":"入力シート!D319&\"\"","v":""},null,{"$f":"入力シート!E319&\"\"","v":""},{"$f":"IF(入力シート!F319=0,\"\",入力シート!F319)","v":""},{"$f":"入力シート!I319&\"\"","v":""},{"$f":"入力シート!J319&\"\"","v":""},{"$f":"入力シート!K319&\"\"","v":""},"・","現","帳"]
[{"$f":"入力シート!A320&\"\"","v":"300"},{"$f":"入力シート!B320&\"\"","v":"高松"},null,null,{"$f":"入力シート!C320&\"\"","v":""},null,null,{"$f":"入力シート!D320&\"\"","v":""},null,{"$f":"入力シート!E320&\"\"","v":""},{"$f":"IF(入力シート!F320=0,\"\",入力シート!F320)","v":""},{"$f":"入力シート!I320&\"\"","v":""},{"$f":"入力シート!J320&\"\"","v":""},{"$f":"入力シート!K320&\"\"","v":""},"・","現","帳"]
[{"$f":"入力シート!A321&\"\"","v":"301"},{"$f":"入力シート!B321&\"\"","v":"高松"},null,null,{"$f":"入力シート!C321&\"\"","v":""},null,null,{"$f":"入力シート!D321&\"\"","v":""},null,{"$f":"入力シート!E321&\"\"","v":""},{"$f":"IF(入力シート!F321=0,\"\",入力シート!F321)","v":""},{"$f":"入力シート!I321&\"\"","v":""},{"$f":"入力シート!J321&\"\"","v":""},{"$f":"入力シート!K321&\"\"","v":""},"・","現","帳"]
[{"$f":"入力シート!A322&\"\"","v":""},{"$f":"入力シート!B322&\"\"","v":""},null,null,{"$f":"入力シート!C322&\"\"","v":""},null,null,{"$f":"入力シート!D322&\"\"","v":""},null,{"$f":"入力シート!E322&\"\"","v":""},{"$f":"IF(入力シート!F322=0,\"\",入力シート!F322)","v":""},{"$f":"入力シート!I322&\"\"","v":""},{"$f":"入力シート!J322&\"\"","v":""},{"$f":"入力シート!K322&\"\"","v":""},"・","現","帳"]
[{"$f":"入力シート!A323&\"\"","v":""},{"$f":"入力シート!B323&\"\"","v":""},null,null,{"$f":"入力シート!C323&\"\"","v":""},null,null,{"$f":"入力シート!D323&\"\"","v":""},null,{"$f":"入力シート!E323&\"\"","v":""},{"$f":"IF(入力シート!F323=0,\"\",入力シート!F323)","v":""},{"$f":"入力シート!I323&\"\"","v":""},{"$f":"入力シート!J323&\"\"","v":""},{"$f":"入力シート!K323&\"\"","v":""},"・","現","帳"]
[{"$f":"入力シート!A324&\"\"","v":""},{"$f":"入力シート!B324&\"\"","v":""},null,null,{"$f":"入力シート!C324&\"\"","v":""},null,null,{"$f":"入力シート!D324&\"\"","v":""},null,{"$f":"入力シート!E324&\"\"","v":""},{"$f":"IF(入力シート!F324=0,\"\",入力シート!F324)","v":""},{"$f":"入力シート!I324&\"\"","v":""},{"$f":"入力シート!J324&\"\"","v":""},{"$f":"入力シート!K324&\"\"","v":""},"・","現","帳"]
[{"$f":"入力シート!A325&\"\"","v":""},{"$f":"入力シート!B325&\"\"","v":""},null,null,{"$f":"入力シート!C325&\"\"","v":""},null,null,{"$f":"入力シート!D325&\"\"","v":""},null,{"$f":"入力シート!E325&\"\"","v":""},{"$f":"IF(入力シート!F325=0,\"\",入力シート!F325)","v":""},{"$f":"入力シート!I325&\"\"","v":""},{"$f":"入力シート!J325&\"\"","v":""},{"$f":"入力シート!K325&\"\"","v":""},"・","現","帳"]
[{"$f":"入力シート!A326&\"\"","v":""},{"$f":"入力シート!B326&\"\"","v":""},null,null,{"$f":"入力シート!C326&\"\"","v":""},null,null,{"$f":"入力シート!D326&\"\"","v":""},null,{"$f":"入力シート!E326&\"\"","v":""},{"$f":"IF(入力シート!F326=0,\"\",入力シート!F326)","v":""},{"$f":"入力シート!I326&\"\"","v":""},{"$f":"入力シート!J326&\"\"","v":""},{"$f":"入力シート!K326&\"\"","v":""},"・","現","帳"]
[{"$f":"入力シート!A327&\"\"","v":""},{"$f":"入力シート!B327&\"\"","v":""},null,null,{"$f":"入力シート!C327&\"\"","v":""},null,null,{"$f":"入力シート!D327&\"\"","v":""},null,{"$f":"入力シート!E327&\"\"","v":""},{"$f":"IF(入力シート!F327=0,\"\",入力シート!F327)","v":""},{"$f":"入力シート!I327&\"\"","v":""},{"$f":"入力シート!J327&\"\"","v":""},{"$f":"入力シート!K327&\"\"","v":""},"・","現","帳"]
[{"$f":"入力シート!A328&\"\"","v":""},{"$f":"入力シート!B328&\"\"","v":""},null,null,{"$f":"入力シート!C328&\"\"","v":""},null,null,{"$f":"入力シート!D328&\"\"","v":""},null,{"$f":"入力シート!E328&\"\"","v":""},{"$f":"IF(入力シート!F328=0,\"\",入力シート!F328)","v":""},{"$f":"入力シート!I328&\"\"","v":""},{"$f":"入力シート!J328&\"\"","v":""},{"$f":"入力シート!K328&\"\"","v":""},"・","現","帳"]
[{"$f":"入力シート!A329&\"\"","v":""},{"$f":"入力シート!B329&\"\"","v":""},null,null,{"$f":"入力シート!C329&\"\"","v":""},null,null,{"$f":"入力シート!D329&\"\"","v":""},null,{"$f":"入力シート!E329&\"\"","v":""},{"$f":"IF(入力シート!F329=0,\"\",入力シート!F329)","v":""},{"$f":"入力シート!I329&\"\"","v":""},{"$f":"入力シート!J329&\"\"","v":""},{"$f":"入力シート!K329&\"\"","v":""},"・","現","帳"]
[{"$f":"入力シート!A330&\"\"","v":""},{"$f":"入力シート!B330&\"\"","v":""},null,null,{"$f":"入力シート!C330&\"\"","v":""},null,null,{"$f":"入力シート!D330&\"\"","v":""},null,{"$f":"入力シート!E330&\"\"","v":""},{"$f":"IF(入力シート!F330=0,\"\",入力シート!F330)","v":""},{"$f":"入力シート!I330&\"\"","v":""},{"$f":"入力シート!J330&\"\"","v":""},{"$f":"入力シート!K330&\"\"","v":""},"・","現","帳"]
[{"$f":"入力シート!A331&\"\"","v":""},{"$f":"入力シート!B331&\"\"","v":""},null,null,{"$f":"入力シート!C331&\"\"","v":""},null,null,{"$f":"入力シート!D331&\"\"","v":""},null,{"$f":"入力シート!E331&\"\"","v":""},{"$f":"IF(入力シート!F331=0,\"\",入力シート!F331)","v":""},{"$f":"入力シート!I331&\"\"","v":""},{"$f":"入力シート!J331&\"\"","v":""},{"$f":"入力シート!K331&\"\"","v":""},"・","現","帳"]
[{"$f":"入力シート!A332&\"\"","v":""},{"$f":"入力シート!B332&\"\"","v":""},null,null,{"$f":"入力シート!C332&\"\"","v":""},null,null,{"$f":"入力シート!D332&\"\"","v":""},null,{"$f":"入力シート!E332&\"\"","v":""},{"$f":"IF(入力シート!F332=0,\"\",入力シート!F332)","v":""},{"$f":"入力シート!I332&\"\"","v":""},{"$f":"入力シート!J332&\"\"","v":""},{"$f":"入力シート!K332&\"\"","v":""},"・","現","帳"]
[{"$f":"入力シート!A333&\"\"","v":""},{"$f":"入力シート!B333&\"\"","v":""},null,null,{"$f":"入力シート!C333&\"\"","v":""},null,null,{"$f":"入力シート!D333&\"\"","v":""},null,{"$f":"入力シート!E333&\"\"","v":""},{"$f":"IF(入力シート!F333=0,\"\",入力シート!F333)","v":""},{"$f":"入力シート!I333&\"\"","v":""},{"$f":"入力シート!J333&\"\"","v":""},{"$f":"入力シート!K333&\"\"","v":""},"・","現","帳"]
[{"$f":"入力シート!A334&\"\"","v":""},{"$f":"入力シート!B334&\"\"","v":""},null,null,{"$f":"入力シート!C334&\"\"","v":""},null,null,{"$f":"入力シート!D334&\"\"","v":""},null,{"$f":"入力シート!E334&\"\"","v":""},{"$f":"IF(入力シート!F334=0,\"\",入力シート!F334)","v":""},{"$f":"入力シート!I334&\"\"","v":""},{"$f":"入力シート!J334&\"\"","v":""},{"$f":"入力シート!K334&\"\"","v":""},"・","現","帳"]
[{"$f":"入力シート!A335&\"\"","v":""},{"$f":"入力シート!B335&\"\"","v":""},null,null,{"$f":"入力シート!C335&\"\"","v":""},null,null,{"$f":"入力シート!D335&\"\"","v":""},null,{"$f":"入力シート!E335&\"\"","v":""},{"$f":"IF(入力シート!F335=0,\"\",入力シート!F335)","v":""},{"$f":"入力シート!I335&\"\"","v":""},{"$f":"入力シート!J335&\"\"","v":""},{"$f":"入力シート!K335&\"\"","v":""},"・","現","帳"]
[{"$f":"入力シート!A336&\"\"","v":""},{"$f":"入力シート!B336&\"\"","v":""},null,null,{"$f":"入力シート!C336&\"\"","v":""},null,null,{"$f":"入力シート!D336&\"\"","v":""},null,{"$f":"入力シート!E336&\"\"","v":""},{"$f":"IF(入力シート!F336=0,\"\",入力シート!F336)","v":""},{"$f":"入力シート!I336&\"\"","v":""},{"$f":"入力シート!J336&\"\"","v":""},{"$f":"入力シート!K336&\"\"","v":""},"・","現","帳"]
[{"$f":"入力シート!A337&\"\"","v":""},{"$f":"入力シート!B337&\"\"","v":""},null,null,{"$f":"入力シート!C337&\"\"","v":""},null,null,{"$f":"入力シート!D337&\"\"","v":""},null,{"$f":"入力シート!E337&\"\"","v":""},{"$f":"IF(入力シート!F337=0,\"\",入力シート!F337)","v":""},{"$f":"入力シート!I337&\"\"","v":""},{"$f":"入力シート!J337&\"\"","v":""},{"$f":"入力シート!K337&\"\"","v":""},"・","現","帳"]
[{"$f":"入力シート!A338&\"\"","v":""},{"$f":"入力シート!B338&\"\"","v":""},null,null,{"$f":"入力シート!C338&\"\"","v":""},null,null,{"$f":"入力シート!D338&\"\"","v":""},null,{"$f":"入力シート!E338&\"\"","v":""},{"$f":"IF(入力シート!F338=0,\"\",入力シート!F338)","v":""},{"$f":"入力シート!I338&\"\"","v":""},{"$f":"入力シート!J338&\"\"","v":""},{"$f":"入力シート!K338&\"\"","v":""},"・","現","帳"]
[{"$f":"入力シート!A339&\"\"","v":""},{"$f":"入力シート!B339&\"\"","v":""},null,null,{"$f":"入力シート!C339&\"\"","v":""},null,null,{"$f":"入力シート!D339&\"\"","v":""},null,{"$f":"入力シート!E339&\"\"","v":""},{"$f":"IF(入力シート!F339=0,\"\",入力シート!F339)","v":""},{"$f":"入力シート!I339&\"\"","v":""},{"$f":"入力シート!J339&\"\"","v":""},{"$f":"入力シート!K339&\"\"","v":""},"・","現","帳"]
[{"$f":"入力シート!A340&\"\"","v":""},{"$f":"入力シート!B340&\"\"","v":""},null,null,{"$f":"入力シート!C340&\"\"","v":""},null,null,{"$f":"入力シート!D340&\"\"","v":""},null,{"$f":"入力シート!E340&\"\"","v":""},{"$f":"IF(入力シート!F340=0,\"\",入力シート!F340)","v":""},{"$f":"入力シート!I340&\"\"","v":""},{"$f":"入力シート!J340&\"\"","v":""},{"$f":"入力シート!K340&\"\"","v":""},"・","現","帳"]
[{"$f":"入力シート!A341&\"\"","v":""},{"$f":"入力シート!B341&\"\"","v":""},null,null,{"$f":"入力シート!C341&\"\"","v":""},null,null,{"$f":"入力シート!D341&\"\"","v":""},null,{"$f":"入力シート!E341&\"\"","v":""},{"$f":"IF(入力シート!F341=0,\"\",入力シート!F341)","v":""},{"$f":"入力シート!I341&\"\"","v":""},{"$f":"入力シート!J341&\"\"","v":""},{"$f":"入力シート!K341&\"\"","v":""},"・","現","帳"]
[{"$f":"入力シート!A342&\"\"","v":""},{"$f":"入力シート!B342&\"\"","v":""},null,null,{"$f":"入力シート!C342&\"\"","v":""},null,null,{"$f":"入力シート!D342&\"\"","v":""},null,{"$f":"入力シート!E342&\"\"","v":""},{"$f":"IF(入力シート!F342=0,\"\",入力シート!F342)","v":""},{"$f":"入力シート!I342&\"\"","v":""},{"$f":"入力シート!J342&\"\"","v":""},{"$f":"入力シート!K342&\"\"","v":""},"・","現","帳"]
[{"$f":"入力シート!A343&\"\"","v":""},{"$f":"入力シート!B343&\"\"","v":""},null,null,{"$f":"入力シート!C343&\"\"","v":""},null,null,{"$f":"入力シート!D343&\"\"","v":""},null,{"$f":"入力シート!E343&\"\"","v":""},{"$f":"IF(入力シート!F343=0,\"\",入力シート!F343)","v":""},{"$f":"入力シート!I343&\"\"","v":""},{"$f":"入力シート!J343&\"\"","v":""},{"$f":"入力シート!K343&\"\"","v":""},"・","現","帳"]
[{"$f":"入力シート!A344&\"\"","v":""},{"$f":"入力シート!B344&\"\"","v":""},null,null,{"$f":"入力シート!C344&\"\"","v":""},null,null,{"$f":"入力シート!D344&\"\"","v":""},null,{"$f":"入力シート!E344&\"\"","v":""},{"$f":"IF(入力シート!F344=0,\"\",入力シート!F344)","v":""},{"$f":"入力シート!I344&\"\"","v":""},{"$f":"入力シート!J344&\"\"","v":""},{"$f":"入力シート!K344&\"\"","v":""},"・","現","帳"]
[{"$f":"入力シート!A345&\"\"","v":""},{"$f":"入力シート!B345&\"\"","v":""},null,null,{"$f":"入力シート!C345&\"\"","v":""},null,null,{"$f":"入力シート!D345&\"\"","v":""},null,{"$f":"入力シート!E345&\"\"","v":""},{"$f":"IF(入力シート!F345=0,\"\",入力シート!F345)","v":""},{"$f":"入力シート!I345&\"\"","v":""},{"$f":"入力シート!J345&\"\"","v":""},{"$f":"入力シート!K345&\"\"","v":""},"・","現","帳"]
[{"$f":"入力シート!A346&\"\"","v":""},{"$f":"入力シート!B346&\"\"","v":""},null,null,{"$f":"入力シート!C346&\"\"","v":""},null,null,{"$f":"入力シート!D346&\"\"","v":""},null,{"$f":"入力シート!E346&\"\"","v":""},{"$f":"IF(入力シート!F346=0,\"\",入力シート!F346)","v":""},{"$f":"入力シート!I346&\"\"","v":""},{"$f":"入力シート!J346&\"\"","v":""},{"$f":"入力シート!K346&\"\"","v":""},"・","現","帳"]
[{"$f":"入力シート!A347&\"\"","v":""},{"$f":"入力シート!B347&\"\"","v":""},null,null,{"$f":"入力シート!C347&\"\"","v":""},null,null,{"$f":"入力シート!D347&\"\"","v":""},null,{"$f":"入力シート!E347&\"\"","v":""},{"$f":"IF(入力シート!F347=0,\"\",入力シート!F347)","v":""},{"$f":"入力シート!I347&\"\"","v":""},{"$f":"入力シート!J347&\"\"","v":""},{"$f":"入力シート!K347&\"\"","v":""},"・","現","帳"]
[{"$f":"入力シート!A348&\"\"","v":""},{"$f":"入力シート!B348&\"\"","v":""},null,null,{"$f":"入力シート!C348&\"\"","v":""},null,null,{"$f":"入力シート!D348&\"\"","v":""},null,{"$f":"入力シート!E348&\"\"","v":""},{"$f":"IF(入力シート!F348=0,\"\",入力シート!F348)","v":""},{"$f":"入力シート!I348&\"\"","v":""},{"$f":"入力シート!J348&\"\"","v":""},{"$f":"入力シート!K348&\"\"","v":""},"・","現","帳"]

{"sheet":"②県税事務所提出用","index":3,"n_rows":344,"n_cols":17,"rows_kept":344,"cut":false,"hidden":false,"merged":[[342,1,342,3],[342,4,342,6],[342,7,342,8],[343,1,343,3],[343,4,343,6],[343,7,343,8],[340,1,340,3],[340,4,340,6],[340,7,340,8],[341,1,341,3],[341,4,341,6],[341,7,341,8],[338,1,338,3],[338,4,338,6],[338,7,338,8],[339,1,339,3],[339,4,339,6],[339,7,339,8],[336,1,336,3],[336,4,336,6],[336,7,336,8],[337,1,337,3],[337,4,337,6],[337,7,337,8],[334,1,334,3],[334,4,334,6],[334,7,334,8],[335,1,335,3],[335,4,335,6],[335,7,335,8],[332,1,332,3],[332,4,332,6],[332,7,332,8],[333,1,333,3],[333,4,333,6],[333,7,333,8],[330,1,330,3],[330,4,330,6],[330,7,330,8],[331,1,331,3],[331,4,331,6],[331,7,331,8],[328,1,328,3],[328,4,328,6],[328,7,328,8],[329,1,329,3],[329,4,329,6],[329,7,329,8],[326,1,326,3],[326,4,326,6],[326,7,326,8],[327,1,327,3],[327,4,327,6],[327,7,327,8],[324,1,324,3],[324,4,324,6],[324,7,324,8],[325,1,325,3],[325,4,325,6],[325,7,325,8],[322,1,322,3],[322,4,322,6],[322,7,322,8],[323,1,323,3],[323,4,323,6],[323,7,323,8],[320,1,320,3],[320,4,320,6],[320,7,320,8],[321,1,321,3],[321,4,321,6],[321,7,321,8],[318,1,318,3],[318,4,318,6],[318,7,318,8],[319,1,319,3],[319,4,319,6],[319,7,319,8],[316,1,316,3],[316,4,316,6],[316,7,316,8],[317,1,317,3],[317,4,317,6],[317,7,317,8],[314,1,314,3],[314,4,314,6],[314,7,314,8],[315,1,315,3],[315,4,315,6],[315,7,315,8],[312,1,312,3],[312,4,312,6],[312,7,312,8],[313,1,313,3],[313,4,313,6],[313,7,313,8],[310,1,310,3],[310,4,310,6],[310,7,310,8],[311,1,311,3],[311,4,311,6],[311,7,311,8],[308,1,308,3],[308,4,308,6],[308,7,308,8],[309,1,309,3],[309,4,309,6],[309,7,309,8],[306,1,306,3],[306,4,306,6],[306,7,306,8],[307,1,307,3],[307,4,307,6],[307,7,307,8],[304,1,304,3],[304,4,304,6],[304,7,304,8],[305,1,305,3],[305,4,305,6],[305,7,305,8],[302,1,302,3],[302,4,302,6],[302,7,302,8],[303,1,303,3],[303,4,303,6],[303,7,303,8],[300,1,300,3],[300,4,300,6],[300,7,300,8],[301,1,301,3],[301,4,301,6],[301,7,301,8],[298,1,298,3],[298,4,298,6],[298,7,298,8],[299,1,299,3],[299,4,299,6],[299,7,299,8],[296,1,296,3],[296,4,296,6],[296,7,296,8],[297,1,297,3],[297,4,297,6],[297,7,297,8],[294,1,294,3],[294,4,294,6],[294,7,294,8],[295,1,295,3],[295,4,295,6],[295,7,295,8],[292,1,292,3],[292,4,292,6],[292,7,292,8],[293,1,293,3],[293,4,293,6],[293,7,293,8],[290,1,290,3],[290,4,290,6],[290,7,290,8],[291,1,291,3],[291,4,291,6],[291,7,291,8],[288,1,288,3],[288,4,288,6],[288,7,288,8],[289,1,289,3],[289,4,289,6],[289,7,289,8],[286,1,286,3],[286,4,286,6],[286,7,286,8],[287,1,287,3],[287,4,287,6],[287,7,287,8],[284,1,284,3],[284,4,284,6],[284,7,284,8],[285,1,285,3],[285,4,285,6],[285,7,285,8],[282,1,282,3],[282,4,282,6],[282,7,282,8],[283,1,283,3],[283,4,283,6],[283,7,283,8],[280,1,280,3],[280,4,280,6],[280,7,280,8],[281,1,281,3],[281,4,281,6],[281,7,281,8],[278,1,278,3],[278,4,278,6],[278,7,278,8],[279,1,279,3],[279,4,279,6],[279,7,279,8],[276,1,276,3],[276,4,276,6],[276,7,276,8],[277,1,277,3],[277,4,277,6],[277,7,277,8],[274,1,274,3],[274,4,274,6],[274,7,274,8],[275,1,275,3],[275,4,275,6],[275,7,275,8],[272,1,272,3],[272,4,272,6],[272,7,272,8],[273,1,273,3],[273,4,273,6],[273,7,273,8],[270,1,270,3],[270,4,270,6],[270,7,270,8],[271,1,271,3],[271,4,271,6],[271,7,271,8],[268,1,268,3],[268,4,268,6],[268,7,268,8],[269,1,269,3],[269,4,269,6],[269,7,269,8],[266,1,266,3],[266,4,266,6],[266,7,266,8],[267,1,267,3],[267,4,267,6],[267,7,267,8],[264,1,264,3],[264,4,264,6],[264,7,264,8],[265,1,265,3],[265,4,265,6],[265,7,265,8],[262,1,262,3],[262,4,262,6],[262,7,262,8],[263,1,263,3],[263,4,263,6],[263,7,263,8],[260,1,260,3],[260,4,260,6],[260,7,260,8],[261,1,261,3],[261,4,261,6],[261,7,261,8],[258,1,258,3],[258,4,258,6],[258,7,258,8],[259,1,259,3],[259,4,259,6],[259,7,259,8],[256,1,256,3],[256,4,256,6],[256,7,256,8],[257,1,257,3],[257,4,257,6],[257,7,257,8],[254,1,254,3],[254,4,254,6],[254,7,254,8],[255,1,255,3],[255,4,255,6],[255,7,255,8],[252,1,252,3],[252,4,252,6],[252,7,252,8],[253,1,253,3],[253,4,253,6],[253,7,253,8],[250,1,250,3],[250,4,250,6],[250,7,250,8],[251,1,251,3],[251,4,251,6],[251,7,251,8],[248,1,248,3],[248,4,248,6],[248,7,248,8],[249,1,249,3],[249,4,249,6],[249,7,249,8],[246,1,246,3],[246,4,246,6],[246,7,246,8],[247,1,247,3],[247,4,247,6],[247,7,247,8],[244,1,244,3],[244,4,244,6],[244,7,244,8],[245,1,245,3],[245,4,245,6],[245,7,245,8],[242,1,242,3],[242,4,242,6],[242,7,242,8],[243,1,243,3],[243,4,243,6],[243,7,243,8],[240,1,240,3],[240,4,240,6],[240,7,240,8],[241,1,241,3],[241,4,241,6],[241,7,241,8],[238,1,238,3],[238,4,238,6],[238,7,238,8],[239,1,239,3],[239,4,239,6],[239,7,239,8],[236,1,236,3],[236,4,236,6],[236,7,236,8],[237,1,237,3],[237,4,237,6],[237,7,237,8],[234,1,234,3],[234,4,234,6],[234,7,234,8],[235,1,235,3],[235,4,235,6],[235,7,235,8],[232,1,232,3],[232,4,232,6],[232,7,232,8],[233,1,233,3],[233,4,233,6],[233,7,233,8],[230,1,230,3],[230,4,230,6],[230,7,230,8],[231,1,231,3],[231,4,231,6],[231,7,231,8],[228,1,228,3],[228,4,228,6],[228,7,228,8],[229,1,229,3],[229,4,229,6],[229,7,229,8],[226,1,226,3],[226,4,226,6],[226,7,226,8],[227,1,227,3],[227,4,227,6],[227,7,227,8],[224,1,224,3],[224,4,224,6],[224,7,224,8],[225,1,225,3],[225,4,225,6],[225,7,225,8],[222,1,222,3],[222,4,222,6],[222,7,222,8],[223,1,223,3],[223,4,223,6],[223,7,223,8],[220,1,220,3],[220,4,220,6],[220,7,220,8],[221,1,221,3],[221,4,221,6],[221,7,221,8],[218,1,218,3],[218,4,218,6],[218,7,218,8],[219,1,219,3],[219,4,219,6],[219,7,219,8],[216,1,216,3],[216,4,216,6],[216,7,216,8],[217,1,217,3],[217,4,217,6],[217,7,217,8],[214,1,214,3],[214,4,214,6],[214,7,214,8],[215,1,215,3],[215,4,215,6],[215,7,215,8],[212,1,212,3],[212,4,212,6],[212,7,212,8],[213,1,213,3],[213,4,213,6],[213,7,213,8],[210,1,210,3],[210,4,210,6],[210,7,210,8],[211,1,211,3],[211,4,211,6],[211,7,211,8],[208,1,208,3],[208,4,208,6],[208,7,208,8],[209,1,209,3],[209,4,209,6],[209,7,209,8],[206,1,206,3],[206,4,206,6],[206,7,206,8],[207,1,207,3],[207,4,207,6],[207,7,207,8],[204,1,204,3],[204,4,204,6],[204,7,204,8],[205,1,205,3],[205,4,205,6],[205,7,205,8],[202,1,202,3],[202,4,202,6],[202,7,202,8],[203,1,203,3],[203,4,203,6],[203,7,203,8],[200,1,200,3],[200,4,200,6],[200,7,200,8],[201,1,201,3],[201,4,201,6],[201,7,201,8],[198,1,198,3],[198,4,198,6],[198,7,198,8],[199,1,199,3],[199,4,199,6],[199,7,199,8],[196,1,196,3],[196,4,196,6],[196,7,196,8],[197,1,197,3],[197,4,197,6],[197,7,197,8],[194,1,194,3],[194,4,194,6],[194,7,194,8],[195,1,195,3],[195,4,195,6],[195,7,195,8],[192,1,192,3],[192,4,192,6],[192,7,192,8],[193,1,193,3],[193,4,193,6],[193,7,193,8],[190,1,190,3],[190,4,190,6],[190,7,190,8],[191,1,191,3],[191,4,191,6],[191,7,191,8],[188,1,188,3],[188,4,188,6],[188,7,188,8],[189,1,189,3],[189,4,189,6],[189,7,189,8],[186,1,186,3],[186,4,186,6],[186,7,186,8],[187,1,187,3],[187,4,187,6],[187,7,187,8],[184,1,184,3],[184,4,184,6],[184,7,184,8],[185,1,185,3],[185,4,185,6],[185,7,185,8],[182,1,182,3],[182,4,182,6],[182,7,182,8],[183,1,183,3],[183,4,183,6],[183,7,183,8],[180,1,180,3],[180,4,180,6],[180,7,180,8],[181,1,181,3],[181,4,181,6],[181,7,181,8],[178,1,178,3],[178,4,178,6],[178,7,178,8],[179,1,179,3],[179,4,179,6],[179,7,179,8],[176,1,176,3],[176,4,176,6],[176,7,176,8],[177,1,177,3],[177,4,177,6],[177,7,177,8],[174,1,174,3],[174,4,174,6],[174,7,174,8],[175,1,175,3],[175,4,175,6],[175,7,175,8],[172,1,172,3],[172,4,172,6],[172,7,172,8],[173,1,173,3],[173,4,173,6],[173,7,173,8],[170,1,170,3],[170,4,170,6],[170,7,170,8],[171,1,171,3],[171,4,171,6],[171,7,171,8],[168,1,168,3],[168,4,168,6],[168,7,168,8],[169,1,169,3],[169,4,169,6],[169,7,169,8],[166,1,166,3],[166,4,166,6],[166,7,166,8],[167,1,167,3],[167,4,167,6],[167,7,167,8],[164,1,164,3],[164,4,164,6],[164,7,164,8],[165,1,165,3],[165,4,165,6],[165,7,165,8],[162,1,162,3],[162,4,162,6],[162,7,162,8],[163,1,163,3],[163,4,163,6],[163,7,163,8],[160,1,160,3],[160,4,160,6],[160,7,160,8],[161,1,161,3],[161,4,161,6],[161,7,161,8],[158,1,158,3],[158,4,158,6],[158,7,158,8],[159,1,159,3],[159,4,159,6],[159,7,159,8],[156,1,156,3],[156,4,156,6],[156,7,156,8],[157,1,157,3],[157,4,157,6],[157,7,157,8],[154,1,154,3],[154,4,154,6],[154,7,154,8],[155,1,155,3],[155,4,155,6],[155,7,155,8],[152,1,152,3],[152,4,152,6],[152,7,152,8],[153,1,153,3],[153,4,153,6],[153,7,153,8],[150,1,150,3],[150,4,150,6],[150,7,150,8],[151,1,151,3],[151,4,151,6],[151,7,151,8],[148,1,148,3],[148,4,148,6],[148,7,148,8],[149,1,149,3],[149,4,149,6],[149,7,149,8],[146,1,146,3],[146,4,146,6],[146,7,146,8],[147,1,147,3],[147,4,147,6],[147,7,147,8],[144,1,144,3],[144,4,144,6],[144,7,144,8],[145,1,145,3],[145,4,145,6],[145,7,145,8],[142,1,142,3],[142,4,142,6],[142,7,142,8],[143,1,143,3],[143,4,143,6],[143,7,143,8],[140,1,140,3],[140,4,140,6],[140,7,140,8],[141,1,141,3],[141,4,141,6],[141,7,141,8],[138,1,138,3],[138,4,138,6],[138,7,138,8],[139,1,139,3],[139,4,139,6],[139,7,139,8],[136,1,136,3],[136,4,136,6],[136,7,136,8],[137,1,137,3],[137,4,137,6],[137,7,137,8],[134,1,134,3],[134,4,134,6],[134,7,134,8],[135,1,135,3],[135,4,135,6],[135,7,135,8],[132,1,132,3],[132,4,132,6],[132,7,132,8],[133,1,133,3],[133,4,133,6],[133,7,133,8],[130,1,130,3],[130,4,130,6],[130,7,130,8],[131,1,131,3],[131,4,131,6],[131,7,131,8],[128,1,128,3],[128,4,128,6],[128,7,128,8],[129,1,129,3],[129,4,129,6],[129,7,129,8],[126,1,126,3],[126,4,126,6],[126,7,126,8],[127,1,127,3],[127,4,127,6],[127,7,127,8],[124,1,124,3],[124,4,124,6],[124,7,124,8],[125,1,125,3],[125,4,125,6],[125,7,125,8],[122,1,122,3],[122,4,122,6],[122,7,122,8],[123,1,123,3],[123,4,123,6],[123,7,123,8],[120,1,120,3],[120,4,120,6],[120,7,120,8],[121,1,121,3],[121,4,121,6],[121,7,121,8],[118,1,118,3],[118,4,118,6],[118,7,118,8],[119,1,119,3],[119,4,119,6],[119,7,119,8],[116,1,116,3],[116,4,116,6],[116,7,116,8],[117,1,117,3],[117,4,117,6],[117,7,117,8],[114,1,114,3],[114,4,114,6],[114,7,114,8],[115,1,115,3],[115,4,115,6],[115,7,115,8],[112,1,112,3],[112,4,112,6],[112,7,112,8],[113,1,113,3],[113,4,113,6],[113,7,113,8],[110,1,110,3],[110,4,110,6],[110,7,110,8],[111,1,111,3],[111,4,111,6],[111,7,111,8],[108,1,108,3],[108,4,108,6],[108,7,108,8],[109,1,109,3],[109,4,109,6],[109,7,109,8],[106,1,106,3],[106,4,106,6],[106,7,106,8],[107,1,107,3],[107,4,107,6],[107,7,107,8],[104,1,104,3],[104,4,104,6],[104,7,104,8],[105,1,105,3],[105,4,105,6],[105,7,105,8],[102,1,102,3],[102,4,102,6],[102,7,102,8],[103,1,103,3],[103,4,103,6],[103,7,103,8],[100,1,100,3],[100,4,100,6],[100,7,100,8],[101,1,101,3],[101,4,101,6],[101,7,101,8],[98,1,98,3],[98,4,98,6],[98,7,98,8],[99,1,99,3],[99,4,99,6],[99,7,99,8],[96,1,96,3],[96,4,96,6],[96,7,96,8],[97,1,97,3],[97,4,97,6],[97,7,97,8],[94,1,94,3],[94,4,94,6],[94,7,94,8],[95,1,95,3],[95,4,95,6],[95,7,95,8],[92,1,92,3],[92,4,92,6],[92,7,92,8],[93,1,93,3],[93,4,93,6],[93,7,93,8],[90,1,90,3],[90,4,90,6],[90,7,90,8],[91,1,91,3],[91,4,91,6],[91,7,91,8],[88,1,88,3],[88,4,88,6],[88,7,88,8],[89,1,89,3],[89,4,89,6],[89,7,89,8],[86,1,86,3],[86,4,86,6],[86,7,86,8],[87,1,87,3],[87,4,87,6],[87,7,87,8],[84,1,84,3],[84,4,84,6],[84,7,84,8],[85,1,85,3],[85,4,85,6],[85,7,85,8],[82,1,82,3],[82,4,82,6],[82,7,82,8],[83,1,83,3],[83,4,83,6],[83,7,83,8],[80,1,80,3],[80,4,80,6],[80,7,80,8],[81,1,81,3],[81,4,81,6],[81,7,81,8],[78,1,78,3],[78,4,78,6],[78,7,78,8],[79,1,79,3],[79,4,79,6],[79,7,79,8],[76,1,76,3],[76,4,76,6],[76,7,76,8],[77,1,77,3],[77,4,77,6],[77,7,77,8],[74,1,74,3],[74,4,74,6],[74,7,74,8],[75,1,75,3],[75,4,75,6],[75,7,75,8],[72,1,72,3],[72,4,72,6],[72,7,72,8],[73,1,73,3],[73,4,73,6],[73,7,73,8],[70,1,70,3],[70,4,70,6],[70,7,70,8],[71,1,71,3],[71,4,71,6],[71,7,71,8],[68,1,68,3],[68,4,68,6],[68,7,68,8],[69,1,69,3],[69,4,69,6],[69,7,69,8],[66,1,66,3],[66,4,66,6],[66,7,66,8],[67,1,67,3],[67,4,67,6],[67,7,67,8],[64,1,64,3],[64,4,64,6],[64,7,64,8],[65,1,65,3],[65,4,65,6],[65,7,65,8],[62,1,62,3],[62,4,62,6],[62,7,62,8],[63,1,63,3],[63,4,63,6],[63,7,63,8],[60,1,60,3],[60,4,60,6],[60,7,60,8],[61,1,61,3],[61,4,61,6],[61,7,61,8],[58,1,58,3],[58,4,58,6],[58,7,58,8],[59,1,59,3],[59,4,59,6],[59,7,59,8],[56,1,56,3],[56,4,56,6],[56,7,56,8],[57,1,57,3],[57,4,57,6],[57,7,57,8],[54,1,54,3],[54,4,54,6],[54,7,54,8],[55,1,55,3],[55,4,55,6],[55,7,55,8],[52,1,52,3],[52,4,52,6],[52,7,52,8],[53,1,53,3],[53,4,53,6],[53,7,53,8],[50,1,50,3],[50,4,50,6],[50,7,50,8],[51,1,51,3],[51,4,51,6],[51,7,51,8],[48,1,48,3],[48,4,48,6],[48,7,48,8],[49,1,49,3],[49,4,49,6],[49,7,49,8],[46,1,46,3],[46,4,46,6],[46,7,46,8],[47,1,47,3],[47,4,47,6],[47,7,47,8],[44,1,44,3],[44,4,44,6],[44,7,44,8],[45,1,45,3],[45,4,45,6],[45,7,45,8],[42,1,42,3],[42,4,42,6],[42,7,42,8],[43,1,43,3],[43,4,43,6],[43,7,43,8],[40,1,40,3],[40,4,40,6],[40,7,40,8],[41,1,41,3],[41,4,41,6],[41,7,41,8],[38,1,38,3],[38,4,38,6],[38,7,38,8],[39,1,39,3],[39,4,39,6],[39,7,39,8],[36,1,36,3],[36,4,36,6],[36,7,36,8],[37,1,37,3],[37,4,37,6],[37,7,37,8],[34,1,34,3],[34,4,34,6],[34,7,34,8],[35,1,35,3],[35,4,35,6],[35,7,35,8],[32,1,32,3],[32,4,32,6],[32,7,32,8],[33,1,33,3],[33,4,33,6],[33,7,33,8],[30,1,30,3],[30,4,30,6],[30,7,30,8],[31,1,31,3],[31,4,31,6],[31,7,31,8],[28,1,28,3],[28,4,28,6],[28,7,28,8],[29,1,29,3],[29,4,29,6],[29,7,29,8],[26,1,26,3],[26,4,26,6],[26,7,26,8],[27,1,27,3],[27,4,27,6],[27,7,27,8],[24,1,24,3],[24,4,24,6],[24,7,24,8],[25,1,25,3],[25,4,25,6],[25,7,25,8],[22,1,22,3],[22,4,22,6],[22,7,22,8],[23,1,23,3],[23,4,23,6],[23,7,23,8],[20,1,20,3],[20,4,20,6],[20,7,20,8],[21,1,21,3],[21,4,21,6],[21,7,21,8],[18,1,18,3],[18,4,18,6],[18,7,18,8],[19,1,19,3],[19,4,19,6],[19,7,19,8],[16,1,16,3],[16,4,16,6],[16,7,16,8],[17,1,17,3],[17,4,17,6],[17,7,17,8],[13,0,13,16],[14,0,15,0],[14,1,15,9],[14,10,15,10],[14,11,15,11],[14,14,14,16],[15,15,15,16],[1,0,1,16],[2,13,2,16],[3,0,3,10],[4,0,4,10],[4,13,5,16],[5,0,11,11],[6,13,7,16],[9,13,9,16],[11,13,11,15]]}
["様式-1-（2）",null,null,null,null,null,null,null,null,null,null,null,null,null,null,null,"（県税事務所提出用）"]
["商　品　中　古　自　動　車　証　明　申　請　書"]
[null,null,null,null,null,null,null,null,null,null,null,null,null,"（コード番号　　　　　　　　　　　　）"]
[null,null,null,null,null,null,null,null,null,null,null,null,"令和　　　年　　　　月　　　　日"]
[null,null,null,null,null,null,null,null,null,null,null,null,"申請者住所",{"$f":"入力シート!$C$6&\"\"","v":"高松市番町４－１－１０"}]
[]
[null,null,null,null,null,null,null,null,null,null,null,null,"申請者名",{"$f":"入力シート!$C$7&\"\"","v":"株式会社香川県庁自動車"}]
[]
[null,null,null,null,null,null,null,null,null,null,null,null,"代表者名",{"$f":"入力シート!$C$8&\"\"","v":"代表取締役　香川　けん"}]
[null,null,null,null,null,null,null,null,null,null,null,null,"（電話番号）",{"$f":"入力シート!$C$9&\"\"","v":"087-１１1-1111"}]
[]
[null,null,null,null,null,null,null,null,null,null,null,null,"古物商許可番号",{"$f":"入力シート!$C$10&\"\"","v":"12345678"}]
[]
["記"]
["№","登録番号",null,null,null,null,null,null,null,null,"登録年月日","車台番号","車名又は","展示場名","調査"]
[null,null,null,null,null,null,null,null,null,null,null,null,"ペットネーム","（４月１日現在）","月　 日","結　果"]
[{"$f":"入力シート!A21","v":1},{"$f":"入力シート!B21&\"\"","v":"香"},null,null,{"$f":"入力シート!C21&\"\"","v":"501"},null,null,{"$f":"入力シート!D21&\"\"","v":"あ"},null,{"$f":"入力シート!E21&\"\"","v":"2"},{"$f":"IF(入力シート!F21=0,\"\",入力シート!F21)","v":"2021-11-18"},{"$f":"入力シート!I21&\"\"","v":"ZZZ80-044592"},{"$f":"入力シート!J21&\"\"","v":"ホンタオブユーケー　シビック"},{"$f":"入力シート!K21&\"\"","v":"県税支店"},"・","現","帳"]
[{"$f":"入力シート!A22","v":2},{"$f":"入力シート!B22&\"\"","v":"香"},null,null,{"$f":"入力シート!C22&\"\"","v":"501"},null,null,{"$f":"入力シート!D22&\"\"","v":"く"},null,{"$f":"入力シート!E22&\"\"","v":"555"},{"$f":"IF(入力シート!F22=0,\"\",入力シート!F22)","v":"2021-11-30"},{"$f":"入力シート!I22&\"\"","v":"ZZZ80-044604"},{"$f":"入力シート!J22&\"\"","v":"ヴォルクスバーゲン"},{"$f":"入力シート!K22&\"\"","v":"西讃支店"},"・","現","帳"]
[{"$f":"入力シート!A23","v":3},{"$f":"入力シート!B23&\"\"","v":"香"},null,null,{"$f":"入力シート!C23&\"\"","v":"506"},null,null,{"$f":"入力シート!D23&\"\"","v":"く"},null,{"$f":"入力シート!E23&\"\"","v":"212"},{"$f":"IF(入力シート!F23=0,\"\",入力シート!F23)","v":"2021-11-23"},{"$f":"入力シート!I23&\"\"","v":"ZZZ80-044597"},{"$f":"入力シート!J23&\"\"","v":"ホンタ"},{"$f":"入力シート!K23&\"\"","v":"東讃支店"},"・","現","帳"]
[{"$f":"入力シート!A24","v":4},{"$f":"入力シート!B24&\"\"","v":"香"},null,null,{"$f":"入力シート!C24&\"\"","v":"522"},null,null,{"$f":"入力シート!D24&\"\"","v":"く"},null,{"$f":"入力シート!E24&\"\"","v":"41"},{"$f":"IF(入力シート!F24=0,\"\",入力シート!F24)","v":"2021-12-05"},{"$f":"入力シート!I24&\"\"","v":"ZZZ80-04460921583"},{"$f":"入力シート!J24&\"\"","v":"ホンタ"},{"$f":"入力シート!K24&\"\"","v":"県税支店"},"・","現","帳"]
[{"$f":"入力シート!A25","v":5},{"$f":"入力シート!B25&\"\"","v":"香"},null,null,{"$f":"入力シート!C25&\"\"","v":"555"},null,null,{"$f":"入力シート!D25&\"\"","v":"く"},null,{"$f":"入力シート!E25&\"\"","v":"7655"},{"$f":"IF(入力シート!F25=0,\"\",入力シート!F25)","v":"2021-11-25"},{"$f":"入力シート!I25&\"\"","v":"ZZZ80-044599"},{"$f":"入力シート!J25&\"\"","v":"マツタ"},{"$f":"入力シート!K25&\"\"","v":"小豆支店"},"・","現","帳"]
[{"$f":"入力シート!A26","v":6},{"$f":"入力シート!B26&\"\"","v":"香川"},null,null,{"$f":"入力シート!C26&\"\"","v":"111"},null,null,{"$f":"入力シート!D26&\"\"","v":"く"},null,{"$f":"入力シート!E26&\"\"","v":"3"},{"$f":"IF(入力シート!F26=0,\"\",入力シート!F26)","v":"2021-11-28"},{"$f":"入力シート!I26&\"\"","v":"ZZZ80-044602"},{"$f":"入力シート!J26&\"\"","v":"鈴本"},{"$f":"入力シート!K26&\"\"","v":"東讃支店"},"・","現","帳"]
[{"$f":"入力シート!A27","v":7},{"$f":"入力シート!B27&\"\"","v":"香川"},null,null,{"$f":"入力シート!C27&\"\"","v":"300"},null,null,{"$f":"入力シート!D27&\"\"","v":"き"},null,{"$f":"入力シート!E27&\"\"","v":"4562"},{"$f":"IF(入力シート!F27=0,\"\",入力シート!F27)","v":"2018-02-23"},{"$f":"入力シート!I27&\"\"","v":"ZZZ80-044587"},{"$f":"入力シート!J27&\"\"","v":"豊田"},{"$f":"入力シート!K27&\"\"","v":"県税支店"},"・","現","帳"]
[{"$f":"入力シート!A28","v":8},{"$f":"入力シート!B28&\"\"","v":"香川"},null,null,{"$f":"入力シート!C28&\"\"","v":"300"},null,null,{"$f":"入力シート!D28&\"\"","v":"く"},null,{"$f":"入力シート!E28&\"\"","v":"7525"},{"$f":"IF(入力シート!F28=0,\"\",入力シート!F28)","v":"2018-10-31"},{"$f":"入力シート!I28&\"\"","v":"ZZZ80-044588"},{"$f":"入力シート!J28&\"\"","v":"目産"},{"$f":"入力シート!K28&\"\"","v":"小豆支店"},"・","現","帳"]
[{"$f":"入力シート!A29","v":9},{"$f":"入力シート!B29&\"\"","v":"香川"},null,null,{"$f":"入力シート!C29&\"\"","v":"300"},null,null,{"$f":"入力シート!D29&\"\"","v":"こ"},null,{"$f":"入力シート!E29&\"\"","v":"1"},{"$f":"IF(入力シート!F29=0,\"\",入力シート!F29)","v":"2022-03-29"},{"$f":"入力シート!I29&\"\"","v":"ZZZ３０-1501219"},{"$f":"入力シート!J29&\"\"","v":"ホンタ"},{"$f":"入力シート!K29&\"\"","v":"本店"},"・","現","帳"]
[{"$f":"入力シート!A30","v":10},{"$f":"入力シート!B30&\"\"","v":"香川"},null,null,{"$f":"入力シート!C30&\"\"","v":"325"},null,null,{"$f":"入力シート!D30&\"\"","v":"く"},null,{"$f":"入力シート!E30&\"\"","v":"21"},{"$f":"IF(入力シート!F30=0,\"\",入力シート!F30)","v":"2021-11-27"},{"$f":"入力シート!I30&\"\"","v":"ZZZ80-044601"},{"$f":"入力シート!J30&\"\"","v":"ホンタ"},{"$f":"入力シート!K30&\"\"","v":"西讃支店"},"・","現","帳"]
[{"$f":"入力シート!A31","v":11},{"$f":"入力シート!B31&\"\"","v":"香川"},null,null,{"$f":"入力シート!C31&\"\"","v":"333"},null,null,{"$f":"入力シート!D31&\"\"","v":"く"},null,{"$f":"入力シート!E31&\"\"","v":"7569"},{"$f":"IF(入力シート!F31=0,\"\",入力シート!F31)","v":"2021-11-24"},{"$f":"入力シート!I31&\"\"","v":"ZZZ80-044598"},{"$f":"入力シート!J31&\"\"","v":"目産"},{"$f":"入力シート!K31&\"\"","v":"県税支店"},"・","現","帳"]
[{"$f":"入力シート!A32","v":12},{"$f":"入力シート!B32&\"\"","v":"香川"},null,null,{"$f":"入力シート!C32&\"\"","v":"500"},null,null,{"$f":"入力シート!D32&\"\"","v":"か"},null,{"$f":"入力シート!E32&\"\"","v":"4489"},{"$f":"IF(入力シート!F32=0,\"\",入力シート!F32)","v":"2021-12-15"},{"$f":"入力シート!I32&\"\"","v":"ZZZ80-044590"},{"$f":"入力シート!J32&\"\"","v":"鈴本"},{"$f":"入力シート!K32&\"\"","v":"西讃支店"},"・","現","帳"]
[{"$f":"入力シート!A33","v":13},{"$f":"入力シート!B33&\"\"","v":"香川"},null,null,{"$f":"入力シート!C33&\"\"","v":"500"},null,null,{"$f":"入力シート!D33&\"\"","v":"け"},null,{"$f":"入力シート!E33&\"\"","v":"7375"},{"$f":"IF(入力シート!F33=0,\"\",入力シート!F33)","v":"2021-08-04"},{"$f":"入力シート!I33&\"\"","v":"ZZZ80-044589"},{"$f":"入力シート!J33&\"\"","v":"マツタ"},{"$f":"入力シート!K33&\"\"","v":"中讃支店"},"・","現","帳"]
[{"$f":"入力シート!A34","v":14},{"$f":"入力シート!B34&\"\"","v":"香川"},null,null,{"$f":"入力シート!C34&\"\"","v":"500"},null,null,{"$f":"入力シート!D34&\"\"","v":"こ"},null,{"$f":"入力シート!E34&\"\"","v":"1569"},{"$f":"IF(入力シート!F34=0,\"\",入力シート!F34)","v":"2021-11-17"},{"$f":"入力シート!I34&\"\"","v":"ZZZ80-044591"},{"$f":"入力シート!J34&\"\"","v":"ホンタ"},{"$f":"入力シート!K34&\"\"","v":"東讃支店"},"・","現","帳"]
[{"$f":"入力シート!A35","v":15},{"$f":"入力シート!B35&\"\"","v":"香川"},null,null,{"$f":"入力シート!C35&\"\"","v":"504"},null,null,{"$f":"入力シート!D35&\"\"","v":"い"},null,{"$f":"入力シート!E35&\"\"","v":"42"},{"$f":"IF(入力シート!F35=0,\"\",入力シート!F35)","v":"2021-11-21"},{"$f":"入力シート!I35&\"\"","v":"ZZZ80-044595"},{"$f":"入力シート!J35&\"\"","v":"マツタ"},{"$f":"入力シート!K35&\"\"","v":"西讃支店"},"・","現","帳"]
[{"$f":"入力シート!A36","v":16},{"$f":"入力シート!B36&\"\"","v":"香川"},null,null,{"$f":"入力シート!C36&\"\"","v":"505"},null,null,{"$f":"入力シート!D36&\"\"","v":"り"},null,{"$f":"入力シート!E36&\"\"","v":"985"},{"$f":"IF(入力シート!F36=0,\"\",入力シート!F36)","v":"2021-11-22"},{"$f":"入力シート!I36&\"\"","v":"ZZZ80-044596"},{"$f":"入力シート!J36&\"\"","v":"鈴本"},{"$f":"入力シート!K36&\"\"","v":"東讃支店"},"・","現","帳"]
[{"$f":"入力シート!A37","v":17},{"$f":"入力シート!B37&\"\"","v":"香川"},null,null,{"$f":"入力シート!C37&\"\"","v":"566"},null,null,{"$f":"入力シート!D37&\"\"","v":"く"},null,{"$f":"入力シート!E37&\"\"","v":"4777"},{"$f":"IF(入力シート!F37=0,\"\",入力シート!F37)","v":"2021-11-29"},{"$f":"入力シート!I37&\"\"","v":"ZZZ80-044603"},{"$f":"入力シート!J37&\"\"","v":"ホンタ"},{"$f":"入力シート!K37&\"\"","v":"中讃支店"},"・","現","帳"]
[{"$f":"入力シート!A38","v":18},{"$f":"入力シート!B38&\"\"","v":"香川"},null,null,{"$f":"入力シート!C38&\"\"","v":"800"},null,null,{"$f":"入力シート!D38&\"\"","v":"く"},null,{"$f":"入力シート!E38&\"\"","v":"4563"},{"$f":"IF(入力シート!F38=0,\"\",入力シート!F38)","v":"2021-12-04"},{"$f":"入力シート!I38&\"\"","v":"ZZZ80-044608"},{"$f":"入力シート!J38&\"\"","v":"鈴本"},{"$f":"入力シート!K38&\"\"","v":"東讃支店"},"・","現","帳"]
[{"$f":"入力シート!A39","v":19},{"$f":"入力シート!B39&\"\"","v":"高松"},null,null,{"$f":"入力シート!C39&\"\"","v":"100"},null,null,{"$f":"入力シート!D39&\"\"","v":"く"},null,{"$f":"入力シート!E39&\"\"","v":"123"},{"$f":"IF(入力シート!F39=0,\"\",入力シート!F39)","v":"2021-12-02"},{"$f":"入力シート!I39&\"\"","v":"ZZZ80-044606"},{"$f":"入力シート!J39&\"\"","v":"マツタ"},{"$f":"入力シート!K39&\"\"","v":"県税支店"},"・","現","帳"]
[{"$f":"入力シート!A40","v":20},{"$f":"入力シート!B40&\"\"","v":"高松"},null,null,{"$f":"入力シート!C40&\"\"","v":"100"},null,null,{"$f":"入力シート!D40&\"\"","v":"く"},null,{"$f":"入力シート!E40&\"\"","v":"144"},{"$f":"IF(入力シート!F40=0,\"\",入力シート!F40)","v":"2021-11-26"},{"$f":"入力シート!I40&\"\"","v":"ZZZ80-044600"},{"$f":"入力シート!J40&\"\"","v":"鈴本"},{"$f":"入力シート!K40&\"\"","v":"中讃支店"},"・","現","帳"]
[{"$f":"入力シート!A41&\"\"","v":"21"},{"$f":"入力シート!B41&\"\"","v":"高松"},null,null,{"$f":"入力シート!C41&\"\"","v":"121"},null,null,{"$f":"入力シート!D41&\"\"","v":"く"},null,{"$f":"入力シート!E41&\"\"","v":"97"},{"$f":"IF(入力シート!F41=0,\"\",入力シート!F41)","v":"2021-12-03"},{"$f":"入力シート!I41&\"\"","v":"ZZZ80-044607"},{"$f":"入力シート!J41&\"\"","v":"鈴本"},{"$f":"入力シート!K41&\"\"","v":"小豆支店"},"・","現","帳"]
[{"$f":"入力シート!A42&\"\"","v":"22"},{"$f":"入力シート!B42&\"\"","v":"高松"},null,null,{"$f":"入力シート!C42&\"\"","v":"333"},null,null,{"$f":"入力シート!D42&\"\"","v":"く"},null,{"$f":"入力シート!E42&\"\"","v":"506"},{"$f":"IF(入力シート!F42=0,\"\",入力シート!F42)","v":"2021-12-01"},{"$f":"入力シート!I42&\"\"","v":"ZZZ80-044605"},{"$f":"入力シート!J42&\"\"","v":"目産"},{"$f":"入力シート!K42&\"\"","v":"東讃支店"},"・","現","帳"]
[{"$f":"入力シート!A43&\"\"","v":"23"},{"$f":"入力シート!B43&\"\"","v":"高松"},null,null,{"$f":"入力シート!C43&\"\"","v":"502"},null,null,{"$f":"入力シート!D43&\"\"","v":"わ"},null,{"$f":"入力シート!E43&\"\"","v":"1"},{"$f":"IF(入力シート!F43=0,\"\",入力シート!F43)","v":"2021-11-19"},{"$f":"入力シート!I43&\"\"","v":"ZZZ80-044593"},{"$f":"入力シート!J43&\"\"","v":"マツタ"},{"$f":"入力シート!K43&\"\"","v":"小豆支店"},"・","現","帳"]
[{"$f":"入力シート!A44&\"\"","v":"24"},{"$f":"入力シート!B44&\"\"","v":"高松"},null,null,{"$f":"入力シート!C44&\"\"","v":"503"},null,null,{"$f":"入力シート!D44&\"\"","v":"ら"},null,{"$f":"入力シート!E44&\"\"","v":"45"},{"$f":"IF(入力シート!F44=0,\"\",入力シート!F44)","v":"2021-11-20"},{"$f":"入力シート!I44&\"\"","v":"ZZZ80-044594"},{"$f":"入力シート!J44&\"\"","v":"鈴本"},{"$f":"入力シート!K44&\"\"","v":"中讃支店"},"・","現","帳"]
[{"$f":"入力シート!A45&\"\"","v":"25"},{"$f":"入力シート!B45&\"\"","v":"高松"},null,null,{"$f":"入力シート!C45&\"\"","v":"541"},null,null,{"$f":"入力シート!D45&\"\"","v":"く"},null,{"$f":"入力シート!E45&\"\"","v":"87"},{"$f":"IF(入力シート!F45=0,\"\",入力シート!F45)","v":"2021-12-06"},{"$f":"入力シート!I45&\"\"","v":"ZZZ80-044610"},{"$f":"入力シート!J45&\"\"","v":"豊田"},{"$f":"入力シート!K45&\"\"","v":"東讃支店"},"・","現","帳"]
[{"$f":"入力シート!A46&\"\"","v":"26"},{"$f":"入力シート!B46&\"\"","v":"高松"},null,null,{"$f":"入力シート!C46&\"\"","v":"542"},null,null,{"$f":"入力シート!D46&\"\"","v":"く"},null,{"$f":"入力シート!E46&\"\"","v":"87"},{"$f":"IF(入力シート!F46=0,\"\",入力シート!F46)","v":"2021-12-07"},{"$f":"入力シート!I46&\"\"","v":"ZZZ80-044611"},{"$f":"入力シート!J46&\"\"","v":"豊田"},{"$f":"入力シート!K46&\"\"","v":"東讃支店"},"・","現","帳"]
[{"$f":"入力シート!A47&\"\"","v":"27"},{"$f":"入力シート!B47&\"\"","v":"高松"},null,null,{"$f":"入力シート!C47&\"\"","v":"543"},null,null,{"$f":"入力シート!D47&\"\"","v":"く"},null,{"$f":"入力シート!E47&\"\"","v":"87"},{"$f":"IF(入力シート!F47=0,\"\",入力シート!F47)","v":"2021-12-08"},{"$f":"入力シート!I47&\"\"","v":"ZZZ80-044612"},{"$f":"入力シート!J47&\"\"","v":"豊田"},{"$f":"入力シート!K47&\"\"","v":"東讃支店"},"・","現","帳"]
[{"$f":"入力シート!A48&\"\"","v":"28"},{"$f":"入力シート!B48&\"\"","v":"高松"},null,null,{"$f":"入力シート!C48&\"\"","v":"544"},null,null,{"$f":"入力シート!D48&\"\"","v":"く"},null,{"$f":"入力シート!E48&\"\"","v":"87"},{"$f":"IF(入力シート!F48=0,\"\",入力シート!F48)","v":"2021-12-09"},{"$f":"入力シート!I48&\"\"","v":"ZZZ80-044613"},{"$f":"入力シート!J48&\"\"","v":"豊田"},{"$f":"入力シート!K48&\"\"","v":"東讃支店"},"・","現","帳"]
[{"$f":"入力シート!A49&\"\"","v":"29"},{"$f":"入力シート!B49&\"\"","v":"高松"},null,null,{"$f":"入力シート!C49&\"\"","v":"545"},null,null,{"$f":"入力シート!D49&\"\"","v":"く"},null,{"$f":"入力シート!E49&\"\"","v":"87"},{"$f":"IF(入力シート!F49=0,\"\",入力シート!F49)","v":"2021-12-10"},{"$f":"入力シート!I49&\"\"","v":"ZZZ80-044614"},{"$f":"入力シート!J49&\"\"","v":"豊田"},{"$f":"入力シート!K49&\"\"","v":"東讃支店"},"・","現","帳"]
[{"$f":"入力シート!A50&\"\"","v":"30"},{"$f":"入力シート!B50&\"\"","v":"高松"},null,null,{"$f":"入力シート!C50&\"\"","v":"546"},null,null,{"$f":"入力シート!D50&\"\"","v":"く"},null,{"$f":"入力シート!E50&\"\"","v":"87"},{"$f":"IF(入力シート!F50=0,\"\",入力シート!F50)","v":"2021-12-11"},{"$f":"入力シート!I50&\"\"","v":"ZZZ80-044615"},{"$f":"入力シート!J50&\"\"","v":"豊田"},{"$f":"入力シート!K50&\"\"","v":"東讃支店"},"・","現","帳"]
[{"$f":"入力シート!A51&\"\"","v":"31"},{"$f":"入力シート!B51&\"\"","v":"高松"},null,null,{"$f":"入力シート!C51&\"\"","v":"547"},null,null,{"$f":"入力シート!D51&\"\"","v":"く"},null,{"$f":"入力シート!E51&\"\"","v":"87"},{"$f":"IF(入力シート!F51=0,\"\",入力シート!F51)","v":"2021-12-12"},{"$f":"入力シート!I51&\"\"","v":"ZZZ80-044616"},{"$f":"入力シート!J51&\"\"","v":"豊田"},{"$f":"入力シート!K51&\"\"","v":"東讃支店"},"・","現","帳"]
[{"$f":"入力シート!A52&\"\"","v":"32"},{"$f":"入力シート!B52&\"\"","v":"高松"},null,null,{"$f":"入力シート!C52&\"\"","v":"548"},null,null,{"$f":"入力シート!D52&\"\"","v":"く"},null,{"$f":"入力シート!E52&\"\"","v":"87"},{"$f":"IF(入力シート!F52=0,\"\",入力シート!F52)","v":"2021-12-13"},{"$f":"入力シート!I52&\"\"","v":"ZZZ80-044617"},{"$f":"入力シート!J52&\"\"","v":"豊田"},{"$f":"入力シート!K52&\"\"","v":"東讃支店"},"・","現","帳"]
[{"$f":"入力シート!A53&\"\"","v":"33"},{"$f":"入力シート!B53&\"\"","v":"高松"},null,null,{"$f":"入力シート!C53&\"\"","v":"549"},null,null,{"$f":"入力シート!D53&\"\"","v":"く"},null,{"$f":"入力シート!E53&\"\"","v":"87"},{"$f":"IF(入力シート!F53=0,\"\",入力シート!F53)","v":"2021-12-14"},{"$f":"入力シート!I53&\"\"","v":"ZZZ80-044618"},{"$f":"入力シート!J53&\"\"","v":"豊田"},{"$f":"入力シート!K53&\"\"","v":"東讃支店"},"・","現","帳"]
[{"$f":"入力シート!A54&\"\"","v":"34"},{"$f":"入力シート!B54&\"\"","v":"高松"},null,null,{"$f":"入力シート!C54&\"\"","v":"550"},null,null,{"$f":"入力シート!D54&\"\"","v":"く"},null,{"$f":"入力シート!E54&\"\"","v":"87"},{"$f":"IF(入力シート!F54=0,\"\",入力シート!F54)","v":"2021-12-15"},{"$f":"入力シート!I54&\"\"","v":"ZZZ80-044619"},{"$f":"入力シート!J54&\"\"","v":"豊田"},{"$f":"入力シート!K54&\"\"","v":"東讃支店"},"・","現","帳"]
[{"$f":"入力シート!A55&\"\"","v":"35"},{"$f":"入力シート!B55&\"\"","v":"高松"},null,null,{"$f":"入力シート!C55&\"\"","v":"551"},null,null,{"$f":"入力シート!D55&\"\"","v":"く"},null,{"$f":"入力シート!E55&\"\"","v":"87"},{"$f":"IF(入力シート!F55=0,\"\",入力シート!F55)","v":"2021-12-16"},{"$f":"入力シート!I55&\"\"","v":"ZZZ80-044620"},{"$f":"入力シート!J55&\"\"","v":"豊田"},{"$f":"入力シート!K55&\"\"","v":"東讃支店"},"・","現","帳"]
[{"$f":"入力シート!A56&\"\"","v":"36"},{"$f":"入力シート!B56&\"\"","v":"高松"},null,null,{"$f":"入力シート!C56&\"\"","v":"552"},null,null,{"$f":"入力シート!D56&\"\"","v":"く"},null,{"$f":"入力シート!E56&\"\"","v":"87"},{"$f":"IF(入力シート!F56=0,\"\",入力シート!F56)","v":"2021-12-17"},{"$f":"入力シート!I56&\"\"","v":"ZZZ80-044621"},{"$f":"入力シート!J56&\"\"","v":"豊田"},{"$f":"入力シート!K56&\"\"","v":"東讃支店"},"・","現","帳"]
[{"$f":"入力シート!A57&\"\"","v":"37"},{"$f":"入力シート!B57&\"\"","v":"高松"},null,null,{"$f":"入力シート!C57&\"\"","v":"553"},null,null,{"$f":"入力シート!D57&\"\"","v":"く"},null,{"$f":"入力シート!E57&\"\"","v":"87"},{"$f":"IF(入力シート!F57=0,\"\",入力シート!F57)","v":"2021-12-18"},{"$f":"入力シート!I57&\"\"","v":"ZZZ80-044622"},{"$f":"入力シート!J57&\"\"","v":"豊田"},{"$f":"入力シート!K57&\"\"","v":"東讃支店"},"・","現","帳"]
[{"$f":"入力シート!A58&\"\"","v":"38"},{"$f":"入力シート!B58&\"\"","v":"高松"},null,null,{"$f":"入力シート!C58&\"\"","v":"554"},null,null,{"$f":"入力シート!D58&\"\"","v":"く"},null,{"$f":"入力シート!E58&\"\"","v":"87"},{"$f":"IF(入力シート!F58=0,\"\",入力シート!F58)","v":"2021-12-19"},{"$f":"入力シート!I58&\"\"","v":"ZZZ80-044623"},{"$f":"入力シート!J58&\"\"","v":"豊田"},{"$f":"入力シート!K58&\"\"","v":"東讃支店"},"・","現","帳"]
[{"$f":"入力シート!A59&\"\"","v":"39"},{"$f":"入力シート!B59&\"\"","v":"高松"},null,null,{"$f":"入力シート!C59&\"\"","v":"555"},null,null,{"$f":"入力シート!D59&\"\"","v":"く"},null,{"$f":"入力シート!E59&\"\"","v":"87"},{"$f":"IF(入力シート!F59=0,\"\",入力シート!F59)","v":"2021-12-20"},{"$f":"入力シート!I59&\"\"","v":"ZZZ80-044624"},{"$f":"入力シート!J59&\"\"","v":"豊田"},{"$f":"入力シート!K59&\"\"","v":"東讃支店"},"・","現","帳"]
[{"$f":"入力シート!A60&\"\"","v":"40"},{"$f":"入力シート!B60&\"\"","v":"高松"},null,null,{"$f":"入力シート!C60&\"\"","v":"556"},null,null,{"$f":"入力シート!D60&\"\"","v":"く"},null,{"$f":"入力シート!E60&\"\"","v":"87"},{"$f":"IF(入力シート!F60=0,\"\",入力シート!F60)","v":"2021-12-21"},{"$f":"入力シート!I60&\"\"","v":"ZZZ80-044625"},{"$f":"入力シート!J60&\"\"","v":"豊田"},{"$f":"入力シート!K60&\"\"","v":"東讃支店"},"・","現","帳"]
[{"$f":"入力シート!A61&\"\"","v":"41"},{"$f":"入力シート!B61&\"\"","v":"高松"},null,null,{"$f":"入力シート!C61&\"\"","v":"557"},null,null,{"$f":"入力シート!D61&\"\"","v":"く"},null,{"$f":"入力シート!E61&\"\"","v":"87"},{"$f":"IF(入力シート!F61=0,\"\",入力シート!F61)","v":"2021-12-22"},{"$f":"入力シート!I61&\"\"","v":"ZZZ80-044626"},{"$f":"入力シート!J61&\"\"","v":"豊田"},{"$f":"入力シート!K61&\"\"","v":"東讃支店"},"・","現","帳"]
[{"$f":"入力シート!A62&\"\"","v":"42"},{"$f":"入力シート!B62&\"\"","v":"高松"},null,null,{"$f":"入力シート!C62&\"\"","v":"558"},null,null,{"$f":"入力シート!D62&\"\"","v":"く"},null,{"$f":"入力シート!E62&\"\"","v":"87"},{"$f":"IF(入力シート!F62=0,\"\",入力シート!F62)","v":"2021-12-23"},{"$f":"入力シート!I62&\"\"","v":"ZZZ80-044627"},{"$f":"入力シート!J62&\"\"","v":"豊田"},{"$f":"入力シート!K62&\"\"","v":"東讃支店"},"・","現","帳"]
[{"$f":"入力シート!A63&\"\"","v":"43"},{"$f":"入力シート!B63&\"\"","v":"高松"},null,null,{"$f":"入力シート!C63&\"\"","v":""},null,null,{"$f":"入力シート!D63&\"\"","v":""},null,{"$f":"入力シート!E63&\"\"","v":""},{"$f":"IF(入力シート!F63=0,\"\",入力シート!F63)","v":""},{"$f":"入力シート!I63&\"\"","v":""},{"$f":"入力シート!J63&\"\"","v":""},{"$f":"入力シート!K63&\"\"","v":""},"・","現","帳"]
[{"$f":"入力シート!A64&\"\"","v":"44"},{"$f":"入力シート!B64&\"\"","v":"高松"},null,null,{"$f":"入力シート!C64&\"\"","v":""},null,null,{"$f":"入力シート!D64&\"\"","v":""},null,{"$f":"入力シート!E64&\"\"","v":""},{"$f":"IF(入力シート!F64=0,\"\",入力シート!F64)","v":""},{"$f":"入力シート!I64&\"\"","v":""},{"$f":"入力シート!J64&\"\"","v":""},{"$f":"入力シート!K64&\"\"","v":""},"・","現","帳"]
[{"$f":"入力シート!A65&\"\"","v":"45"},{"$f":"入力シート!B65&\"\"","v":"高松"},null,null,{"$f":"入力シート!C65&\"\"","v":""},null,null,{"$f":"入力シート!D65&\"\"","v":""},null,{"$f":"入力シート!E65&\"\"","v":""},{"$f":"IF(入力シート!F65=0,\"\",入力シート!F65)","v":""},{"$f":"入力シート!I65&\"\"","v":""},{"$f":"入力シート!J65&\"\"","v":""},{"$f":"入力シート!K65&\"\"","v":""},"・","現","帳"]
[{"$f":"入力シート!A66&\"\"","v":"46"},{"$f":"入力シート!B66&\"\"","v":"高松"},null,null,{"$f":"入力シート!C66&\"\"","v":""},null,null,{"$f":"入力シート!D66&\"\"","v":""},null,{"$f":"入力シート!E66&\"\"","v":""},{"$f":"IF(入力シート!F66=0,\"\",入力シート!F66)","v":""},{"$f":"入力シート!I66&\"\"","v":""},{"$f":"入力シート!J66&\"\"","v":""},{"$f":"入力シート!K66&\"\"","v":""},"・","現","帳"]
[{"$f":"入力シート!A67&\"\"","v":"47"},{"$f":"入力シート!B67&\"\"","v":"高松"},null,null,{"$f":"入力シート!C67&\"\"","v":""},null,null,{"$f":"入力シート!D67&\"\"","v":""},null,{"$f":"入力シート!E67&\"\"","v":""},{"$f":"IF(入力シート!F67=0,\"\",入力シート!F67)","v":""},{"$f":"入力シート!I67&\"\"","v":""},{"$f":"入力シート!J67&\"\"","v":""},{"$f":"入力シート!K67&\"\"","v":""},"・","現","帳"]
[{"$f":"入力シート!A68&\"\"","v":"48"},{"$f":"入力シート!B68&\"\"","v":"高松"},null,null,{"$f":"入力シート!C68&\"\"","v":""},null,null,{"$f":"入力シート!D68&\"\"","v":""},null,{"$f":"入力シート!E68&\"\"","v":""},{"$f":"IF(入力シート!F68=0,\"\",入力シート!F68)","v":""},{"$f":"入力シート!I68&\"\"","v":""},{"$f":"入力シート!J68&\"\"","v":""},{"$f":"入力シート!K68&\"\"","v":""},"・","現","帳"]
[{"$f":"入力シート!A69&\"\"","v":"49"},{"$f":"入力シート!B69&\"\"","v":"高松"},null,null,{"$f":"入力シート!C69&\"\"","v":""},null,null,{"$f":"入力シート!D69&\"\"","v":""},null,{"$f":"入力シート!E69&\"\"","v":""},{"$f":"IF(入力シート!F69=0,\"\",入力シート!F69)","v":""},{"$f":"入力シート!I69&\"\"","v":""},{"$f":"入力シート!J69&\"\"","v":""},{"$f":"入力シート!K69&\"\"","v":""},"・","現","帳"]
[{"$f":"入力シート!A70&\"\"","v":"50"},{"$f":"入力シート!B70&\"\"","v":"高松"},null,null,{"$f":"入力シート!C70&\"\"","v":""},null,null,{"$f":"入力シート!D70&\"\"","v":""},null,{"$f":"入力シート!E70&\"\"","v":""},{"$f":"IF(入力シート!F70=0,\"\",入力シート!F70)","v":""},{"$f":"入力シート!I70&\"\"","v":""},{"$f":"入力シート!J70&\"\"","v":""},{"$f":"入力シート!K70&\"\"","v":""},"・","現","帳"]
[{"$f":"入力シート!A71&\"\"","v":"51"},{"$f":"入力シート!B71&\"\"","v":"高松"},null,null,{"$f":"入力シート!C71&\"\"","v":""},null,null,{"$f":"入力シート!D71&\"\"","v":""},null,{"$f":"入力シート!E71&\"\"","v":""},{"$f":"IF(入力シート!F71=0,\"\",入力シート!F71)","v":""},{"$f":"入力シート!I71&\"\"","v":""},{"$f":"入力シート!J71&\"\"","v":""},{"$f":"入力シート!K71&\"\"","v":""},"・","現","帳"]
[{"$f":"入力シート!A72&\"\"","v":"52"},{"$f":"入力シート!B72&\"\"","v":"高松"},null,null,{"$f":"入力シート!C72&\"\"","v":""},null,null,{"$f":"入力シート!D72&\"\"","v":""},null,{"$f":"入力シート!E72&\"\"","v":""},{"$f":"IF(入力シート!F72=0,\"\",入力シート!F72)","v":""},{"$f":"入力シート!I72&\"\"","v":""},{"$f":"入力シート!J72&\"\"","v":""},{"$f":"入力シート!K72&\"\"","v":""},"・","現","帳"]
[{"$f":"入力シート!A73&\"\"","v":"53"},{"$f":"入力シート!B73&\"\"","v":"高松"},null,null,{"$f":"入力シート!C73&\"\"","v":""},null,null,{"$f":"入力シート!D73&\"\"","v":""},null,{"$f":"入力シート!E73&\"\"","v":""},{"$f":"IF(入力シート!F73=0,\"\",入力シート!F73)","v":""},{"$f":"入力シート!I73&\"\"","v":""},{"$f":"入力シート!J73&\"\"","v":""},{"$f":"入力シート!K73&\"\"","v":""},"・","現","帳"]
[{"$f":"入力シート!A74&\"\"","v":"54"},{"$f":"入力シート!B74&\"\"","v":"高松"},null,null,{"$f":"入力シート!C74&\"\"","v":""},null,null,{"$f":"入力シート!D74&\"\"","v":""},null,{"$f":"入力シート!E74&\"\"","v":""},{"$f":"IF(入力シート!F74=0,\"\",入力シート!F74)","v":""},{"$f":"入力シート!I74&\"\"","v":""},{"$f":"入力シート!J74&\"\"","v":""},{"$f":"入力シート!K74&\"\"","v":""},"・","現","帳"]
[{"$f":"入力シート!A75&\"\"","v":"55"},{"$f":"入力シート!B75&\"\"","v":"高松"},null,null,{"$f":"入力シート!C75&\"\"","v":""},null,null,{"$f":"入力シート!D75&\"\"","v":""},null,{"$f":"入力シート!E75&\"\"","v":""},{"$f":"IF(入力シート!F75=0,\"\",入力シート!F75)","v":""},{"$f":"入力シート!I75&\"\"","v":""},{"$f":"入力シート!J75&\"\"","v":""},{"$f":"入力シート!K75&\"\"","v":""},"・","現","帳"]
[{"$f":"入力シート!A76&\"\"","v":"56"},{"$f":"入力シート!B76&\"\"","v":"高松"},null,null,{"$f":"入力シート!C76&\"\"","v":""},null,null,{"$f":"入力シート!D76&\"\"","v":""},null,{"$f":"入力シート!E76&\"\"","v":""},{"$f":"IF(入力シート!F76=0,\"\",入力シート!F76)","v":""},{"$f":"入力シート!I76&\"\"","v":""},{"$f":"入力シート!J76&\"\"","v":""},{"$f":"入力シート!K76&\"\"","v":""},"・","現","帳"]
[{"$f":"入力シート!A77&\"\"","v":"57"},{"$f":"入力シート!B77&\"\"","v":"高松"},null,null,{"$f":"入力シート!C77&\"\"","v":""},null,null,{"$f":"入力シート!D77&\"\"","v":""},null,{"$f":"入力シート!E77&\"\"","v":""},{"$f":"IF(入力シート!F77=0,\"\",入力シート!F77)","v":""},{"$f":"入力シート!I77&\"\"","v":""},{"$f":"入力シート!J77&\"\"","v":""},{"$f":"入力シート!K77&\"\"","v":""},"・","現","帳"]
[{"$f":"入力シート!A78&\"\"","v":"58"},{"$f":"入力シート!B78&\"\"","v":"高松"},null,null,{"$f":"入力シート!C78&\"\"","v":""},null,null,{"$f":"入力シート!D78&\"\"","v":""},null,{"$f":"入力シート!E78&\"\"","v":""},{"$f":"IF(入力シート!F78=0,\"\",入力シート!F78)","v":""},{"$f":"入力シート!I78&\"\"","v":""},{"$f":"入力シート!J78&\"\"","v":""},{"$f":"入力シート!K78&\"\"","v":""},"・","現","帳"]
[{"$f":"入力シート!A79&\"\"","v":"59"},{"$f":"入力シート!B79&\"\"","v":"高松"},null,null,{"$f":"入力シート!C79&\"\"","v":""},null,null,{"$f":"入力シート!D79&\"\"","v":""},null,{"$f":"入力シート!E79&\"\"","v":""},{"$f":"IF(入力シート!F79=0,\"\",入力シート!F79)","v":""},{"$f":"入力シート!I79&\"\"","v":""},{"$f":"入力シート!J79&\"\"","v":""},{"$f":"入力シート!K79&\"\"","v":""},"・","現","帳"]
[{"$f":"入力シート!A80&\"\"","v":"60"},{"$f":"入力シート!B80&\"\"","v":"高松"},null,null,{"$f":"入力シート!C80&\"\"","v":""},null,null,{"$f":"入力シート!D80&\"\"","v":""},null,{"$f":"入力シート!E80&\"\"","v":""},{"$f":"IF(入力シート!F80=0,\"\",入力シート!F80)","v":""},{"$f":"入力シート!I80&\"\"","v":""},{"$f":"入力シート!J80&\"\"","v":""},{"$f":"入力シート!K80&\"\"","v":""},"・","現","帳"]
[{"$f":"入力シート!A81&\"\"","v":"61"},{"$f":"入力シート!B81&\"\"","v":"高松"},null,null,{"$f":"入力シート!C81&\"\"","v":""},null,null,{"$f":"入力シート!D81&\"\"","v":""},null,{"$f":"入力シート!E81&\"\"","v":""},{"$f":"IF(入力シート!F81=0,\"\",入力シート!F81)","v":""},{"$f":"入力シート!I81&\"\"","v":""},{"$f":"入力シート!J81&\"\"","v":""},{"$f":"入力シート!K81&\"\"","v":""},"・","現","帳"]
[{"$f":"入力シート!A82&\"\"","v":"62"},{"$f":"入力シート!B82&\"\"","v":"高松"},null,null,{"$f":"入力シート!C82&\"\"","v":""},null,null,{"$f":"入力シート!D82&\"\"","v":""},null,{"$f":"入力シート!E82&\"\"","v":""},{"$f":"IF(入力シート!F82=0,\"\",入力シート!F82)","v":""},{"$f":"入力シート!I82&\"\"","v":""},{"$f":"入力シート!J82&\"\"","v":""},{"$f":"入力シート!K82&\"\"","v":""},"・","現","帳"]
[{"$f":"入力シート!A83&\"\"","v":"63"},{"$f":"入力シート!B83&\"\"","v":"高松"},null,null,{"$f":"入力シート!C83&\"\"","v":""},null,null,{"$f":"入力シート!D83&\"\"","v":""},null,{"$f":"入力シート!E83&\"\"","v":""},{"$f":"IF(入力シート!F83=0,\"\",入力シート!F83)","v":""},{"$f":"入力シート!I83&\"\"","v":""},{"$f":"入力シート!J83&\"\"","v":""},{"$f":"入力シート!K83&\"\"","v":""},"・","現","帳"]
[{"$f":"入力シート!A84&\"\"","v":"64"},{"$f":"入力シート!B84&\"\"","v":"高松"},null,null,{"$f":"入力シート!C84&\"\"","v":""},null,null,{"$f":"入力シート!D84&\"\"","v":""},null,{"$f":"入力シート!E84&\"\"","v":""},{"$f":"IF(入力シート!F84=0,\"\",入力シート!F84)","v":""},{"$f":"入力シート!I84&\"\"","v":""},{"$f":"入力シート!J84&\"\"","v":""},{"$f":"入力シート!K84&\"\"","v":""},"・","現","帳"]
[{"$f":"入力シート!A85&\"\"","v":"65"},{"$f":"入力シート!B85&\"\"","v":"高松"},null,null,{"$f":"入力シート!C85&\"\"","v":""},null,null,{"$f":"入力シート!D85&\"\"","v":""},null,{"$f":"入力シート!E85&\"\"","v":""},{"$f":"IF(入力シート!F85=0,\"\",入力シート!F85)","v":""},{"$f":"入力シート!I85&\"\"","v":""},{"$f":"入力シート!J85&\"\"","v":""},{"$f":"入力シート!K85&\"\"","v":""},"・","現","帳"]
[{"$f":"入力シート!A86&\"\"","v":"66"},{"$f":"入力シート!B86&\"\"","v":"高松"},null,null,{"$f":"入力シート!C86&\"\"","v":""},null,null,{"$f":"入力シート!D86&\"\"","v":""},null,{"$f":"入力シート!E86&\"\"","v":""},{"$f":"IF(入力シート!F86=0,\"\",入力シート!F86)","v":""},{"$f":"入力シート!I86&\"\"","v":""},{"$f":"入力シート!J86&\"\"","v":""},{"$f":"入力シート!K86&\"\"","v":""},"・","現","帳"]
[{"$f":"入力シート!A87&\"\"","v":"67"},{"$f":"入力シート!B87&\"\"","v":"高松"},null,null,{"$f":"入力シート!C87&\"\"","v":""},null,null,{"$f":"入力シート!D87&\"\"","v":""},null,{"$f":"入力シート!E87&\"\"","v":""},{"$f":"IF(入力シート!F87=0,\"\",入力シート!F87)","v":""},{"$f":"入力シート!I87&\"\"","v":""},{"$f":"入力シート!J87&\"\"","v":""},{"$f":"入力シート!K87&\"\"","v":""},"・","現","帳"]
[{"$f":"入力シート!A88&\"\"","v":"68"},{"$f":"入力シート!B88&\"\"","v":"高松"},null,null,{"$f":"入力シート!C88&\"\"","v":""},null,null,{"$f":"入力シート!D88&\"\"","v":""},null,{"$f":"入力シート!E88&\"\"","v":""},{"$f":"IF(入力シート!F88=0,\"\",入力シート!F88)","v":""},{"$f":"入力シート!I88&\"\"","v":""},{"$f":"入力シート!J88&\"\"","v":""},{"$f":"入力シート!K88&\"\"","v":""},"・","現","帳"]
[{"$f":"入力シート!A89&\"\"","v":"69"},{"$f":"入力シート!B89&\"\"","v":"高松"},null,null,{"$f":"入力シート!C89&\"\"","v":""},null,null,{"$f":"入力シート!D89&\"\"","v":""},null,{"$f":"入力シート!E89&\"\"","v":""},{"$f":"IF(入力シート!F89=0,\"\",入力シート!F89)","v":""},{"$f":"入力シート!I89&\"\"","v":""},{"$f":"入力シート!J89&\"\"","v":""},{"$f":"入力シート!K89&\"\"","v":""},"・","現","帳"]
[{"$f":"入力シート!A90&\"\"","v":"70"},{"$f":"入力シート!B90&\"\"","v":"高松"},null,null,{"$f":"入力シート!C90&\"\"","v":""},null,null,{"$f":"入力シート!D90&\"\"","v":""},null,{"$f":"入力シート!E90&\"\"","v":""},{"$f":"IF(入力シート!F90=0,\"\",入力シート!F90)","v":""},{"$f":"入力シート!I90&\"\"","v":""},{"$f":"入力シート!J90&\"\"","v":""},{"$f":"入力シート!K90&\"\"","v":""},"・","現","帳"]
[{"$f":"入力シート!A91&\"\"","v":"71"},{"$f":"入力シート!B91&\"\"","v":"高松"},null,null,{"$f":"入力シート!C91&\"\"","v":""},null,null,{"$f":"入力シート!D91&\"\"","v":""},null,{"$f":"入力シート!E91&\"\"","v":""},{"$f":"IF(入力シート!F91=0,\"\",入力シート!F91)","v":""},{"$f":"入力シート!I91&\"\"","v":""},{"$f":"入力シート!J91&\"\"","v":""},{"$f":"入力シート!K91&\"\"","v":""},"・","現","帳"]
[{"$f":"入力シート!A92&\"\"","v":"72"},{"$f":"入力シート!B92&\"\"","v":"高松"},null,null,{"$f":"入力シート!C92&\"\"","v":""},null,null,{"$f":"入力シート!D92&\"\"","v":""},null,{"$f":"入力シート!E92&\"\"","v":""},{"$f":"IF(入力シート!F92=0,\"\",入力シート!F92)","v":""},{"$f":"入力シート!I92&\"\"","v":""},{"$f":"入力シート!J92&\"\"","v":""},{"$f":"入力シート!K92&\"\"","v":""},"・","現","帳"]
[{"$f":"入力シート!A93&\"\"","v":"73"},{"$f":"入力シート!B93&\"\"","v":"高松"},null,null,{"$f":"入力シート!C93&\"\"","v":""},null,null,{"$f":"入力シート!D93&\"\"","v":""},null,{"$f":"入力シート!E93&\"\"","v":""},{"$f":"IF(入力シート!F93=0,\"\",入力シート!F93)","v":""},{"$f":"入力シート!I93&\"\"","v":""},{"$f":"入力シート!J93&\"\"","v":""},{"$f":"入力シート!K93&\"\"","v":""},"・","現","帳"]
[{"$f":"入力シート!A94&\"\"","v":"74"},{"$f":"入力シート!B94&\"\"","v":"高松"},null,null,{"$f":"入力シート!C94&\"\"","v":""},null,null,{"$f":"入力シート!D94&\"\"","v":""},null,{"$f":"入力シート!E94&\"\"","v":""},{"$f":"IF(入力シート!F94=0,\"\",入力シート!F94)","v":""},{"$f":"入力シート!I94&\"\"","v":""},{"$f":"入力シート!J94&\"\"","v":""},{"$f":"入力シート!K94&\"\"","v":""},"・","現","帳"]
[{"$f":"入力シート!A95&\"\"","v":"75"},{"$f":"入力シート!B95&\"\"","v":"高松"},null,null,{"$f":"入力シート!C95&\"\"","v":""},null,null,{"$f":"入力シート!D95&\"\"","v":""},null,{"$f":"入力シート!E95&\"\"","v":""},{"$f":"IF(入力シート!F95=0,\"\",入力シート!F95)","v":""},{"$f":"入力シート!I95&\"\"","v":""},{"$f":"入力シート!J95&\"\"","v":""},{"$f":"入力シート!K95&\"\"","v":""},"・","現","帳"]
[{"$f":"入力シート!A96&\"\"","v":"76"},{"$f":"入力シート!B96&\"\"","v":"高松"},null,null,{"$f":"入力シート!C96&\"\"","v":""},null,null,{"$f":"入力シート!D96&\"\"","v":""},null,{"$f":"入力シート!E96&\"\"","v":""},{"$f":"IF(入力シート!F96=0,\"\",入力シート!F96)","v":""},{"$f":"入力シート!I96&\"\"","v":""},{"$f":"入力シート!J96&\"\"","v":""},{"$f":"入力シート!K96&\"\"","v":""},"・","現","帳"]
[{"$f":"入力シート!A97&\"\"","v":"77"},{"$f":"入力シート!B97&\"\"","v":"高松"},null,null,{"$f":"入力シート!C97&\"\"","v":""},null,null,{"$f":"入力シート!D97&\"\"","v":""},null,{"$f":"入力シート!E97&\"\"","v":""},{"$f":"IF(入力シート!F97=0,\"\",入力シート!F97)","v":""},{"$f":"入力シート!I97&\"\"","v":""},{"$f":"入力シート!J97&\"\"","v":""},{"$f":"入力シート!K97&\"\"","v":""},"・","現","帳"]
[{"$f":"入力シート!A98&\"\"","v":"78"},{"$f":"入力シート!B98&\"\"","v":"高松"},null,null,{"$f":"入力シート!C98&\"\"","v":""},null,null,{"$f":"入力シート!D98&\"\"","v":""},null,{"$f":"入力シート!E98&\"\"","v":""},{"$f":"IF(入力シート!F98=0,\"\",入力シート!F98)","v":""},{"$f":"入力シート!I98&\"\"","v":""},{"$f":"入力シート!J98&\"\"","v":""},{"$f":"入力シート!K98&\"\"","v":""},"・","現","帳"]
[{"$f":"入力シート!A99&\"\"","v":"79"},{"$f":"入力シート!B99&\"\"","v":"高松"},null,null,{"$f":"入力シート!C99&\"\"","v":""},null,null,{"$f":"入力シート!D99&\"\"","v":""},null,{"$f":"入力シート!E99&\"\"","v":""},{"$f":"IF(入力シート!F99=0,\"\",入力シート!F99)","v":""},{"$f":"入力シート!I99&\"\"","v":""},{"$f":"入力シート!J99&\"\"","v":""},{"$f":"入力シート!K99&\"\"","v":""},"・","現","帳"]
[{"$f":"入力シート!A100&\"\"","v":"80"},{"$f":"入力シート!B100&\"\"","v":"高松"},null,null,{"$f":"入力シート!C100&\"\"","v":""},null,null,{"$f":"入力シート!D100&\"\"","v":""},null,{"$f":"入力シート!E100&\"\"","v":""},{"$f":"IF(入力シート!F100=0,\"\",入力シート!F100)","v":""},{"$f":"入力シート!I100&\"\"","v":""},{"$f":"入力シート!J100&\"\"","v":""},{"$f":"入力シート!K100&\"\"","v":""},"・","現","帳"]
[{"$f":"入力シート!A101&\"\"","v":"81"},{"$f":"入力シート!B101&\"\"","v":"高松"},null,null,{"$f":"入力シート!C101&\"\"","v":""},null,null,{"$f":"入力シート!D101&\"\"","v":""},null,{"$f":"入力シート!E101&\"\"","v":""},{"$f":"IF(入力シート!F101=0,\"\",入力シート!F101)","v":""},{"$f":"入力シート!I101&\"\"","v":""},{"$f":"入力シート!J101&\"\"","v":""},{"$f":"入力シート!K101&\"\"","v":""},"・","現","帳"]
[{"$f":"入力シート!A102&\"\"","v":"82"},{"$f":"入力シート!B102&\"\"","v":"高松"},null,null,{"$f":"入力シート!C102&\"\"","v":""},null,null,{"$f":"入力シート!D102&\"\"","v":""},null,{"$f":"入力シート!E102&\"\"","v":""},{"$f":"IF(入力シート!F102=0,\"\",入力シート!F102)","v":""},{"$f":"入力シート!I102&\"\"","v":""},{"$f":"入力シート!J102&\"\"","v":""},{"$f":"入力シート!K102&\"\"","v":""},"・","現","帳"]
[{"$f":"入力シート!A103&\"\"","v":"83"},{"$f":"入力シート!B103&\"\"","v":"高松"},null,null,{"$f":"入力シート!C103&\"\"","v":""},null,null,{"$f":"入力シート!D103&\"\"","v":""},null,{"$f":"入力シート!E103&\"\"","v":""},{"$f":"IF(入力シート!F103=0,\"\",入力シート!F103)","v":""},{"$f":"入力シート!I103&\"\"","v":""},{"$f":"入力シート!J103&\"\"","v":""},{"$f":"入力シート!K103&\"\"","v":""},"・","現","帳"]
[{"$f":"入力シート!A104&\"\"","v":"84"},{"$f":"入力シート!B104&\"\"","v":"高松"},null,null,{"$f":"入力シート!C104&\"\"","v":""},null,null,{"$f":"入力シート!D104&\"\"","v":""},null,{"$f":"入力シート!E104&\"\"","v":""},{"$f":"IF(入力シート!F104=0,\"\",入力シート!F104)","v":""},{"$f":"入力シート!I104&\"\"","v":""},{"$f":"入力シート!J104&\"\"","v":""},{"$f":"入力シート!K104&\"\"","v":""},"・","現","帳"]
[{"$f":"入力シート!A105&\"\"","v":"85"},{"$f":"入力シート!B105&\"\"","v":"高松"},null,null,{"$f":"入力シート!C105&\"\"","v":""},null,null,{"$f":"入力シート!D105&\"\"","v":""},null,{"$f":"入力シート!E105&\"\"","v":""},{"$f":"IF(入力シート!F105=0,\"\",入力シート!F105)","v":""},{"$f":"入力シート!I105&\"\"","v":""},{"$f":"入力シート!J105&\"\"","v":""},{"$f":"入力シート!K105&\"\"","v":""},"・","現","帳"]
[{"$f":"入力シート!A106&\"\"","v":"86"},{"$f":"入力シート!B106&\"\"","v":"高松"},null,null,{"$f":"入力シート!C106&\"\"","v":""},null,null,{"$f":"入力シート!D106&\"\"","v":""},null,{"$f":"入力シート!E106&\"\"","v":""},{"$f":"IF(入力シート!F106=0,\"\",入力シート!F106)","v":""},{"$f":"入力シート!I106&\"\"","v":""},{"$f":"入力シート!J106&\"\"","v":""},{"$f":"入力シート!K106&\"\"","v":""},"・","現","帳"]
[{"$f":"入力シート!A107&\"\"","v":"87"},{"$f":"入力シート!B107&\"\"","v":"高松"},null,null,{"$f":"入力シート!C107&\"\"","v":""},null,null,{"$f":"入力シート!D107&\"\"","v":""},null,{"$f":"入力シート!E107&\"\"","v":""},{"$f":"IF(入力シート!F107=0,\"\",入力シート!F107)","v":""},{"$f":"入力シート!I107&\"\"","v":""},{"$f":"入力シート!J107&\"\"","v":""},{"$f":"入力シート!K107&\"\"","v":""},"・","現","帳"]
[{"$f":"入力シート!A108&\"\"","v":"88"},{"$f":"入力シート!B108&\"\"","v":"高松"},null,null,{"$f":"入力シート!C108&\"\"","v":""},null,null,{"$f":"入力シート!D108&\"\"","v":""},null,{"$f":"入力シート!E108&\"\"","v":""},{"$f":"IF(入力シート!F108=0,\"\",入力シート!F108)","v":""},{"$f":"入力シート!I108&\"\"","v":""},{"$f":"入力シート!J108&\"\"","v":""},{"$f":"入力シート!K108&\"\"","v":""},"・","現","帳"]
[{"$f":"入力シート!A109&\"\"","v":"89"},{"$f":"入力シート!B109&\"\"","v":"高松"},null,null,{"$f":"入力シート!C109&\"\"","v":""},null,null,{"$f":"入力シート!D109&\"\"","v":""},null,{"$f":"入力シート!E109&\"\"","v":""},{"$f":"IF(入力シート!F109=0,\"\",入力シート!F109)","v":""},{"$f":"入力シート!I109&\"\"","v":""},{"$f":"入力シート!J109&\"\"","v":""},{"$f":"入力シート!K109&\"\"","v":""},"・","現","帳"]
[{"$f":"入力シート!A110&\"\"","v":"90"},{"$f":"入力シート!B110&\"\"","v":"高松"},null,null,{"$f":"入力シート!C110&\"\"","v":""},null,null,{"$f":"入力シート!D110&\"\"","v":""},null,{"$f":"入力シート!E110&\"\"","v":""},{"$f":"IF(入力シート!F110=0,\"\",入力シート!F110)","v":""},{"$f":"入力シート!I110&\"\"","v":""},{"$f":"入力シート!J110&\"\"","v":""},{"$f":"入力シート!K110&\"\"","v":""},"・","現","帳"]
[{"$f":"入力シート!A111&\"\"","v":"91"},{"$f":"入力シート!B111&\"\"","v":"高松"},null,null,{"$f":"入力シート!C111&\"\"","v":""},null,null,{"$f":"入力シート!D111&\"\"","v":""},null,{"$f":"入力シート!E111&\"\"","v":""},{"$f":"IF(入力シート!F111=0,\"\",入力シート!F111)","v":""},{"$f":"入力シート!I111&\"\"","v":""},{"$f":"入力シート!J111&\"\"","v":""},{"$f":"入力シート!K111&\"\"","v":""},"・","現","帳"]
[{"$f":"入力シート!A112&\"\"","v":"92"},{"$f":"入力シート!B112&\"\"","v":"高松"},null,null,{"$f":"入力シート!C112&\"\"","v":""},null,null,{"$f":"入力シート!D112&\"\"","v":""},null,{"$f":"入力シート!E112&\"\"","v":""},{"$f":"IF(入力シート!F112=0,\"\",入力シート!F112)","v":""},{"$f":"入力シート!I112&\"\"","v":""},{"$f":"入力シート!J112&\"\"","v":""},{"$f":"入力シート!K112&\"\"","v":""},"・","現","帳"]
[{"$f":"入力シート!A113&\"\"","v":"93"},{"$f":"入力シート!B113&\"\"","v":"高松"},null,null,{"$f":"入力シート!C113&\"\"","v":""},null,null,{"$f":"入力シート!D113&\"\"","v":""},null,{"$f":"入力シート!E113&\"\"","v":""},{"$f":"IF(入力シート!F113=0,\"\",入力シート!F113)","v":""},{"$f":"入力シート!I113&\"\"","v":""},{"$f":"入力シート!J113&\"\"","v":""},{"$f":"入力シート!K113&\"\"","v":""},"・","現","帳"]
[{"$f":"入力シート!A114&\"\"","v":"94"},{"$f":"入力シート!B114&\"\"","v":"高松"},null,null,{"$f":"入力シート!C114&\"\"","v":""},null,null,{"$f":"入力シート!D114&\"\"","v":""},null,{"$f":"入力シート!E114&\"\"","v":""},{"$f":"IF(入力シート!F114=0,\"\",入力シート!F114)","v":""},{"$f":"入力シート!I114&\"\"","v":""},{"$f":"入力シート!J114&\"\"","v":""},{"$f":"入力シート!K114&\"\"","v":""},"・","現","帳"]
[{"$f":"入力シート!A115&\"\"","v":"95"},{"$f":"入力シート!B115&\"\"","v":"高松"},null,null,{"$f":"入力シート!C115&\"\"","v":""},null,null,{"$f":"入力シート!D115&\"\"","v":""},null,{"$f":"入力シート!E115&\"\"","v":""},{"$f":"IF(入力シート!F115=0,\"\",入力シート!F115)","v":""},{"$f":"入力シート!I115&\"\"","v":""},{"$f":"入力シート!J115&\"\"","v":""},{"$f":"入力シート!K115&\"\"","v":""},"・","現","帳"]
[{"$f":"入力シート!A116&\"\"","v":"96"},{"$f":"入力シート!B116&\"\"","v":"高松"},null,null,{"$f":"入力シート!C116&\"\"","v":""},null,null,{"$f":"入力シート!D116&\"\"","v":""},null,{"$f":"入力シート!E116&\"\"","v":""},{"$f":"IF(入力シート!F116=0,\"\",入力シート!F116)","v":""},{"$f":"入力シート!I116&\"\"","v":""},{"$f":"入力シート!J116&\"\"","v":""},{"$f":"入力シート!K116&\"\"","v":""},"・","現","帳"]
[{"$f":"入力シート!A117&\"\"","v":"97"},{"$f":"入力シート!B117&\"\"","v":"高松"},null,null,{"$f":"入力シート!C117&\"\"","v":""},null,null,{"$f":"入力シート!D117&\"\"","v":""},null,{"$f":"入力シート!E117&\"\"","v":""},{"$f":"IF(入力シート!F117=0,\"\",入力シート!F117)","v":""},{"$f":"入力シート!I117&\"\"","v":""},{"$f":"入力シート!J117&\"\"","v":""},{"$f":"入力シート!K117&\"\"","v":""},"・","現","帳"]
[{"$f":"入力シート!A118&\"\"","v":"98"},{"$f":"入力シート!B118&\"\"","v":"高松"},null,null,{"$f":"入力シート!C118&\"\"","v":""},null,null,{"$f":"入力シート!D118&\"\"","v":""},null,{"$f":"入力シート!E118&\"\"","v":""},{"$f":"IF(入力シート!F118=0,\"\",入力シート!F118)","v":""},{"$f":"入力シート!I118&\"\"","v":""},{"$f":"入力シート!J118&\"\"","v":""},{"$f":"入力シート!K118&\"\"","v":""},"・","現","帳"]
[{"$f":"入力シート!A119&\"\"","v":"99"},{"$f":"入力シート!B119&\"\"","v":"高松"},null,null,{"$f":"入力シート!C119&\"\"","v":""},null,null,{"$f":"入力シート!D119&\"\"","v":""},null,{"$f":"入力シート!E119&\"\"","v":""},{"$f":"IF(入力シート!F119=0,\"\",入力シート!F119)","v":""},{"$f":"入力シート!I119&\"\"","v":""},{"$f":"入力シート!J119&\"\"","v":""},{"$f":"入力シート!K119&\"\"","v":""},"・","現","帳"]
[{"$f":"入力シート!A120&\"\"","v":"100"},{"$f":"入力シート!B120&\"\"","v":"高松"},null,null,{"$f":"入力シート!C120&\"\"","v":""},null,null,{"$f":"入力シート!D120&\"\"","v":""},null,{"$f":"入力シート!E120&\"\"","v":""},{"$f":"IF(入力シート!F120=0,\"\",入力シート!F120)","v":""},{"$f":"入力シート!I120&\"\"","v":""},{"$f":"入力シート!J120&\"\"","v":""},{"$f":"入力シート!K120&\"\"","v":""},"・","現","帳"]
[{"$f":"入力シート!A121&\"\"","v":"101"},{"$f":"入力シート!B121&\"\"","v":"高松"},null,null,{"$f":"入力シート!C121&\"\"","v":""},null,null,{"$f":"入力シート!D121&\"\"","v":""},null,{"$f":"入力シート!E121&\"\"","v":""},{"$f":"IF(入力シート!F121=0,\"\",入力シート!F121)","v":""},{"$f":"入力シート!I121&\"\"","v":""},{"$f":"入力シート!J121&\"\"","v":""},{"$f":"入力シート!K121&\"\"","v":""},"・","現","帳"]
[{"$f":"入力シート!A122&\"\"","v":"102"},{"$f":"入力シート!B122&\"\"","v":"高松"},null,null,{"$f":"入力シート!C122&\"\"","v":""},null,null,{"$f":"入力シート!D122&\"\"","v":""},null,{"$f":"入力シート!E122&\"\"","v":""},{"$f":"IF(入力シート!F122=0,\"\",入力シート!F122)","v":""},{"$f":"入力シート!I122&\"\"","v":""},{"$f":"入力シート!J122&\"\"","v":""},{"$f":"入力シート!K122&\"\"","v":""},"・","現","帳"]
[{"$f":"入力シート!A123&\"\"","v":"103"},{"$f":"入力シート!B123&\"\"","v":"高松"},null,null,{"$f":"入力シート!C123&\"\"","v":""},null,null,{"$f":"入力シート!D123&\"\"","v":""},null,{"$f":"入力シート!E123&\"\"","v":""},{"$f":"IF(入力シート!F123=0,\"\",入力シート!F123)","v":""},{"$f":"入力シート!I123&\"\"","v":""},{"$f":"入力シート!J123&\"\"","v":""},{"$f":"入力シート!K123&\"\"","v":""},"・","現","帳"]
[{"$f":"入力シート!A124&\"\"","v":"104"},{"$f":"入力シート!B124&\"\"","v":"高松"},null,null,{"$f":"入力シート!C124&\"\"","v":""},null,null,{"$f":"入力シート!D124&\"\"","v":""},null,{"$f":"入力シート!E124&\"\"","v":""},{"$f":"IF(入力シート!F124=0,\"\",入力シート!F124)","v":""},{"$f":"入力シート!I124&\"\"","v":""},{"$f":"入力シート!J124&\"\"","v":""},{"$f":"入力シート!K124&\"\"","v":""},"・","現","帳"]
[{"$f":"入力シート!A125&\"\"","v":"105"},{"$f":"入力シート!B125&\"\"","v":"高松"},null,null,{"$f":"入力シート!C125&\"\"","v":""},null,null,{"$f":"入力シート!D125&\"\"","v":""},null,{"$f":"入力シート!E125&\"\"","v":""},{"$f":"IF(入力シート!F125=0,\"\",入力シート!F125)","v":""},{"$f":"入力シート!I125&\"\"","v":""},{"$f":"入力シート!J125&\"\"","v":""},{"$f":"入力シート!K125&\"\"","v":""},"・","現","帳"]
[{"$f":"入力シート!A126&\"\"","v":"106"},{"$f":"入力シート!B126&\"\"","v":"高松"},null,null,{"$f":"入力シート!C126&\"\"","v":""},null,null,{"$f":"入力シート!D126&\"\"","v":""},null,{"$f":"入力シート!E126&\"\"","v":""},{"$f":"IF(入力シート!F126=0,\"\",入力シート!F126)","v":""},{"$f":"入力シート!I126&\"\"","v":""},{"$f":"入力シート!J126&\"\"","v":""},{"$f":"入力シート!K126&\"\"","v":""},"・","現","帳"]
[{"$f":"入力シート!A127&\"\"","v":"107"},{"$f":"入力シート!B127&\"\"","v":"高松"},null,null,{"$f":"入力シート!C127&\"\"","v":""},null,null,{"$f":"入力シート!D127&\"\"","v":""},null,{"$f":"入力シート!E127&\"\"","v":""},{"$f":"IF(入力シート!F127=0,\"\",入力シート!F127)","v":""},{"$f":"入力シート!I127&\"\"","v":""},{"$f":"入力シート!J127&\"\"","v":""},{"$f":"入力シート!K127&\"\"","v":""},"・","現","帳"]
[{"$f":"入力シート!A128&\"\"","v":"108"},{"$f":"入力シート!B128&\"\"","v":"高松"},null,null,{"$f":"入力シート!C128&\"\"","v":""},null,null,{"$f":"入力シート!D128&\"\"","v":""},null,{"$f":"入力シート!E128&\"\"","v":""},{"$f":"IF(入力シート!F128=0,\"\",入力シート!F128)","v":""},{"$f":"入力シート!I128&\"\"","v":""},{"$f":"入力シート!J128&\"\"","v":""},{"$f":"入力シート!K128&\"\"","v":""},"・","現","帳"]
[{"$f":"入力シート!A129&\"\"","v":"109"},{"$f":"入力シート!B129&\"\"","v":"高松"},null,null,{"$f":"入力シート!C129&\"\"","v":""},null,null,{"$f":"入力シート!D129&\"\"","v":""},null,{"$f":"入力シート!E129&\"\"","v":""},{"$f":"IF(入力シート!F129=0,\"\",入力シート!F129)","v":""},{"$f":"入力シート!I129&\"\"","v":""},{"$f":"入力シート!J129&\"\"","v":""},{"$f":"入力シート!K129&\"\"","v":""},"・","現","帳"]
[{"$f":"入力シート!A130&\"\"","v":"110"},{"$f":"入力シート!B130&\"\"","v":"高松"},null,null,{"$f":"入力シート!C130&\"\"","v":""},null,null,{"$f":"入力シート!D130&\"\"","v":""},null,{"$f":"入力シート!E130&\"\"","v":""},{"$f":"IF(入力シート!F130=0,\"\",入力シート!F130)","v":""},{"$f":"入力シート!I130&\"\"","v":""},{"$f":"入力シート!J130&\"\"","v":""},{"$f":"入力シート!K130&\"\"","v":""},"・","現","帳"]
[{"$f":"入力シート!A131&\"\"","v":"111"},{"$f":"入力シート!B131&\"\"","v":"高松"},null,null,{"$f":"入力シート!C131&\"\"","v":""},null,null,{"$f":"入力シート!D131&\"\"","v":""},null,{"$f":"入力シート!E131&\"\"","v":""},{"$f":"IF(入力シート!F131=0,\"\",入力シート!F131)","v":""},{"$f":"入力シート!I131&\"\"","v":""},{"$f":"入力シート!J131&\"\"","v":""},{"$f":"入力シート!K131&\"\"","v":""},"・","現","帳"]
[{"$f":"入力シート!A132&\"\"","v":"112"},{"$f":"入力シート!B132&\"\"","v":"高松"},null,null,{"$f":"入力シート!C132&\"\"","v":""},null,null,{"$f":"入力シート!D132&\"\"","v":""},null,{"$f":"入力シート!E132&\"\"","v":""},{"$f":"IF(入力シート!F132=0,\"\",入力シート!F132)","v":""},{"$f":"入力シート!I132&\"\"","v":""},{"$f":"入力シート!J132&\"\"","v":""},{"$f":"入力シート!K132&\"\"","v":""},"・","現","帳"]
[{"$f":"入力シート!A133&\"\"","v":"113"},{"$f":"入力シート!B133&\"\"","v":"高松"},null,null,{"$f":"入力シート!C133&\"\"","v":""},null,null,{"$f":"入力シート!D133&\"\"","v":""},null,{"$f":"入力シート!E133&\"\"","v":""},{"$f":"IF(入力シート!F133=0,\"\",入力シート!F133)","v":""},{"$f":"入力シート!I133&\"\"","v":""},{"$f":"入力シート!J133&\"\"","v":""},{"$f":"入力シート!K133&\"\"","v":""},"・","現","帳"]
[{"$f":"入力シート!A134&\"\"","v":"114"},{"$f":"入力シート!B134&\"\"","v":"高松"},null,null,{"$f":"入力シート!C134&\"\"","v":""},null,null,{"$f":"入力シート!D134&\"\"","v":""},null,{"$f":"入力シート!E134&\"\"","v":""},{"$f":"IF(入力シート!F134=0,\"\",入力シート!F134)","v":""},{"$f":"入力シート!I134&\"\"","v":""},{"$f":"入力シート!J134&\"\"","v":""},{"$f":"入力シート!K134&\"\"","v":""},"・","現","帳"]
[{"$f":"入力シート!A135&\"\"","v":"115"},{"$f":"入力シート!B135&\"\"","v":"高松"},null,null,{"$f":"入力シート!C135&\"\"","v":""},null,null,{"$f":"入力シート!D135&\"\"","v":""},null,{"$f":"入力シート!E135&\"\"","v":""},{"$f":"IF(入力シート!F135=0,\"\",入力シート!F135)","v":""},{"$f":"入力シート!I135&\"\"","v":""},{"$f":"入力シート!J135&\"\"","v":""},{"$f":"入力シート!K135&\"\"","v":""},"・","現","帳"]
[{"$f":"入力シート!A136&\"\"","v":"116"},{"$f":"入力シート!B136&\"\"","v":"高松"},null,null,{"$f":"入力シート!C136&\"\"","v":""},null,null,{"$f":"入力シート!D136&\"\"","v":""},null,{"$f":"入力シート!E136&\"\"","v":""},{"$f":"IF(入力シート!F136=0,\"\",入力シート!F136)","v":""},{"$f":"入力シート!I136&\"\"","v":""},{"$f":"入力シート!J136&\"\"","v":""},{"$f":"入力シート!K136&\"\"","v":""},"・","現","帳"]
[{"$f":"入力シート!A137&\"\"","v":"117"},{"$f":"入力シート!B137&\"\"","v":"高松"},null,null,{"$f":"入力シート!C137&\"\"","v":""},null,null,{"$f":"入力シート!D137&\"\"","v":""},null,{"$f":"入力シート!E137&\"\"","v":""},{"$f":"IF(入力シート!F137=0,\"\",入力シート!F137)","v":""},{"$f":"入力シート!I137&\"\"","v":""},{"$f":"入力シート!J137&\"\"","v":""},{"$f":"入力シート!K137&\"\"","v":""},"・","現","帳"]
[{"$f":"入力シート!A138&\"\"","v":"118"},{"$f":"入力シート!B138&\"\"","v":"高松"},null,null,{"$f":"入力シート!C138&\"\"","v":""},null,null,{"$f":"入力シート!D138&\"\"","v":""},null,{"$f":"入力シート!E138&\"\"","v":""},{"$f":"IF(入力シート!F138=0,\"\",入力シート!F138)","v":""},{"$f":"入力シート!I138&\"\"","v":""},{"$f":"入力シート!J138&\"\"","v":""},{"$f":"入力シート!K138&\"\"","v":""},"・","現","帳"]
[{"$f":"入力シート!A139&\"\"","v":"119"},{"$f":"入力シート!B139&\"\"","v":"高松"},null,null,{"$f":"入力シート!C139&\"\"","v":""},null,null,{"$f":"入力シート!D139&\"\"","v":""},null,{"$f":"入力シート!E139&\"\"","v":""},{"$f":"IF(入力シート!F139=0,\"\",入力シート!F139)","v":""},{"$f":"入力シート!I139&\"\"","v":""},{"$f":"入力シート!J139&\"\"","v":""},{"$f":"入力シート!K139&\"\"","v":""},"・","現","帳"]
[{"$f":"入力シート!A140&\"\"","v":"120"},{"$f":"入力シート!B140&\"\"","v":"高松"},null,null,{"$f":"入力シート!C140&\"\"","v":""},null,null,{"$f":"入力シート!D140&\"\"","v":""},null,{"$f":"入力シート!E140&\"\"","v":""},{"$f":"IF(入力シート!F140=0,\"\",入力シート!F140)","v":""},{"$f":"入力シート!I140&\"\"","v":""},{"$f":"入力シート!J140&\"\"","v":""},{"$f":"入力シート!K140&\"\"","v":""},"・","現","帳"]
[{"$f":"入力シート!A141&\"\"","v":"121"},{"$f":"入力シート!B141&\"\"","v":"高松"},null,null,{"$f":"入力シート!C141&\"\"","v":""},null,null,{"$f":"入力シート!D141&\"\"","v":""},null,{"$f":"入力シート!E141&\"\"","v":""},{"$f":"IF(入力シート!F141=0,\"\",入力シート!F141)","v":""},{"$f":"入力シート!I141&\"\"","v":""},{"$f":"入力シート!J141&\"\"","v":""},{"$f":"入力シート!K141&\"\"","v":""},"・","現","帳"]
[{"$f":"入力シート!A142&\"\"","v":"122"},{"$f":"入力シート!B142&\"\"","v":"高松"},null,null,{"$f":"入力シート!C142&\"\"","v":""},null,null,{"$f":"入力シート!D142&\"\"","v":""},null,{"$f":"入力シート!E142&\"\"","v":""},{"$f":"IF(入力シート!F142=0,\"\",入力シート!F142)","v":""},{"$f":"入力シート!I142&\"\"","v":""},{"$f":"入力シート!J142&\"\"","v":""},{"$f":"入力シート!K142&\"\"","v":""},"・","現","帳"]
[{"$f":"入力シート!A143&\"\"","v":"123"},{"$f":"入力シート!B143&\"\"","v":"高松"},null,null,{"$f":"入力シート!C143&\"\"","v":""},null,null,{"$f":"入力シート!D143&\"\"","v":""},null,{"$f":"入力シート!E143&\"\"","v":""},{"$f":"IF(入力シート!F143=0,\"\",入力シート!F143)","v":""},{"$f":"入力シート!I143&\"\"","v":""},{"$f":"入力シート!J143&\"\"","v":""},{"$f":"入力シート!K143&\"\"","v":""},"・","現","帳"]
[{"$f":"入力シート!A144&\"\"","v":"124"},{"$f":"入力シート!B144&\"\"","v":"高松"},null,null,{"$f":"入力シート!C144&\"\"","v":""},null,null,{"$f":"入力シート!D144&\"\"","v":""},null,{"$f":"入力シート!E144&\"\"","v":""},{"$f":"IF(入力シート!F144=0,\"\",入力シート!F144)","v":""},{"$f":"入力シート!I144&\"\"","v":""},{"$f":"入力シート!J144&\"\"","v":""},{"$f":"入力シート!K144&\"\"","v":""},"・","現","帳"]
[{"$f":"入力シート!A145&\"\"","v":"125"},{"$f":"入力シート!B145&\"\"","v":"高松"},null,null,{"$f":"入力シート!C145&\"\"","v":""},null,null,{"$f":"入力シート!D145&\"\"","v":""},null,{"$f":"入力シート!E145&\"\"","v":""},{"$f":"IF(入力シート!F145=0,\"\",入力シート!F145)","v":""},{"$f":"入力シート!I145&\"\"","v":""},{"$f":"入力シート!J145&\"\"","v":""},{"$f":"入力シート!K145&\"\"","v":""},"・","現","帳"]
[{"$f":"入力シート!A146&\"\"","v":"126"},{"$f":"入力シート!B146&\"\"","v":"高松"},null,null,{"$f":"入力シート!C146&\"\"","v":""},null,null,{"$f":"入力シート!D146&\"\"","v":""},null,{"$f":"入力シート!E146&\"\"","v":""},{"$f":"IF(入力シート!F146=0,\"\",入力シート!F146)","v":""},{"$f":"入力シート!I146&\"\"","v":""},{"$f":"入力シート!J146&\"\"","v":""},{"$f":"入力シート!K146&\"\"","v":""},"・","現","帳"]
[{"$f":"入力シート!A147&\"\"","v":"127"},{"$f":"入力シート!B147&\"\"","v":"高松"},null,null,{"$f":"入力シート!C147&\"\"","v":""},null,null,{"$f":"入力シート!D147&\"\"","v":""},null,{"$f":"入力シート!E147&\"\"","v":""},{"$f":"IF(入力シート!F147=0,\"\",入力シート!F147)","v":""},{"$f":"入力シート!I147&\"\"","v":""},{"$f":"入力シート!J147&\"\"","v":""},{"$f":"入力シート!K147&\"\"","v":""},"・","現","帳"]
[{"$f":"入力シート!A148&\"\"","v":"128"},{"$f":"入力シート!B148&\"\"","v":"高松"},null,null,{"$f":"入力シート!C148&\"\"","v":""},null,null,{"$f":"入力シート!D148&\"\"","v":""},null,{"$f":"入力シート!E148&\"\"","v":""},{"$f":"IF(入力シート!F148=0,\"\",入力シート!F148)","v":""},{"$f":"入力シート!I148&\"\"","v":""},{"$f":"入力シート!J148&\"\"","v":""},{"$f":"入力シート!K148&\"\"","v":""},"・","現","帳"]
[{"$f":"入力シート!A149&\"\"","v":"129"},{"$f":"入力シート!B149&\"\"","v":"高松"},null,null,{"$f":"入力シート!C149&\"\"","v":""},null,null,{"$f":"入力シート!D149&\"\"","v":""},null,{"$f":"入力シート!E149&\"\"","v":""},{"$f":"IF(入力シート!F149=0,\"\",入力シート!F149)","v":""},{"$f":"入力シート!I149&\"\"","v":""},{"$f":"入力シート!J149&\"\"","v":""},{"$f":"入力シート!K149&\"\"","v":""},"・","現","帳"]
[{"$f":"入力シート!A150&\"\"","v":"130"},{"$f":"入力シート!B150&\"\"","v":"高松"},null,null,{"$f":"入力シート!C150&\"\"","v":""},null,null,{"$f":"入力シート!D150&\"\"","v":""},null,{"$f":"入力シート!E150&\"\"","v":""},{"$f":"IF(入力シート!F150=0,\"\",入力シート!F150)","v":""},{"$f":"入力シート!I150&\"\"","v":""},{"$f":"入力シート!J150&\"\"","v":""},{"$f":"入力シート!K150&\"\"","v":""},"・","現","帳"]
[{"$f":"入力シート!A151&\"\"","v":"131"},{"$f":"入力シート!B151&\"\"","v":"高松"},null,null,{"$f":"入力シート!C151&\"\"","v":""},null,null,{"$f":"入力シート!D151&\"\"","v":""},null,{"$f":"入力シート!E151&\"\"","v":""},{"$f":"IF(入力シート!F151=0,\"\",入力シート!F151)","v":""},{"$f":"入力シート!I151&\"\"","v":""},{"$f":"入力シート!J151&\"\"","v":""},{"$f":"入力シート!K151&\"\"","v":""},"・","現","帳"]
[{"$f":"入力シート!A152&\"\"","v":"132"},{"$f":"入力シート!B152&\"\"","v":"高松"},null,null,{"$f":"入力シート!C152&\"\"","v":""},null,null,{"$f":"入力シート!D152&\"\"","v":""},null,{"$f":"入力シート!E152&\"\"","v":""},{"$f":"IF(入力シート!F152=0,\"\",入力シート!F152)","v":""},{"$f":"入力シート!I152&\"\"","v":""},{"$f":"入力シート!J152&\"\"","v":""},{"$f":"入力シート!K152&\"\"","v":""},"・","現","帳"]
[{"$f":"入力シート!A153&\"\"","v":"133"},{"$f":"入力シート!B153&\"\"","v":"高松"},null,null,{"$f":"入力シート!C153&\"\"","v":""},null,null,{"$f":"入力シート!D153&\"\"","v":""},null,{"$f":"入力シート!E153&\"\"","v":""},{"$f":"IF(入力シート!F153=0,\"\",入力シート!F153)","v":""},{"$f":"入力シート!I153&\"\"","v":""},{"$f":"入力シート!J153&\"\"","v":""},{"$f":"入力シート!K153&\"\"","v":""},"・","現","帳"]
[{"$f":"入力シート!A154&\"\"","v":"134"},{"$f":"入力シート!B154&\"\"","v":"高松"},null,null,{"$f":"入力シート!C154&\"\"","v":""},null,null,{"$f":"入力シート!D154&\"\"","v":""},null,{"$f":"入力シート!E154&\"\"","v":""},{"$f":"IF(入力シート!F154=0,\"\",入力シート!F154)","v":""},{"$f":"入力シート!I154&\"\"","v":""},{"$f":"入力シート!J154&\"\"","v":""},{"$f":"入力シート!K154&\"\"","v":""},"・","現","帳"]
[{"$f":"入力シート!A155&\"\"","v":"135"},{"$f":"入力シート!B155&\"\"","v":"高松"},null,null,{"$f":"入力シート!C155&\"\"","v":""},null,null,{"$f":"入力シート!D155&\"\"","v":""},null,{"$f":"入力シート!E155&\"\"","v":""},{"$f":"IF(入力シート!F155=0,\"\",入力シート!F155)","v":""},{"$f":"入力シート!I155&\"\"","v":""},{"$f":"入力シート!J155&\"\"","v":""},{"$f":"入力シート!K155&\"\"","v":""},"・","現","帳"]
[{"$f":"入力シート!A156&\"\"","v":"136"},{"$f":"入力シート!B156&\"\"","v":"高松"},null,null,{"$f":"入力シート!C156&\"\"","v":""},null,null,{"$f":"入力シート!D156&\"\"","v":""},null,{"$f":"入力シート!E156&\"\"","v":""},{"$f":"IF(入力シート!F156=0,\"\",入力シート!F156)","v":""},{"$f":"入力シート!I156&\"\"","v":""},{"$f":"入力シート!J156&\"\"","v":""},{"$f":"入力シート!K156&\"\"","v":""},"・","現","帳"]
[{"$f":"入力シート!A157&\"\"","v":"137"},{"$f":"入力シート!B157&\"\"","v":"高松"},null,null,{"$f":"入力シート!C157&\"\"","v":""},null,null,{"$f":"入力シート!D157&\"\"","v":""},null,{"$f":"入力シート!E157&\"\"","v":""},{"$f":"IF(入力シート!F157=0,\"\",入力シート!F157)","v":""},{"$f":"入力シート!I157&\"\"","v":""},{"$f":"入力シート!J157&\"\"","v":""},{"$f":"入力シート!K157&\"\"","v":""},"・","現","帳"]
[{"$f":"入力シート!A158&\"\"","v":"138"},{"$f":"入力シート!B158&\"\"","v":"高松"},null,null,{"$f":"入力シート!C158&\"\"","v":""},null,null,{"$f":"入力シート!D158&\"\"","v":""},null,{"$f":"入力シート!E158&\"\"","v":""},{"$f":"IF(入力シート!F158=0,\"\",入力シート!F158)","v":""},{"$f":"入力シート!I158&\"\"","v":""},{"$f":"入力シート!J158&\"\"","v":""},{"$f":"入力シート!K158&\"\"","v":""},"・","現","帳"]
[{"$f":"入力シート!A159&\"\"","v":"139"},{"$f":"入力シート!B159&\"\"","v":"高松"},null,null,{"$f":"入力シート!C159&\"\"","v":""},null,null,{"$f":"入力シート!D159&\"\"","v":""},null,{"$f":"入力シート!E159&\"\"","v":""},{"$f":"IF(入力シート!F159=0,\"\",入力シート!F159)","v":""},{"$f":"入力シート!I159&\"\"","v":""},{"$f":"入力シート!J159&\"\"","v":""},{"$f":"入力シート!K159&\"\"","v":""},"・","現","帳"]
[{"$f":"入力シート!A160&\"\"","v":"140"},{"$f":"入力シート!B160&\"\"","v":"高松"},null,null,{"$f":"入力シート!C160&\"\"","v":""},null,null,{"$f":"入力シート!D160&\"\"","v":""},null,{"$f":"入力シート!E160&\"\"","v":""},{"$f":"IF(入力シート!F160=0,\"\",入力シート!F160)","v":""},{"$f":"入力シート!I160&\"\"","v":""},{"$f":"入力シート!J160&\"\"","v":""},{"$f":"入力シート!K160&\"\"","v":""},"・","現","帳"]
[{"$f":"入力シート!A161&\"\"","v":"141"},{"$f":"入力シート!B161&\"\"","v":"高松"},null,null,{"$f":"入力シート!C161&\"\"","v":""},null,null,{"$f":"入力シート!D161&\"\"","v":""},null,{"$f":"入力シート!E161&\"\"","v":""},{"$f":"IF(入力シート!F161=0,\"\",入力シート!F161)","v":""},{"$f":"入力シート!I161&\"\"","v":""},{"$f":"入力シート!J161&\"\"","v":""},{"$f":"入力シート!K161&\"\"","v":""},"・","現","帳"]
[{"$f":"入力シート!A162&\"\"","v":"142"},{"$f":"入力シート!B162&\"\"","v":"高松"},null,null,{"$f":"入力シート!C162&\"\"","v":""},null,null,{"$f":"入力シート!D162&\"\"","v":""},null,{"$f":"入力シート!E162&\"\"","v":""},{"$f":"IF(入力シート!F162=0,\"\",入力シート!F162)","v":""},{"$f":"入力シート!I162&\"\"","v":""},{"$f":"入力シート!J162&\"\"","v":""},{"$f":"入力シート!K162&\"\"","v":""},"・","現","帳"]
[{"$f":"入力シート!A163&\"\"","v":"143"},{"$f":"入力シート!B163&\"\"","v":"高松"},null,null,{"$f":"入力シート!C163&\"\"","v":""},null,null,{"$f":"入力シート!D163&\"\"","v":""},null,{"$f":"入力シート!E163&\"\"","v":""},{"$f":"IF(入力シート!F163=0,\"\",入力シート!F163)","v":""},{"$f":"入力シート!I163&\"\"","v":""},{"$f":"入力シート!J163&\"\"","v":""},{"$f":"入力シート!K163&\"\"","v":""},"・","現","帳"]
[{"$f":"入力シート!A164&\"\"","v":"144"},{"$f":"入力シート!B164&\"\"","v":"高松"},null,null,{"$f":"入力シート!C164&\"\"","v":""},null,null,{"$f":"入力シート!D164&\"\"","v":""},null,{"$f":"入力シート!E164&\"\"","v":""},{"$f":"IF(入力シート!F164=0,\"\",入力シート!F164)","v":""},{"$f":"入力シート!I164&\"\"","v":""},{"$f":"入力シート!J164&\"\"","v":""},{"$f":"入力シート!K164&\"\"","v":""},"・","現","帳"]
[{"$f":"入力シート!A165&\"\"","v":"145"},{"$f":"入力シート!B165&\"\"","v":"高松"},null,null,{"$f":"入力シート!C165&\"\"","v":""},null,null,{"$f":"入力シート!D165&\"\"","v":""},null,{"$f":"入力シート!E165&\"\"","v":""},{"$f":"IF(入力シート!F165=0,\"\",入力シート!F165)","v":""},{"$f":"入力シート!I165&\"\"","v":""},{"$f":"入力シート!J165&\"\"","v":""},{"$f":"入力シート!K165&\"\"","v":""},"・","現","帳"]
[{"$f":"入力シート!A166&\"\"","v":"146"},{"$f":"入力シート!B166&\"\"","v":"高松"},null,null,{"$f":"入力シート!C166&\"\"","v":""},null,null,{"$f":"入力シート!D166&\"\"","v":""},null,{"$f":"入力シート!E166&\"\"","v":""},{"$f":"IF(入力シート!F166=0,\"\",入力シート!F166)","v":""},{"$f":"入力シート!I166&\"\"","v":""},{"$f":"入力シート!J166&\"\"","v":""},{"$f":"入力シート!K166&\"\"","v":""},"・","現","帳"]
[{"$f":"入力シート!A167&\"\"","v":"147"},{"$f":"入力シート!B167&\"\"","v":"高松"},null,null,{"$f":"入力シート!C167&\"\"","v":""},null,null,{"$f":"入力シート!D167&\"\"","v":""},null,{"$f":"入力シート!E167&\"\"","v":""},{"$f":"IF(入力シート!F167=0,\"\",入力シート!F167)","v":""},{"$f":"入力シート!I167&\"\"","v":""},{"$f":"入力シート!J167&\"\"","v":""},{"$f":"入力シート!K167&\"\"","v":""},"・","現","帳"]
[{"$f":"入力シート!A168&\"\"","v":"148"},{"$f":"入力シート!B168&\"\"","v":"高松"},null,null,{"$f":"入力シート!C168&\"\"","v":""},null,null,{"$f":"入力シート!D168&\"\"","v":""},null,{"$f":"入力シート!E168&\"\"","v":""},{"$f":"IF(入力シート!F168=0,\"\",入力シート!F168)","v":""},{"$f":"入力シート!I168&\"\"","v":""},{"$f":"入力シート!J168&\"\"","v":""},{"$f":"入力シート!K168&\"\"","v":""},"・","現","帳"]
[{"$f":"入力シート!A169&\"\"","v":"149"},{"$f":"入力シート!B169&\"\"","v":"高松"},null,null,{"$f":"入力シート!C169&\"\"","v":""},null,null,{"$f":"入力シート!D169&\"\"","v":""},null,{"$f":"入力シート!E169&\"\"","v":""},{"$f":"IF(入力シート!F169=0,\"\",入力シート!F169)","v":""},{"$f":"入力シート!I169&\"\"","v":""},{"$f":"入力シート!J169&\"\"","v":""},{"$f":"入力シート!K169&\"\"","v":""},"・","現","帳"]
[{"$f":"入力シート!A170&\"\"","v":"150"},{"$f":"入力シート!B170&\"\"","v":"高松"},null,null,{"$f":"入力シート!C170&\"\"","v":""},null,null,{"$f":"入力シート!D170&\"\"","v":""},null,{"$f":"入力シート!E170&\"\"","v":""},{"$f":"IF(入力シート!F170=0,\"\",入力シート!F170)","v":""},{"$f":"入力シート!I170&\"\"","v":""},{"$f":"入力シート!J170&\"\"","v":""},{"$f":"入力シート!K170&\"\"","v":""},"・","現","帳"]
[{"$f":"入力シート!A171&\"\"","v":"151"},{"$f":"入力シート!B171&\"\"","v":"高松"},null,null,{"$f":"入力シート!C171&\"\"","v":""},null,null,{"$f":"入力シート!D171&\"\"","v":""},null,{"$f":"入力シート!E171&\"\"","v":""},{"$f":"IF(入力シート!F171=0,\"\",入力シート!F171)","v":""},{"$f":"入力シート!I171&\"\"","v":""},{"$f":"入力シート!J171&\"\"","v":""},{"$f":"入力シート!K171&\"\"","v":""},"・","現","帳"]
[{"$f":"入力シート!A172&\"\"","v":"152"},{"$f":"入力シート!B172&\"\"","v":"高松"},null,null,{"$f":"入力シート!C172&\"\"","v":""},null,null,{"$f":"入力シート!D172&\"\"","v":""},null,{"$f":"入力シート!E172&\"\"","v":""},{"$f":"IF(入力シート!F172=0,\"\",入力シート!F172)","v":""},{"$f":"入力シート!I172&\"\"","v":""},{"$f":"入力シート!J172&\"\"","v":""},{"$f":"入力シート!K172&\"\"","v":""},"・","現","帳"]
[{"$f":"入力シート!A173&\"\"","v":"153"},{"$f":"入力シート!B173&\"\"","v":"高松"},null,null,{"$f":"入力シート!C173&\"\"","v":""},null,null,{"$f":"入力シート!D173&\"\"","v":""},null,{"$f":"入力シート!E173&\"\"","v":""},{"$f":"IF(入力シート!F173=0,\"\",入力シート!F173)","v":""},{"$f":"入力シート!I173&\"\"","v":""},{"$f":"入力シート!J173&\"\"","v":""},{"$f":"入力シート!K173&\"\"","v":""},"・","現","帳"]
[{"$f":"入力シート!A174&\"\"","v":"154"},{"$f":"入力シート!B174&\"\"","v":"高松"},null,null,{"$f":"入力シート!C174&\"\"","v":""},null,null,{"$f":"入力シート!D174&\"\"","v":""},null,{"$f":"入力シート!E174&\"\"","v":""},{"$f":"IF(入力シート!F174=0,\"\",入力シート!F174)","v":""},{"$f":"入力シート!I174&\"\"","v":""},{"$f":"入力シート!J174&\"\"","v":""},{"$f":"入力シート!K174&\"\"","v":""},"・","現","帳"]
[{"$f":"入力シート!A175&\"\"","v":"155"},{"$f":"入力シート!B175&\"\"","v":"高松"},null,null,{"$f":"入力シート!C175&\"\"","v":""},null,null,{"$f":"入力シート!D175&\"\"","v":""},null,{"$f":"入力シート!E175&\"\"","v":""},{"$f":"IF(入力シート!F175=0,\"\",入力シート!F175)","v":""},{"$f":"入力シート!I175&\"\"","v":""},{"$f":"入力シート!J175&\"\"","v":""},{"$f":"入力シート!K175&\"\"","v":""},"・","現","帳"]
[{"$f":"入力シート!A176&\"\"","v":"156"},{"$f":"入力シート!B176&\"\"","v":"高松"},null,null,{"$f":"入力シート!C176&\"\"","v":""},null,null,{"$f":"入力シート!D176&\"\"","v":""},null,{"$f":"入力シート!E176&\"\"","v":""},{"$f":"IF(入力シート!F176=0,\"\",入力シート!F176)","v":""},{"$f":"入力シート!I176&\"\"","v":""},{"$f":"入力シート!J176&\"\"","v":""},{"$f":"入力シート!K176&\"\"","v":""},"・","現","帳"]
[{"$f":"入力シート!A177&\"\"","v":"157"},{"$f":"入力シート!B177&\"\"","v":"高松"},null,null,{"$f":"入力シート!C177&\"\"","v":""},null,null,{"$f":"入力シート!D177&\"\"","v":""},null,{"$f":"入力シート!E177&\"\"","v":""},{"$f":"IF(入力シート!F177=0,\"\",入力シート!F177)","v":""},{"$f":"入力シート!I177&\"\"","v":""},{"$f":"入力シート!J177&\"\"","v":""},{"$f":"入力シート!K177&\"\"","v":""},"・","現","帳"]
[{"$f":"入力シート!A178&\"\"","v":"158"},{"$f":"入力シート!B178&\"\"","v":"高松"},null,null,{"$f":"入力シート!C178&\"\"","v":""},null,null,{"$f":"入力シート!D178&\"\"","v":""},null,{"$f":"入力シート!E178&\"\"","v":""},{"$f":"IF(入力シート!F178=0,\"\",入力シート!F178)","v":""},{"$f":"入力シート!I178&\"\"","v":""},{"$f":"入力シート!J178&\"\"","v":""},{"$f":"入力シート!K178&\"\"","v":""},"・","現","帳"]
[{"$f":"入力シート!A179&\"\"","v":"159"},{"$f":"入力シート!B179&\"\"","v":"高松"},null,null,{"$f":"入力シート!C179&\"\"","v":""},null,null,{"$f":"入力シート!D179&\"\"","v":""},null,{"$f":"入力シート!E179&\"\"","v":""},{"$f":"IF(入力シート!F179=0,\"\",入力シート!F179)","v":""},{"$f":"入力シート!I179&\"\"","v":""},{"$f":"入力シート!J179&\"\"","v":""},{"$f":"入力シート!K179&\"\"","v":""},"・","現","帳"]
[{"$f":"入力シート!A180&\"\"","v":"160"},{"$f":"入力シート!B180&\"\"","v":"高松"},null,null,{"$f":"入力シート!C180&\"\"","v":""},null,null,{"$f":"入力シート!D180&\"\"","v":""},null,{"$f":"入力シート!E180&\"\"","v":""},{"$f":"IF(入力シート!F180=0,\"\",入力シート!F180)","v":""},{"$f":"入力シート!I180&\"\"","v":""},{"$f":"入力シート!J180&\"\"","v":""},{"$f":"入力シート!K180&\"\"","v":""},"・","現","帳"]
[{"$f":"入力シート!A181&\"\"","v":"161"},{"$f":"入力シート!B181&\"\"","v":"高松"},null,null,{"$f":"入力シート!C181&\"\"","v":""},null,null,{"$f":"入力シート!D181&\"\"","v":""},null,{"$f":"入力シート!E181&\"\"","v":""},{"$f":"IF(入力シート!F181=0,\"\",入力シート!F181)","v":""},{"$f":"入力シート!I181&\"\"","v":""},{"$f":"入力シート!J181&\"\"","v":""},{"$f":"入力シート!K181&\"\"","v":""},"・","現","帳"]
[{"$f":"入力シート!A182&\"\"","v":"162"},{"$f":"入力シート!B182&\"\"","v":"高松"},null,null,{"$f":"入力シート!C182&\"\"","v":""},null,null,{"$f":"入力シート!D182&\"\"","v":""},null,{"$f":"入力シート!E182&\"\"","v":""},{"$f":"IF(入力シート!F182=0,\"\",入力シート!F182)","v":""},{"$f":"入力シート!I182&\"\"","v":""},{"$f":"入力シート!J182&\"\"","v":""},{"$f":"入力シート!K182&\"\"","v":""},"・","現","帳"]
[{"$f":"入力シート!A183&\"\"","v":"163"},{"$f":"入力シート!B183&\"\"","v":"高松"},null,null,{"$f":"入力シート!C183&\"\"","v":""},null,null,{"$f":"入力シート!D183&\"\"","v":""},null,{"$f":"入力シート!E183&\"\"","v":""},{"$f":"IF(入力シート!F183=0,\"\",入力シート!F183)","v":""},{"$f":"入力シート!I183&\"\"","v":""},{"$f":"入力シート!J183&\"\"","v":""},{"$f":"入力シート!K183&\"\"","v":""},"・","現","帳"]
[{"$f":"入力シート!A184&\"\"","v":"164"},{"$f":"入力シート!B184&\"\"","v":"高松"},null,null,{"$f":"入力シート!C184&\"\"","v":""},null,null,{"$f":"入力シート!D184&\"\"","v":""},null,{"$f":"入力シート!E184&\"\"","v":""},{"$f":"IF(入力シート!F184=0,\"\",入力シート!F184)","v":""},{"$f":"入力シート!I184&\"\"","v":""},{"$f":"入力シート!J184&\"\"","v":""},{"$f":"入力シート!K184&\"\"","v":""},"・","現","帳"]
[{"$f":"入力シート!A185&\"\"","v":"165"},{"$f":"入力シート!B185&\"\"","v":"高松"},null,null,{"$f":"入力シート!C185&\"\"","v":""},null,null,{"$f":"入力シート!D185&\"\"","v":""},null,{"$f":"入力シート!E185&\"\"","v":""},{"$f":"IF(入力シート!F185=0,\"\",入力シート!F185)","v":""},{"$f":"入力シート!I185&\"\"","v":""},{"$f":"入力シート!J185&\"\"","v":""},{"$f":"入力シート!K185&\"\"","v":""},"・","現","帳"]
[{"$f":"入力シート!A186&\"\"","v":"166"},{"$f":"入力シート!B186&\"\"","v":"高松"},null,null,{"$f":"入力シート!C186&\"\"","v":""},null,null,{"$f":"入力シート!D186&\"\"","v":""},null,{"$f":"入力シート!E186&\"\"","v":""},{"$f":"IF(入力シート!F186=0,\"\",入力シート!F186)","v":""},{"$f":"入力シート!I186&\"\"","v":""},{"$f":"入力シート!J186&\"\"","v":""},{"$f":"入力シート!K186&\"\"","v":""},"・","現","帳"]
[{"$f":"入力シート!A187&\"\"","v":"167"},{"$f":"入力シート!B187&\"\"","v":"高松"},null,null,{"$f":"入力シート!C187&\"\"","v":""},null,null,{"$f":"入力シート!D187&\"\"","v":""},null,{"$f":"入力シート!E187&\"\"","v":""},{"$f":"IF(入力シート!F187=0,\"\",入力シート!F187)","v":""},{"$f":"入力シート!I187&\"\"","v":""},{"$f":"入力シート!J187&\"\"","v":""},{"$f":"入力シート!K187&\"\"","v":""},"・","現","帳"]
[{"$f":"入力シート!A188&\"\"","v":"168"},{"$f":"入力シート!B188&\"\"","v":"高松"},null,null,{"$f":"入力シート!C188&\"\"","v":""},null,null,{"$f":"入力シート!D188&\"\"","v":""},null,{"$f":"入力シート!E188&\"\"","v":""},{"$f":"IF(入力シート!F188=0,\"\",入力シート!F188)","v":""},{"$f":"入力シート!I188&\"\"","v":""},{"$f":"入力シート!J188&\"\"","v":""},{"$f":"入力シート!K188&\"\"","v":""},"・","現","帳"]
[{"$f":"入力シート!A189&\"\"","v":"169"},{"$f":"入力シート!B189&\"\"","v":"高松"},null,null,{"$f":"入力シート!C189&\"\"","v":""},null,null,{"$f":"入力シート!D189&\"\"","v":""},null,{"$f":"入力シート!E189&\"\"","v":""},{"$f":"IF(入力シート!F189=0,\"\",入力シート!F189)","v":""},{"$f":"入力シート!I189&\"\"","v":""},{"$f":"入力シート!J189&\"\"","v":""},{"$f":"入力シート!K189&\"\"","v":""},"・","現","帳"]
[{"$f":"入力シート!A190&\"\"","v":"170"},{"$f":"入力シート!B190&\"\"","v":"高松"},null,null,{"$f":"入力シート!C190&\"\"","v":""},null,null,{"$f":"入力シート!D190&\"\"","v":""},null,{"$f":"入力シート!E190&\"\"","v":""},{"$f":"IF(入力シート!F190=0,\"\",入力シート!F190)","v":""},{"$f":"入力シート!I190&\"\"","v":""},{"$f":"入力シート!J190&\"\"","v":""},{"$f":"入力シート!K190&\"\"","v":""},"・","現","帳"]
[{"$f":"入力シート!A191&\"\"","v":"171"},{"$f":"入力シート!B191&\"\"","v":"高松"},null,null,{"$f":"入力シート!C191&\"\"","v":""},null,null,{"$f":"入力シート!D191&\"\"","v":""},null,{"$f":"入力シート!E191&\"\"","v":""},{"$f":"IF(入力シート!F191=0,\"\",入力シート!F191)","v":""},{"$f":"入力シート!I191&\"\"","v":""},{"$f":"入力シート!J191&\"\"","v":""},{"$f":"入力シート!K191&\"\"","v":""},"・","現","帳"]
[{"$f":"入力シート!A192&\"\"","v":"172"},{"$f":"入力シート!B192&\"\"","v":"高松"},null,null,{"$f":"入力シート!C192&\"\"","v":""},null,null,{"$f":"入力シート!D192&\"\"","v":""},null,{"$f":"入力シート!E192&\"\"","v":""},{"$f":"IF(入力シート!F192=0,\"\",入力シート!F192)","v":""},{"$f":"入力シート!I192&\"\"","v":""},{"$f":"入力シート!J192&\"\"","v":""},{"$f":"入力シート!K192&\"\"","v":""},"・","現","帳"]
[{"$f":"入力シート!A193&\"\"","v":"173"},{"$f":"入力シート!B193&\"\"","v":"高松"},null,null,{"$f":"入力シート!C193&\"\"","v":""},null,null,{"$f":"入力シート!D193&\"\"","v":""},null,{"$f":"入力シート!E193&\"\"","v":""},{"$f":"IF(入力シート!F193=0,\"\",入力シート!F193)","v":""},{"$f":"入力シート!I193&\"\"","v":""},{"$f":"入力シート!J193&\"\"","v":""},{"$f":"入力シート!K193&\"\"","v":""},"・","現","帳"]
[{"$f":"入力シート!A194&\"\"","v":"174"},{"$f":"入力シート!B194&\"\"","v":"高松"},null,null,{"$f":"入力シート!C194&\"\"","v":""},null,null,{"$f":"入力シート!D194&\"\"","v":""},null,{"$f":"入力シート!E194&\"\"","v":""},{"$f":"IF(入力シート!F194=0,\"\",入力シート!F194)","v":""},{"$f":"入力シート!I194&\"\"","v":""},{"$f":"入力シート!J194&\"\"","v":""},{"$f":"入力シート!K194&\"\"","v":""},"・","現","帳"]
[{"$f":"入力シート!A195&\"\"","v":"175"},{"$f":"入力シート!B195&\"\"","v":"高松"},null,null,{"$f":"入力シート!C195&\"\"","v":""},null,null,{"$f":"入力シート!D195&\"\"","v":""},null,{"$f":"入力シート!E195&\"\"","v":""},{"$f":"IF(入力シート!F195=0,\"\",入力シート!F195)","v":""},{"$f":"入力シート!I195&\"\"","v":""},{"$f":"入力シート!J195&\"\"","v":""},{"$f":"入力シート!K195&\"\"","v":""},"・","現","帳"]
[{"$f":"入力シート!A196&\"\"","v":"176"},{"$f":"入力シート!B196&\"\"","v":"高松"},null,null,{"$f":"入力シート!C196&\"\"","v":""},null,null,{"$f":"入力シート!D196&\"\"","v":""},null,{"$f":"入力シート!E196&\"\"","v":""},{"$f":"IF(入力シート!F196=0,\"\",入力シート!F196)","v":""},{"$f":"入力シート!I196&\"\"","v":""},{"$f":"入力シート!J196&\"\"","v":""},{"$f":"入力シート!K196&\"\"","v":""},"・","現","帳"]
[{"$f":"入力シート!A197&\"\"","v":"177"},{"$f":"入力シート!B197&\"\"","v":"高松"},null,null,{"$f":"入力シート!C197&\"\"","v":""},null,null,{"$f":"入力シート!D197&\"\"","v":""},null,{"$f":"入力シート!E197&\"\"","v":""},{"$f":"IF(入力シート!F197=0,\"\",入力シート!F197)","v":""},{"$f":"入力シート!I197&\"\"","v":""},{"$f":"入力シート!J197&\"\"","v":""},{"$f":"入力シート!K197&\"\"","v":""},"・","現","帳"]
[{"$f":"入力シート!A198&\"\"","v":"178"},{"$f":"入力シート!B198&\"\"","v":"高松"},null,null,{"$f":"入力シート!C198&\"\"","v":""},null,null,{"$f":"入力シート!D198&\"\"","v":""},null,{"$f":"入力シート!E198&\"\"","v":""},{"$f":"IF(入力シート!F198=0,\"\",入力シート!F198)","v":""},{"$f":"入力シート!I198&\"\"","v":""},{"$f":"入力シート!J198&\"\"","v":""},{"$f":"入力シート!K198&\"\"","v":""},"・","現","帳"]
[{"$f":"入力シート!A199&\"\"","v":"179"},{"$f":"入力シート!B199&\"\"","v":"高松"},null,null,{"$f":"入力シート!C199&\"\"","v":""},null,null,{"$f":"入力シート!D199&\"\"","v":""},null,{"$f":"入力シート!E199&\"\"","v":""},{"$f":"IF(入力シート!F199=0,\"\",入力シート!F199)","v":""},{"$f":"入力シート!I199&\"\"","v":""},{"$f":"入力シート!J199&\"\"","v":""},{"$f":"入力シート!K199&\"\"","v":""},"・","現","帳"]
[{"$f":"入力シート!A200&\"\"","v":"180"},{"$f":"入力シート!B200&\"\"","v":"高松"},null,null,{"$f":"入力シート!C200&\"\"","v":""},null,null,{"$f":"入力シート!D200&\"\"","v":""},null,{"$f":"入力シート!E200&\"\"","v":""},{"$f":"IF(入力シート!F200=0,\"\",入力シート!F200)","v":""},{"$f":"入力シート!I200&\"\"","v":""},{"$f":"入力シート!J200&\"\"","v":""},{"$f":"入力シート!K200&\"\"","v":""},"・","現","帳"]
[{"$f":"入力シート!A201&\"\"","v":"181"},{"$f":"入力シート!B201&\"\"","v":"高松"},null,null,{"$f":"入力シート!C201&\"\"","v":""},null,null,{"$f":"入力シート!D201&\"\"","v":""},null,{"$f":"入力シート!E201&\"\"","v":""},{"$f":"IF(入力シート!F201=0,\"\",入力シート!F201)","v":""},{"$f":"入力シート!I201&\"\"","v":""},{"$f":"入力シート!J201&\"\"","v":""},{"$f":"入力シート!K201&\"\"","v":""},"・","現","帳"]
[{"$f":"入力シート!A202&\"\"","v":"182"},{"$f":"入力シート!B202&\"\"","v":"高松"},null,null,{"$f":"入力シート!C202&\"\"","v":""},null,null,{"$f":"入力シート!D202&\"\"","v":""},null,{"$f":"入力シート!E202&\"\"","v":""},{"$f":"IF(入力シート!F202=0,\"\",入力シート!F202)","v":""},{"$f":"入力シート!I202&\"\"","v":""},{"$f":"入力シート!J202&\"\"","v":""},{"$f":"入力シート!K202&\"\"","v":""},"・","現","帳"]
[{"$f":"入力シート!A203&\"\"","v":"183"},{"$f":"入力シート!B203&\"\"","v":"高松"},null,null,{"$f":"入力シート!C203&\"\"","v":""},null,null,{"$f":"入力シート!D203&\"\"","v":""},null,{"$f":"入力シート!E203&\"\"","v":""},{"$f":"IF(入力シート!F203=0,\"\",入力シート!F203)","v":""},{"$f":"入力シート!I203&\"\"","v":""},{"$f":"入力シート!J203&\"\"","v":""},{"$f":"入力シート!K203&\"\"","v":""},"・","現","帳"]
[{"$f":"入力シート!A204&\"\"","v":"184"},{"$f":"入力シート!B204&\"\"","v":"高松"},null,null,{"$f":"入力シート!C204&\"\"","v":""},null,null,{"$f":"入力シート!D204&\"\"","v":""},null,{"$f":"入力シート!E204&\"\"","v":""},{"$f":"IF(入力シート!F204=0,\"\",入力シート!F204)","v":""},{"$f":"入力シート!I204&\"\"","v":""},{"$f":"入力シート!J204&\"\"","v":""},{"$f":"入力シート!K204&\"\"","v":""},"・","現","帳"]
[{"$f":"入力シート!A205&\"\"","v":"185"},{"$f":"入力シート!B205&\"\"","v":"高松"},null,null,{"$f":"入力シート!C205&\"\"","v":""},null,null,{"$f":"入力シート!D205&\"\"","v":""},null,{"$f":"入力シート!E205&\"\"","v":""},{"$f":"IF(入力シート!F205=0,\"\",入力シート!F205)","v":""},{"$f":"入力シート!I205&\"\"","v":""},{"$f":"入力シート!J205&\"\"","v":""},{"$f":"入力シート!K205&\"\"","v":""},"・","現","帳"]
[{"$f":"入力シート!A206&\"\"","v":"186"},{"$f":"入力シート!B206&\"\"","v":"高松"},null,null,{"$f":"入力シート!C206&\"\"","v":""},null,null,{"$f":"入力シート!D206&\"\"","v":""},null,{"$f":"入力シート!E206&\"\"","v":""},{"$f":"IF(入力シート!F206=0,\"\",入力シート!F206)","v":""},{"$f":"入力シート!I206&\"\"","v":""},{"$f":"入力シート!J206&\"\"","v":""},{"$f":"入力シート!K206&\"\"","v":""},"・","現","帳"]
[{"$f":"入力シート!A207&\"\"","v":"187"},{"$f":"入力シート!B207&\"\"","v":"高松"},null,null,{"$f":"入力シート!C207&\"\"","v":""},null,null,{"$f":"入力シート!D207&\"\"","v":""},null,{"$f":"入力シート!E207&\"\"","v":""},{"$f":"IF(入力シート!F207=0,\"\",入力シート!F207)","v":""},{"$f":"入力シート!I207&\"\"","v":""},{"$f":"入力シート!J207&\"\"","v":""},{"$f":"入力シート!K207&\"\"","v":""},"・","現","帳"]
[{"$f":"入力シート!A208&\"\"","v":"188"},{"$f":"入力シート!B208&\"\"","v":"高松"},null,null,{"$f":"入力シート!C208&\"\"","v":""},null,null,{"$f":"入力シート!D208&\"\"","v":""},null,{"$f":"入力シート!E208&\"\"","v":""},{"$f":"IF(入力シート!F208=0,\"\",入力シート!F208)","v":""},{"$f":"入力シート!I208&\"\"","v":""},{"$f":"入力シート!J208&\"\"","v":""},{"$f":"入力シート!K208&\"\"","v":""},"・","現","帳"]
[{"$f":"入力シート!A209&\"\"","v":"189"},{"$f":"入力シート!B209&\"\"","v":"高松"},null,null,{"$f":"入力シート!C209&\"\"","v":""},null,null,{"$f":"入力シート!D209&\"\"","v":""},null,{"$f":"入力シート!E209&\"\"","v":""},{"$f":"IF(入力シート!F209=0,\"\",入力シート!F209)","v":""},{"$f":"入力シート!I209&\"\"","v":""},{"$f":"入力シート!J209&\"\"","v":""},{"$f":"入力シート!K209&\"\"","v":""},"・","現","帳"]
[{"$f":"入力シート!A210&\"\"","v":"190"},{"$f":"入力シート!B210&\"\"","v":"高松"},null,null,{"$f":"入力シート!C210&\"\"","v":""},null,null,{"$f":"入力シート!D210&\"\"","v":""},null,{"$f":"入力シート!E210&\"\"","v":""},{"$f":"IF(入力シート!F210=0,\"\",入力シート!F210)","v":""},{"$f":"入力シート!I210&\"\"","v":""},{"$f":"入力シート!J210&\"\"","v":""},{"$f":"入力シート!K210&\"\"","v":""},"・","現","帳"]
[{"$f":"入力シート!A211&\"\"","v":"191"},{"$f":"入力シート!B211&\"\"","v":"高松"},null,null,{"$f":"入力シート!C211&\"\"","v":""},null,null,{"$f":"入力シート!D211&\"\"","v":""},null,{"$f":"入力シート!E211&\"\"","v":""},{"$f":"IF(入力シート!F211=0,\"\",入力シート!F211)","v":""},{"$f":"入力シート!I211&\"\"","v":""},{"$f":"入力シート!J211&\"\"","v":""},{"$f":"入力シート!K211&\"\"","v":""},"・","現","帳"]
[{"$f":"入力シート!A212&\"\"","v":"192"},{"$f":"入力シート!B212&\"\"","v":"高松"},null,null,{"$f":"入力シート!C212&\"\"","v":""},null,null,{"$f":"入力シート!D212&\"\"","v":""},null,{"$f":"入力シート!E212&\"\"","v":""},{"$f":"IF(入力シート!F212=0,\"\",入力シート!F212)","v":""},{"$f":"入力シート!I212&\"\"","v":""},{"$f":"入力シート!J212&\"\"","v":""},{"$f":"入力シート!K212&\"\"","v":""},"・","現","帳"]
[{"$f":"入力シート!A213&\"\"","v":"193"},{"$f":"入力シート!B213&\"\"","v":"高松"},null,null,{"$f":"入力シート!C213&\"\"","v":""},null,null,{"$f":"入力シート!D213&\"\"","v":""},null,{"$f":"入力シート!E213&\"\"","v":""},{"$f":"IF(入力シート!F213=0,\"\",入力シート!F213)","v":""},{"$f":"入力シート!I213&\"\"","v":""},{"$f":"入力シート!J213&\"\"","v":""},{"$f":"入力シート!K213&\"\"","v":""},"・","現","帳"]
[{"$f":"入力シート!A214&\"\"","v":"194"},{"$f":"入力シート!B214&\"\"","v":"高松"},null,null,{"$f":"入力シート!C214&\"\"","v":""},null,null,{"$f":"入力シート!D214&\"\"","v":""},null,{"$f":"入力シート!E214&\"\"","v":""},{"$f":"IF(入力シート!F214=0,\"\",入力シート!F214)","v":""},{"$f":"入力シート!I214&\"\"","v":""},{"$f":"入力シート!J214&\"\"","v":""},{"$f":"入力シート!K214&\"\"","v":""},"・","現","帳"]
[{"$f":"入力シート!A215&\"\"","v":"195"},{"$f":"入力シート!B215&\"\"","v":"高松"},null,null,{"$f":"入力シート!C215&\"\"","v":""},null,null,{"$f":"入力シート!D215&\"\"","v":""},null,{"$f":"入力シート!E215&\"\"","v":""},{"$f":"IF(入力シート!F215=0,\"\",入力シート!F215)","v":""},{"$f":"入力シート!I215&\"\"","v":""},{"$f":"入力シート!J215&\"\"","v":""},{"$f":"入力シート!K215&\"\"","v":""},"・","現","帳"]
[{"$f":"入力シート!A216&\"\"","v":"196"},{"$f":"入力シート!B216&\"\"","v":"高松"},null,null,{"$f":"入力シート!C216&\"\"","v":""},null,null,{"$f":"入力シート!D216&\"\"","v":""},null,{"$f":"入力シート!E216&\"\"","v":""},{"$f":"IF(入力シート!F216=0,\"\",入力シート!F216)","v":""},{"$f":"入力シート!I216&\"\"","v":""},{"$f":"入力シート!J216&\"\"","v":""},{"$f":"入力シート!K216&\"\"","v":""},"・","現","帳"]
[{"$f":"入力シート!A217&\"\"","v":"197"},{"$f":"入力シート!B217&\"\"","v":"高松"},null,null,{"$f":"入力シート!C217&\"\"","v":""},null,null,{"$f":"入力シート!D217&\"\"","v":""},null,{"$f":"入力シート!E217&\"\"","v":""},{"$f":"IF(入力シート!F217=0,\"\",入力シート!F217)","v":""},{"$f":"入力シート!I217&\"\"","v":""},{"$f":"入力シート!J217&\"\"","v":""},{"$f":"入力シート!K217&\"\"","v":""},"・","現","帳"]
[{"$f":"入力シート!A218&\"\"","v":"198"},{"$f":"入力シート!B218&\"\"","v":"高松"},null,null,{"$f":"入力シート!C218&\"\"","v":""},null,null,{"$f":"入力シート!D218&\"\"","v":""},null,{"$f":"入力シート!E218&\"\"","v":""},{"$f":"IF(入力シート!F218=0,\"\",入力シート!F218)","v":""},{"$f":"入力シート!I218&\"\"","v":""},{"$f":"入力シート!J218&\"\"","v":""},{"$f":"入力シート!K218&\"\"","v":""},"・","現","帳"]
[{"$f":"入力シート!A219&\"\"","v":"199"},{"$f":"入力シート!B219&\"\"","v":"高松"},null,null,{"$f":"入力シート!C219&\"\"","v":""},null,null,{"$f":"入力シート!D219&\"\"","v":""},null,{"$f":"入力シート!E219&\"\"","v":""},{"$f":"IF(入力シート!F219=0,\"\",入力シート!F219)","v":""},{"$f":"入力シート!I219&\"\"","v":""},{"$f":"入力シート!J219&\"\"","v":""},{"$f":"入力シート!K219&\"\"","v":""},"・","現","帳"]
[{"$f":"入力シート!A220&\"\"","v":"200"},{"$f":"入力シート!B220&\"\"","v":"高松"},null,null,{"$f":"入力シート!C220&\"\"","v":""},null,null,{"$f":"入力シート!D220&\"\"","v":""},null,{"$f":"入力シート!E220&\"\"","v":""},{"$f":"IF(入力シート!F220=0,\"\",入力シート!F220)","v":""},{"$f":"入力シート!I220&\"\"","v":""},{"$f":"入力シート!J220&\"\"","v":""},{"$f":"入力シート!K220&\"\"","v":""},"・","現","帳"]
[{"$f":"入力シート!A221&\"\"","v":"201"},{"$f":"入力シート!B221&\"\"","v":"高松"},null,null,{"$f":"入力シート!C221&\"\"","v":""},null,null,{"$f":"入力シート!D221&\"\"","v":""},null,{"$f":"入力シート!E221&\"\"","v":""},{"$f":"IF(入力シート!F221=0,\"\",入力シート!F221)","v":""},{"$f":"入力シート!I221&\"\"","v":""},{"$f":"入力シート!J221&\"\"","v":""},{"$f":"入力シート!K221&\"\"","v":""},"・","現","帳"]
[{"$f":"入力シート!A222&\"\"","v":"202"},{"$f":"入力シート!B222&\"\"","v":"高松"},null,null,{"$f":"入力シート!C222&\"\"","v":""},null,null,{"$f":"入力シート!D222&\"\"","v":""},null,{"$f":"入力シート!E222&\"\"","v":""},{"$f":"IF(入力シート!F222=0,\"\",入力シート!F222)","v":""},{"$f":"入力シート!I222&\"\"","v":""},{"$f":"入力シート!J222&\"\"","v":""},{"$f":"入力シート!K222&\"\"","v":""},"・","現","帳"]
[{"$f":"入力シート!A223&\"\"","v":"203"},{"$f":"入力シート!B223&\"\"","v":"高松"},null,null,{"$f":"入力シート!C223&\"\"","v":""},null,null,{"$f":"入力シート!D223&\"\"","v":""},null,{"$f":"入力シート!E223&\"\"","v":""},{"$f":"IF(入力シート!F223=0,\"\",入力シート!F223)","v":""},{"$f":"入力シート!I223&\"\"","v":""},{"$f":"入力シート!J223&\"\"","v":""},{"$f":"入力シート!K223&\"\"","v":""},"・","現","帳"]
[{"$f":"入力シート!A224&\"\"","v":"204"},{"$f":"入力シート!B224&\"\"","v":"高松"},null,null,{"$f":"入力シート!C224&\"\"","v":""},null,null,{"$f":"入力シート!D224&\"\"","v":""},null,{"$f":"入力シート!E224&\"\"","v":""},{"$f":"IF(入力シート!F224=0,\"\",入力シート!F224)","v":""},{"$f":"入力シート!I224&\"\"","v":""},{"$f":"入力シート!J224&\"\"","v":""},{"$f":"入力シート!K224&\"\"","v":""},"・","現","帳"]
[{"$f":"入力シート!A225&\"\"","v":"205"},{"$f":"入力シート!B225&\"\"","v":"高松"},null,null,{"$f":"入力シート!C225&\"\"","v":""},null,null,{"$f":"入力シート!D225&\"\"","v":""},null,{"$f":"入力シート!E225&\"\"","v":""},{"$f":"IF(入力シート!F225=0,\"\",入力シート!F225)","v":""},{"$f":"入力シート!I225&\"\"","v":""},{"$f":"入力シート!J225&\"\"","v":""},{"$f":"入力シート!K225&\"\"","v":""},"・","現","帳"]
[{"$f":"入力シート!A226&\"\"","v":"206"},{"$f":"入力シート!B226&\"\"","v":"高松"},null,null,{"$f":"入力シート!C226&\"\"","v":""},null,null,{"$f":"入力シート!D226&\"\"","v":""},null,{"$f":"入力シート!E226&\"\"","v":""},{"$f":"IF(入力シート!F226=0,\"\",入力シート!F226)","v":""},{"$f":"入力シート!I226&\"\"","v":""},{"$f":"入力シート!J226&\"\"","v":""},{"$f":"入力シート!K226&\"\"","v":""},"・","現","帳"]
[{"$f":"入力シート!A227&\"\"","v":"207"},{"$f":"入力シート!B227&\"\"","v":"高松"},null,null,{"$f":"入力シート!C227&\"\"","v":""},null,null,{"$f":"入力シート!D227&\"\"","v":""},null,{"$f":"入力シート!E227&\"\"","v":""},{"$f":"IF(入力シート!F227=0,\"\",入力シート!F227)","v":""},{"$f":"入力シート!I227&\"\"","v":""},{"$f":"入力シート!J227&\"\"","v":""},{"$f":"入力シート!K227&\"\"","v":""},"・","現","帳"]
[{"$f":"入力シート!A228&\"\"","v":"208"},{"$f":"入力シート!B228&\"\"","v":"高松"},null,null,{"$f":"入力シート!C228&\"\"","v":""},null,null,{"$f":"入力シート!D228&\"\"","v":""},null,{"$f":"入力シート!E228&\"\"","v":""},{"$f":"IF(入力シート!F228=0,\"\",入力シート!F228)","v":""},{"$f":"入力シート!I228&\"\"","v":""},{"$f":"入力シート!J228&\"\"","v":""},{"$f":"入力シート!K228&\"\"","v":""},"・","現","帳"]
[{"$f":"入力シート!A229&\"\"","v":"209"},{"$f":"入力シート!B229&\"\"","v":"高松"},null,null,{"$f":"入力シート!C229&\"\"","v":""},null,null,{"$f":"入力シート!D229&\"\"","v":""},null,{"$f":"入力シート!E229&\"\"","v":""},{"$f":"IF(入力シート!F229=0,\"\",入力シート!F229)","v":""},{"$f":"入力シート!I229&\"\"","v":""},{"$f":"入力シート!J229&\"\"","v":""},{"$f":"入力シート!K229&\"\"","v":""},"・","現","帳"]
[{"$f":"入力シート!A230&\"\"","v":"210"},{"$f":"入力シート!B230&\"\"","v":"高松"},null,null,{"$f":"入力シート!C230&\"\"","v":""},null,null,{"$f":"入力シート!D230&\"\"","v":""},null,{"$f":"入力シート!E230&\"\"","v":""},{"$f":"IF(入力シート!F230=0,\"\",入力シート!F230)","v":""},{"$f":"入力シート!I230&\"\"","v":""},{"$f":"入力シート!J230&\"\"","v":""},{"$f":"入力シート!K230&\"\"","v":""},"・","現","帳"]
[{"$f":"入力シート!A231&\"\"","v":"211"},{"$f":"入力シート!B231&\"\"","v":"高松"},null,null,{"$f":"入力シート!C231&\"\"","v":""},null,null,{"$f":"入力シート!D231&\"\"","v":""},null,{"$f":"入力シート!E231&\"\"","v":""},{"$f":"IF(入力シート!F231=0,\"\",入力シート!F231)","v":""},{"$f":"入力シート!I231&\"\"","v":""},{"$f":"入力シート!J231&\"\"","v":""},{"$f":"入力シート!K231&\"\"","v":""},"・","現","帳"]
[{"$f":"入力シート!A232&\"\"","v":"212"},{"$f":"入力シート!B232&\"\"","v":"高松"},null,null,{"$f":"入力シート!C232&\"\"","v":""},null,null,{"$f":"入力シート!D232&\"\"","v":""},null,{"$f":"入力シート!E232&\"\"","v":""},{"$f":"IF(入力シート!F232=0,\"\",入力シート!F232)","v":""},{"$f":"入力シート!I232&\"\"","v":""},{"$f":"入力シート!J232&\"\"","v":""},{"$f":"入力シート!K232&\"\"","v":""},"・","現","帳"]
[{"$f":"入力シート!A233&\"\"","v":"213"},{"$f":"入力シート!B233&\"\"","v":"高松"},null,null,{"$f":"入力シート!C233&\"\"","v":""},null,null,{"$f":"入力シート!D233&\"\"","v":""},null,{"$f":"入力シート!E233&\"\"","v":""},{"$f":"IF(入力シート!F233=0,\"\",入力シート!F233)","v":""},{"$f":"入力シート!I233&\"\"","v":""},{"$f":"入力シート!J233&\"\"","v":""},{"$f":"入力シート!K233&\"\"","v":""},"・","現","帳"]
[{"$f":"入力シート!A234&\"\"","v":"214"},{"$f":"入力シート!B234&\"\"","v":"高松"},null,null,{"$f":"入力シート!C234&\"\"","v":""},null,null,{"$f":"入力シート!D234&\"\"","v":""},null,{"$f":"入力シート!E234&\"\"","v":""},{"$f":"IF(入力シート!F234=0,\"\",入力シート!F234)","v":""},{"$f":"入力シート!I234&\"\"","v":""},{"$f":"入力シート!J234&\"\"","v":""},{"$f":"入力シート!K234&\"\"","v":""},"・","現","帳"]
[{"$f":"入力シート!A235&\"\"","v":"215"},{"$f":"入力シート!B235&\"\"","v":"高松"},null,null,{"$f":"入力シート!C235&\"\"","v":""},null,null,{"$f":"入力シート!D235&\"\"","v":""},null,{"$f":"入力シート!E235&\"\"","v":""},{"$f":"IF(入力シート!F235=0,\"\",入力シート!F235)","v":""},{"$f":"入力シート!I235&\"\"","v":""},{"$f":"入力シート!J235&\"\"","v":""},{"$f":"入力シート!K235&\"\"","v":""},"・","現","帳"]
[{"$f":"入力シート!A236&\"\"","v":"216"},{"$f":"入力シート!B236&\"\"","v":"高松"},null,null,{"$f":"入力シート!C236&\"\"","v":""},null,null,{"$f":"入力シート!D236&\"\"","v":""},null,{"$f":"入力シート!E236&\"\"","v":""},{"$f":"IF(入力シート!F236=0,\"\",入力シート!F236)","v":""},{"$f":"入力シート!I236&\"\"","v":""},{"$f":"入力シート!J236&\"\"","v":""},{"$f":"入力シート!K236&\"\"","v":""},"・","現","帳"]
[{"$f":"入力シート!A237&\"\"","v":"217"},{"$f":"入力シート!B237&\"\"","v":"高松"},null,null,{"$f":"入力シート!C237&\"\"","v":""},null,null,{"$f":"入力シート!D237&\"\"","v":""},null,{"$f":"入力シート!E237&\"\"","v":""},{"$f":"IF(入力シート!F237=0,\"\",入力シート!F237)","v":""},{"$f":"入力シート!I237&\"\"","v":""},{"$f":"入力シート!J237&\"\"","v":""},{"$f":"入力シート!K237&\"\"","v":""},"・","現","帳"]
[{"$f":"入力シート!A238&\"\"","v":"218"},{"$f":"入力シート!B238&\"\"","v":"高松"},null,null,{"$f":"入力シート!C238&\"\"","v":""},null,null,{"$f":"入力シート!D238&\"\"","v":""},null,{"$f":"入力シート!E238&\"\"","v":""},{"$f":"IF(入力シート!F238=0,\"\",入力シート!F238)","v":""},{"$f":"入力シート!I238&\"\"","v":""},{"$f":"入力シート!J238&\"\"","v":""},{"$f":"入力シート!K238&\"\"","v":""},"・","現","帳"]
[{"$f":"入力シート!A239&\"\"","v":"219"},{"$f":"入力シート!B239&\"\"","v":"高松"},null,null,{"$f":"入力シート!C239&\"\"","v":""},null,null,{"$f":"入力シート!D239&\"\"","v":""},null,{"$f":"入力シート!E239&\"\"","v":""},{"$f":"IF(入力シート!F239=0,\"\",入力シート!F239)","v":""},{"$f":"入力シート!I239&\"\"","v":""},{"$f":"入力シート!J239&\"\"","v":""},{"$f":"入力シート!K239&\"\"","v":""},"・","現","帳"]
[{"$f":"入力シート!A240&\"\"","v":"220"},{"$f":"入力シート!B240&\"\"","v":"高松"},null,null,{"$f":"入力シート!C240&\"\"","v":""},null,null,{"$f":"入力シート!D240&\"\"","v":""},null,{"$f":"入力シート!E240&\"\"","v":""},{"$f":"IF(入力シート!F240=0,\"\",入力シート!F240)","v":""},{"$f":"入力シート!I240&\"\"","v":""},{"$f":"入力シート!J240&\"\"","v":""},{"$f":"入力シート!K240&\"\"","v":""},"・","現","帳"]
[{"$f":"入力シート!A241&\"\"","v":"221"},{"$f":"入力シート!B241&\"\"","v":"高松"},null,null,{"$f":"入力シート!C241&\"\"","v":""},null,null,{"$f":"入力シート!D241&\"\"","v":""},null,{"$f":"入力シート!E241&\"\"","v":""},{"$f":"IF(入力シート!F241=0,\"\",入力シート!F241)","v":""},{"$f":"入力シート!I241&\"\"","v":""},{"$f":"入力シート!J241&\"\"","v":""},{"$f":"入力シート!K241&\"\"","v":""},"・","現","帳"]
[{"$f":"入力シート!A242&\"\"","v":"222"},{"$f":"入力シート!B242&\"\"","v":"高松"},null,null,{"$f":"入力シート!C242&\"\"","v":""},null,null,{"$f":"入力シート!D242&\"\"","v":""},null,{"$f":"入力シート!E242&\"\"","v":""},{"$f":"IF(入力シート!F242=0,\"\",入力シート!F242)","v":""},{"$f":"入力シート!I242&\"\"","v":""},{"$f":"入力シート!J242&\"\"","v":""},{"$f":"入力シート!K242&\"\"","v":""},"・","現","帳"]
[{"$f":"入力シート!A243&\"\"","v":"223"},{"$f":"入力シート!B243&\"\"","v":"高松"},null,null,{"$f":"入力シート!C243&\"\"","v":""},null,null,{"$f":"入力シート!D243&\"\"","v":""},null,{"$f":"入力シート!E243&\"\"","v":""},{"$f":"IF(入力シート!F243=0,\"\",入力シート!F243)","v":""},{"$f":"入力シート!I243&\"\"","v":""},{"$f":"入力シート!J243&\"\"","v":""},{"$f":"入力シート!K243&\"\"","v":""},"・","現","帳"]
[{"$f":"入力シート!A244&\"\"","v":"224"},{"$f":"入力シート!B244&\"\"","v":"高松"},null,null,{"$f":"入力シート!C244&\"\"","v":""},null,null,{"$f":"入力シート!D244&\"\"","v":""},null,{"$f":"入力シート!E244&\"\"","v":""},{"$f":"IF(入力シート!F244=0,\"\",入力シート!F244)","v":""},{"$f":"入力シート!I244&\"\"","v":""},{"$f":"入力シート!J244&\"\"","v":""},{"$f":"入力シート!K244&\"\"","v":""},"・","現","帳"]
[{"$f":"入力シート!A245&\"\"","v":"225"},{"$f":"入力シート!B245&\"\"","v":"高松"},null,null,{"$f":"入力シート!C245&\"\"","v":""},null,null,{"$f":"入力シート!D245&\"\"","v":""},null,{"$f":"入力シート!E245&\"\"","v":""},{"$f":"IF(入力シート!F245=0,\"\",入力シート!F245)","v":""},{"$f":"入力シート!I245&\"\"","v":""},{"$f":"入力シート!J245&\"\"","v":""},{"$f":"入力シート!K245&\"\"","v":""},"・","現","帳"]
[{"$f":"入力シート!A246&\"\"","v":"226"},{"$f":"入力シート!B246&\"\"","v":"高松"},null,null,{"$f":"入力シート!C246&\"\"","v":""},null,null,{"$f":"入力シート!D246&\"\"","v":""},null,{"$f":"入力シート!E246&\"\"","v":""},{"$f":"IF(入力シート!F246=0,\"\",入力シート!F246)","v":""},{"$f":"入力シート!I246&\"\"","v":""},{"$f":"入力シート!J246&\"\"","v":""},{"$f":"入力シート!K246&\"\"","v":""},"・","現","帳"]
[{"$f":"入力シート!A247&\"\"","v":"227"},{"$f":"入力シート!B247&\"\"","v":"高松"},null,null,{"$f":"入力シート!C247&\"\"","v":""},null,null,{"$f":"入力シート!D247&\"\"","v":""},null,{"$f":"入力シート!E247&\"\"","v":""},{"$f":"IF(入力シート!F247=0,\"\",入力シート!F247)","v":""},{"$f":"入力シート!I247&\"\"","v":""},{"$f":"入力シート!J247&\"\"","v":""},{"$f":"入力シート!K247&\"\"","v":""},"・","現","帳"]
[{"$f":"入力シート!A248&\"\"","v":"228"},{"$f":"入力シート!B248&\"\"","v":"高松"},null,null,{"$f":"入力シート!C248&\"\"","v":""},null,null,{"$f":"入力シート!D248&\"\"","v":""},null,{"$f":"入力シート!E248&\"\"","v":""},{"$f":"IF(入力シート!F248=0,\"\",入力シート!F248)","v":""},{"$f":"入力シート!I248&\"\"","v":""},{"$f":"入力シート!J248&\"\"","v":""},{"$f":"入力シート!K248&\"\"","v":""},"・","現","帳"]
[{"$f":"入力シート!A249&\"\"","v":"229"},{"$f":"入力シート!B249&\"\"","v":"高松"},null,null,{"$f":"入力シート!C249&\"\"","v":""},null,null,{"$f":"入力シート!D249&\"\"","v":""},null,{"$f":"入力シート!E249&\"\"","v":""},{"$f":"IF(入力シート!F249=0,\"\",入力シート!F249)","v":""},{"$f":"入力シート!I249&\"\"","v":""},{"$f":"入力シート!J249&\"\"","v":""},{"$f":"入力シート!K249&\"\"","v":""},"・","現","帳"]
[{"$f":"入力シート!A250&\"\"","v":"230"},{"$f":"入力シート!B250&\"\"","v":"高松"},null,null,{"$f":"入力シート!C250&\"\"","v":""},null,null,{"$f":"入力シート!D250&\"\"","v":""},null,{"$f":"入力シート!E250&\"\"","v":""},{"$f":"IF(入力シート!F250=0,\"\",入力シート!F250)","v":""},{"$f":"入力シート!I250&\"\"","v":""},{"$f":"入力シート!J250&\"\"","v":""},{"$f":"入力シート!K250&\"\"","v":""},"・","現","帳"]
[{"$f":"入力シート!A251&\"\"","v":"231"},{"$f":"入力シート!B251&\"\"","v":"高松"},null,null,{"$f":"入力シート!C251&\"\"","v":""},null,null,{"$f":"入力シート!D251&\"\"","v":""},null,{"$f":"入力シート!E251&\"\"","v":""},{"$f":"IF(入力シート!F251=0,\"\",入力シート!F251)","v":""},{"$f":"入力シート!I251&\"\"","v":""},{"$f":"入力シート!J251&\"\"","v":""},{"$f":"入力シート!K251&\"\"","v":""},"・","現","帳"]
[{"$f":"入力シート!A252&\"\"","v":"232"},{"$f":"入力シート!B252&\"\"","v":"高松"},null,null,{"$f":"入力シート!C252&\"\"","v":""},null,null,{"$f":"入力シート!D252&\"\"","v":""},null,{"$f":"入力シート!E252&\"\"","v":""},{"$f":"IF(入力シート!F252=0,\"\",入力シート!F252)","v":""},{"$f":"入力シート!I252&\"\"","v":""},{"$f":"入力シート!J252&\"\"","v":""},{"$f":"入力シート!K252&\"\"","v":""},"・","現","帳"]
[{"$f":"入力シート!A253&\"\"","v":"233"},{"$f":"入力シート!B253&\"\"","v":"高松"},null,null,{"$f":"入力シート!C253&\"\"","v":""},null,null,{"$f":"入力シート!D253&\"\"","v":""},null,{"$f":"入力シート!E253&\"\"","v":""},{"$f":"IF(入力シート!F253=0,\"\",入力シート!F253)","v":""},{"$f":"入力シート!I253&\"\"","v":""},{"$f":"入力シート!J253&\"\"","v":""},{"$f":"入力シート!K253&\"\"","v":""},"・","現","帳"]
[{"$f":"入力シート!A254&\"\"","v":"234"},{"$f":"入力シート!B254&\"\"","v":"高松"},null,null,{"$f":"入力シート!C254&\"\"","v":""},null,null,{"$f":"入力シート!D254&\"\"","v":""},null,{"$f":"入力シート!E254&\"\"","v":""},{"$f":"IF(入力シート!F254=0,\"\",入力シート!F254)","v":""},{"$f":"入力シート!I254&\"\"","v":""},{"$f":"入力シート!J254&\"\"","v":""},{"$f":"入力シート!K254&\"\"","v":""},"・","現","帳"]
[{"$f":"入力シート!A255&\"\"","v":"235"},{"$f":"入力シート!B255&\"\"","v":"高松"},null,null,{"$f":"入力シート!C255&\"\"","v":""},null,null,{"$f":"入力シート!D255&\"\"","v":""},null,{"$f":"入力シート!E255&\"\"","v":""},{"$f":"IF(入力シート!F255=0,\"\",入力シート!F255)","v":""},{"$f":"入力シート!I255&\"\"","v":""},{"$f":"入力シート!J255&\"\"","v":""},{"$f":"入力シート!K255&\"\"","v":""},"・","現","帳"]
[{"$f":"入力シート!A256&\"\"","v":"236"},{"$f":"入力シート!B256&\"\"","v":"高松"},null,null,{"$f":"入力シート!C256&\"\"","v":""},null,null,{"$f":"入力シート!D256&\"\"","v":""},null,{"$f":"入力シート!E256&\"\"","v":""},{"$f":"IF(入力シート!F256=0,\"\",入力シート!F256)","v":""},{"$f":"入力シート!I256&\"\"","v":""},{"$f":"入力シート!J256&\"\"","v":""},{"$f":"入力シート!K256&\"\"","v":""},"・","現","帳"]
[{"$f":"入力シート!A257&\"\"","v":"237"},{"$f":"入力シート!B257&\"\"","v":"高松"},null,null,{"$f":"入力シート!C257&\"\"","v":""},null,null,{"$f":"入力シート!D257&\"\"","v":""},null,{"$f":"入力シート!E257&\"\"","v":""},{"$f":"IF(入力シート!F257=0,\"\",入力シート!F257)","v":""},{"$f":"入力シート!I257&\"\"","v":""},{"$f":"入力シート!J257&\"\"","v":""},{"$f":"入力シート!K257&\"\"","v":""},"・","現","帳"]
[{"$f":"入力シート!A258&\"\"","v":"238"},{"$f":"入力シート!B258&\"\"","v":"高松"},null,null,{"$f":"入力シート!C258&\"\"","v":""},null,null,{"$f":"入力シート!D258&\"\"","v":""},null,{"$f":"入力シート!E258&\"\"","v":""},{"$f":"IF(入力シート!F258=0,\"\",入力シート!F258)","v":""},{"$f":"入力シート!I258&\"\"","v":""},{"$f":"入力シート!J258&\"\"","v":""},{"$f":"入力シート!K258&\"\"","v":""},"・","現","帳"]
[{"$f":"入力シート!A259&\"\"","v":"239"},{"$f":"入力シート!B259&\"\"","v":"高松"},null,null,{"$f":"入力シート!C259&\"\"","v":""},null,null,{"$f":"入力シート!D259&\"\"","v":""},null,{"$f":"入力シート!E259&\"\"","v":""},{"$f":"IF(入力シート!F259=0,\"\",入力シート!F259)","v":""},{"$f":"入力シート!I259&\"\"","v":""},{"$f":"入力シート!J259&\"\"","v":""},{"$f":"入力シート!K259&\"\"","v":""},"・","現","帳"]
[{"$f":"入力シート!A260&\"\"","v":"240"},{"$f":"入力シート!B260&\"\"","v":"高松"},null,null,{"$f":"入力シート!C260&\"\"","v":""},null,null,{"$f":"入力シート!D260&\"\"","v":""},null,{"$f":"入力シート!E260&\"\"","v":""},{"$f":"IF(入力シート!F260=0,\"\",入力シート!F260)","v":""},{"$f":"入力シート!I260&\"\"","v":""},{"$f":"入力シート!J260&\"\"","v":""},{"$f":"入力シート!K260&\"\"","v":""},"・","現","帳"]
[{"$f":"入力シート!A261&\"\"","v":"241"},{"$f":"入力シート!B261&\"\"","v":"高松"},null,null,{"$f":"入力シート!C261&\"\"","v":""},null,null,{"$f":"入力シート!D261&\"\"","v":""},null,{"$f":"入力シート!E261&\"\"","v":""},{"$f":"IF(入力シート!F261=0,\"\",入力シート!F261)","v":""},{"$f":"入力シート!I261&\"\"","v":""},{"$f":"入力シート!J261&\"\"","v":""},{"$f":"入力シート!K261&\"\"","v":""},"・","現","帳"]
[{"$f":"入力シート!A262&\"\"","v":"242"},{"$f":"入力シート!B262&\"\"","v":"高松"},null,null,{"$f":"入力シート!C262&\"\"","v":""},null,null,{"$f":"入力シート!D262&\"\"","v":""},null,{"$f":"入力シート!E262&\"\"","v":""},{"$f":"IF(入力シート!F262=0,\"\",入力シート!F262)","v":""},{"$f":"入力シート!I262&\"\"","v":""},{"$f":"入力シート!J262&\"\"","v":""},{"$f":"入力シート!K262&\"\"","v":""},"・","現","帳"]
[{"$f":"入力シート!A263&\"\"","v":"243"},{"$f":"入力シート!B263&\"\"","v":"高松"},null,null,{"$f":"入力シート!C263&\"\"","v":""},null,null,{"$f":"入力シート!D263&\"\"","v":""},null,{"$f":"入力シート!E263&\"\"","v":""},{"$f":"IF(入力シート!F263=0,\"\",入力シート!F263)","v":""},{"$f":"入力シート!I263&\"\"","v":""},{"$f":"入力シート!J263&\"\"","v":""},{"$f":"入力シート!K263&\"\"","v":""},"・","現","帳"]
[{"$f":"入力シート!A264&\"\"","v":"244"},{"$f":"入力シート!B264&\"\"","v":"高松"},null,null,{"$f":"入力シート!C264&\"\"","v":""},null,null,{"$f":"入力シート!D264&\"\"","v":""},null,{"$f":"入力シート!E264&\"\"","v":""},{"$f":"IF(入力シート!F264=0,\"\",入力シート!F264)","v":""},{"$f":"入力シート!I264&\"\"","v":""},{"$f":"入力シート!J264&\"\"","v":""},{"$f":"入力シート!K264&\"\"","v":""},"・","現","帳"]
[{"$f":"入力シート!A265&\"\"","v":"245"},{"$f":"入力シート!B265&\"\"","v":"高松"},null,null,{"$f":"入力シート!C265&\"\"","v":""},null,null,{"$f":"入力シート!D265&\"\"","v":""},null,{"$f":"入力シート!E265&\"\"","v":""},{"$f":"IF(入力シート!F265=0,\"\",入力シート!F265)","v":""},{"$f":"入力シート!I265&\"\"","v":""},{"$f":"入力シート!J265&\"\"","v":""},{"$f":"入力シート!K265&\"\"","v":""},"・","現","帳"]
[{"$f":"入力シート!A266&\"\"","v":"246"},{"$f":"入力シート!B266&\"\"","v":"高松"},null,null,{"$f":"入力シート!C266&\"\"","v":""},null,null,{"$f":"入力シート!D266&\"\"","v":""},null,{"$f":"入力シート!E266&\"\"","v":""},{"$f":"IF(入力シート!F266=0,\"\",入力シート!F266)","v":""},{"$f":"入力シート!I266&\"\"","v":""},{"$f":"入力シート!J266&\"\"","v":""},{"$f":"入力シート!K266&\"\"","v":""},"・","現","帳"]
[{"$f":"入力シート!A267&\"\"","v":"247"},{"$f":"入力シート!B267&\"\"","v":"高松"},null,null,{"$f":"入力シート!C267&\"\"","v":""},null,null,{"$f":"入力シート!D267&\"\"","v":""},null,{"$f":"入力シート!E267&\"\"","v":""},{"$f":"IF(入力シート!F267=0,\"\",入力シート!F267)","v":""},{"$f":"入力シート!I267&\"\"","v":""},{"$f":"入力シート!J267&\"\"","v":""},{"$f":"入力シート!K267&\"\"","v":""},"・","現","帳"]
[{"$f":"入力シート!A268&\"\"","v":"248"},{"$f":"入力シート!B268&\"\"","v":"高松"},null,null,{"$f":"入力シート!C268&\"\"","v":""},null,null,{"$f":"入力シート!D268&\"\"","v":""},null,{"$f":"入力シート!E268&\"\"","v":""},{"$f":"IF(入力シート!F268=0,\"\",入力シート!F268)","v":""},{"$f":"入力シート!I268&\"\"","v":""},{"$f":"入力シート!J268&\"\"","v":""},{"$f":"入力シート!K268&\"\"","v":""},"・","現","帳"]
[{"$f":"入力シート!A269&\"\"","v":"249"},{"$f":"入力シート!B269&\"\"","v":"高松"},null,null,{"$f":"入力シート!C269&\"\"","v":""},null,null,{"$f":"入力シート!D269&\"\"","v":""},null,{"$f":"入力シート!E269&\"\"","v":""},{"$f":"IF(入力シート!F269=0,\"\",入力シート!F269)","v":""},{"$f":"入力シート!I269&\"\"","v":""},{"$f":"入力シート!J269&\"\"","v":""},{"$f":"入力シート!K269&\"\"","v":""},"・","現","帳"]
[{"$f":"入力シート!A270&\"\"","v":"250"},{"$f":"入力シート!B270&\"\"","v":"高松"},null,null,{"$f":"入力シート!C270&\"\"","v":""},null,null,{"$f":"入力シート!D270&\"\"","v":""},null,{"$f":"入力シート!E270&\"\"","v":""},{"$f":"IF(入力シート!F270=0,\"\",入力シート!F270)","v":""},{"$f":"入力シート!I270&\"\"","v":""},{"$f":"入力シート!J270&\"\"","v":""},{"$f":"入力シート!K270&\"\"","v":""},"・","現","帳"]
[{"$f":"入力シート!A271&\"\"","v":"251"},{"$f":"入力シート!B271&\"\"","v":"高松"},null,null,{"$f":"入力シート!C271&\"\"","v":""},null,null,{"$f":"入力シート!D271&\"\"","v":""},null,{"$f":"入力シート!E271&\"\"","v":""},{"$f":"IF(入力シート!F271=0,\"\",入力シート!F271)","v":""},{"$f":"入力シート!I271&\"\"","v":""},{"$f":"入力シート!J271&\"\"","v":""},{"$f":"入力シート!K271&\"\"","v":""},"・","現","帳"]
[{"$f":"入力シート!A272&\"\"","v":"252"},{"$f":"入力シート!B272&\"\"","v":"高松"},null,null,{"$f":"入力シート!C272&\"\"","v":""},null,null,{"$f":"入力シート!D272&\"\"","v":""},null,{"$f":"入力シート!E272&\"\"","v":""},{"$f":"IF(入力シート!F272=0,\"\",入力シート!F272)","v":""},{"$f":"入力シート!I272&\"\"","v":""},{"$f":"入力シート!J272&\"\"","v":""},{"$f":"入力シート!K272&\"\"","v":""},"・","現","帳"]
[{"$f":"入力シート!A273&\"\"","v":"253"},{"$f":"入力シート!B273&\"\"","v":"高松"},null,null,{"$f":"入力シート!C273&\"\"","v":""},null,null,{"$f":"入力シート!D273&\"\"","v":""},null,{"$f":"入力シート!E273&\"\"","v":""},{"$f":"IF(入力シート!F273=0,\"\",入力シート!F273)","v":""},{"$f":"入力シート!I273&\"\"","v":""},{"$f":"入力シート!J273&\"\"","v":""},{"$f":"入力シート!K273&\"\"","v":""},"・","現","帳"]
[{"$f":"入力シート!A274&\"\"","v":"254"},{"$f":"入力シート!B274&\"\"","v":"高松"},null,null,{"$f":"入力シート!C274&\"\"","v":""},null,null,{"$f":"入力シート!D274&\"\"","v":""},null,{"$f":"入力シート!E274&\"\"","v":""},{"$f":"IF(入力シート!F274=0,\"\",入力シート!F274)","v":""},{"$f":"入力シート!I274&\"\"","v":""},{"$f":"入力シート!J274&\"\"","v":""},{"$f":"入力シート!K274&\"\"","v":""},"・","現","帳"]
[{"$f":"入力シート!A275&\"\"","v":"255"},{"$f":"入力シート!B275&\"\"","v":"高松"},null,null,{"$f":"入力シート!C275&\"\"","v":""},null,null,{"$f":"入力シート!D275&\"\"","v":""},null,{"$f":"入力シート!E275&\"\"","v":""},{"$f":"IF(入力シート!F275=0,\"\",入力シート!F275)","v":""},{"$f":"入力シート!I275&\"\"","v":""},{"$f":"入力シート!J275&\"\"","v":""},{"$f":"入力シート!K275&\"\"","v":""},"・","現","帳"]
[{"$f":"入力シート!A276&\"\"","v":"256"},{"$f":"入力シート!B276&\"\"","v":"高松"},null,null,{"$f":"入力シート!C276&\"\"","v":""},null,null,{"$f":"入力シート!D276&\"\"","v":""},null,{"$f":"入力シート!E276&\"\"","v":""},{"$f":"IF(入力シート!F276=0,\"\",入力シート!F276)","v":""},{"$f":"入力シート!I276&\"\"","v":""},{"$f":"入力シート!J276&\"\"","v":""},{"$f":"入力シート!K276&\"\"","v":""},"・","現","帳"]
[{"$f":"入力シート!A277&\"\"","v":"257"},{"$f":"入力シート!B277&\"\"","v":"高松"},null,null,{"$f":"入力シート!C277&\"\"","v":""},null,null,{"$f":"入力シート!D277&\"\"","v":""},null,{"$f":"入力シート!E277&\"\"","v":""},{"$f":"IF(入力シート!F277=0,\"\",入力シート!F277)","v":""},{"$f":"入力シート!I277&\"\"","v":""},{"$f":"入力シート!J277&\"\"","v":""},{"$f":"入力シート!K277&\"\"","v":""},"・","現","帳"]
[{"$f":"入力シート!A278&\"\"","v":"258"},{"$f":"入力シート!B278&\"\"","v":"高松"},null,null,{"$f":"入力シート!C278&\"\"","v":""},null,null,{"$f":"入力シート!D278&\"\"","v":""},null,{"$f":"入力シート!E278&\"\"","v":""},{"$f":"IF(入力シート!F278=0,\"\",入力シート!F278)","v":""},{"$f":"入力シート!I278&\"\"","v":""},{"$f":"入力シート!J278&\"\"","v":""},{"$f":"入力シート!K278&\"\"","v":""},"・","現","帳"]
[{"$f":"入力シート!A279&\"\"","v":"259"},{"$f":"入力シート!B279&\"\"","v":"高松"},null,null,{"$f":"入力シート!C279&\"\"","v":""},null,null,{"$f":"入力シート!D279&\"\"","v":""},null,{"$f":"入力シート!E279&\"\"","v":""},{"$f":"IF(入力シート!F279=0,\"\",入力シート!F279)","v":""},{"$f":"入力シート!I279&\"\"","v":""},{"$f":"入力シート!J279&\"\"","v":""},{"$f":"入力シート!K279&\"\"","v":""},"・","現","帳"]
[{"$f":"入力シート!A280&\"\"","v":"260"},{"$f":"入力シート!B280&\"\"","v":"高松"},null,null,{"$f":"入力シート!C280&\"\"","v":""},null,null,{"$f":"入力シート!D280&\"\"","v":""},null,{"$f":"入力シート!E280&\"\"","v":""},{"$f":"IF(入力シート!F280=0,\"\",入力シート!F280)","v":""},{"$f":"入力シート!I280&\"\"","v":""},{"$f":"入力シート!J280&\"\"","v":""},{"$f":"入力シート!K280&\"\"","v":""},"・","現","帳"]
[{"$f":"入力シート!A281&\"\"","v":"261"},{"$f":"入力シート!B281&\"\"","v":"高松"},null,null,{"$f":"入力シート!C281&\"\"","v":""},null,null,{"$f":"入力シート!D281&\"\"","v":""},null,{"$f":"入力シート!E281&\"\"","v":""},{"$f":"IF(入力シート!F281=0,\"\",入力シート!F281)","v":""},{"$f":"入力シート!I281&\"\"","v":""},{"$f":"入力シート!J281&\"\"","v":""},{"$f":"入力シート!K281&\"\"","v":""},"・","現","帳"]
[{"$f":"入力シート!A282&\"\"","v":"262"},{"$f":"入力シート!B282&\"\"","v":"高松"},null,null,{"$f":"入力シート!C282&\"\"","v":""},null,null,{"$f":"入力シート!D282&\"\"","v":""},null,{"$f":"入力シート!E282&\"\"","v":""},{"$f":"IF(入力シート!F282=0,\"\",入力シート!F282)","v":""},{"$f":"入力シート!I282&\"\"","v":""},{"$f":"入力シート!J282&\"\"","v":""},{"$f":"入力シート!K282&\"\"","v":""},"・","現","帳"]
[{"$f":"入力シート!A283&\"\"","v":"263"},{"$f":"入力シート!B283&\"\"","v":"高松"},null,null,{"$f":"入力シート!C283&\"\"","v":""},null,null,{"$f":"入力シート!D283&\"\"","v":""},null,{"$f":"入力シート!E283&\"\"","v":""},{"$f":"IF(入力シート!F283=0,\"\",入力シート!F283)","v":""},{"$f":"入力シート!I283&\"\"","v":""},{"$f":"入力シート!J283&\"\"","v":""},{"$f":"入力シート!K283&\"\"","v":""},"・","現","帳"]
[{"$f":"入力シート!A284&\"\"","v":"264"},{"$f":"入力シート!B284&\"\"","v":"高松"},null,null,{"$f":"入力シート!C284&\"\"","v":""},null,null,{"$f":"入力シート!D284&\"\"","v":""},null,{"$f":"入力シート!E284&\"\"","v":""},{"$f":"IF(入力シート!F284=0,\"\",入力シート!F284)","v":""},{"$f":"入力シート!I284&\"\"","v":""},{"$f":"入力シート!J284&\"\"","v":""},{"$f":"入力シート!K284&\"\"","v":""},"・","現","帳"]
[{"$f":"入力シート!A285&\"\"","v":"265"},{"$f":"入力シート!B285&\"\"","v":"高松"},null,null,{"$f":"入力シート!C285&\"\"","v":""},null,null,{"$f":"入力シート!D285&\"\"","v":""},null,{"$f":"入力シート!E285&\"\"","v":""},{"$f":"IF(入力シート!F285=0,\"\",入力シート!F285)","v":""},{"$f":"入力シート!I285&\"\"","v":""},{"$f":"入力シート!J285&\"\"","v":""},{"$f":"入力シート!K285&\"\"","v":""},"・","現","帳"]
[{"$f":"入力シート!A286&\"\"","v":"266"},{"$f":"入力シート!B286&\"\"","v":"高松"},null,null,{"$f":"入力シート!C286&\"\"","v":""},null,null,{"$f":"入力シート!D286&\"\"","v":""},null,{"$f":"入力シート!E286&\"\"","v":""},{"$f":"IF(入力シート!F286=0,\"\",入力シート!F286)","v":""},{"$f":"入力シート!I286&\"\"","v":""},{"$f":"入力シート!J286&\"\"","v":""},{"$f":"入力シート!K286&\"\"","v":""},"・","現","帳"]
[{"$f":"入力シート!A287&\"\"","v":"267"},{"$f":"入力シート!B287&\"\"","v":"高松"},null,null,{"$f":"入力シート!C287&\"\"","v":""},null,null,{"$f":"入力シート!D287&\"\"","v":""},null,{"$f":"入力シート!E287&\"\"","v":""},{"$f":"IF(入力シート!F287=0,\"\",入力シート!F287)","v":""},{"$f":"入力シート!I287&\"\"","v":""},{"$f":"入力シート!J287&\"\"","v":""},{"$f":"入力シート!K287&\"\"","v":""},"・","現","帳"]
[{"$f":"入力シート!A288&\"\"","v":"268"},{"$f":"入力シート!B288&\"\"","v":"高松"},null,null,{"$f":"入力シート!C288&\"\"","v":""},null,null,{"$f":"入力シート!D288&\"\"","v":""},null,{"$f":"入力シート!E288&\"\"","v":""},{"$f":"IF(入力シート!F288=0,\"\",入力シート!F288)","v":""},{"$f":"入力シート!I288&\"\"","v":""},{"$f":"入力シート!J288&\"\"","v":""},{"$f":"入力シート!K288&\"\"","v":""},"・","現","帳"]
[{"$f":"入力シート!A289&\"\"","v":"269"},{"$f":"入力シート!B289&\"\"","v":"高松"},null,null,{"$f":"入力シート!C289&\"\"","v":""},null,null,{"$f":"入力シート!D289&\"\"","v":""},null,{"$f":"入力シート!E289&\"\"","v":""},{"$f":"IF(入力シート!F289=0,\"\",入力シート!F289)","v":""},{"$f":"入力シート!I289&\"\"","v":""},{"$f":"入力シート!J289&\"\"","v":""},{"$f":"入力シート!K289&\"\"","v":""},"・","現","帳"]
[{"$f":"入力シート!A290&\"\"","v":"270"},{"$f":"入力シート!B290&\"\"","v":"高松"},null,null,{"$f":"入力シート!C290&\"\"","v":""},null,null,{"$f":"入力シート!D290&\"\"","v":""},null,{"$f":"入力シート!E290&\"\"","v":""},{"$f":"IF(入力シート!F290=0,\"\",入力シート!F290)","v":""},{"$f":"入力シート!I290&\"\"","v":""},{"$f":"入力シート!J290&\"\"","v":""},{"$f":"入力シート!K290&\"\"","v":""},"・","現","帳"]
[{"$f":"入力シート!A291&\"\"","v":"271"},{"$f":"入力シート!B291&\"\"","v":"高松"},null,null,{"$f":"入力シート!C291&\"\"","v":""},null,null,{"$f":"入力シート!D291&\"\"","v":""},null,{"$f":"入力シート!E291&\"\"","v":""},{"$f":"IF(入力シート!F291=0,\"\",入力シート!F291)","v":""},{"$f":"入力シート!I291&\"\"","v":""},{"$f":"入力シート!J291&\"\"","v":""},{"$f":"入力シート!K291&\"\"","v":""},"・","現","帳"]
[{"$f":"入力シート!A292&\"\"","v":"272"},{"$f":"入力シート!B292&\"\"","v":"高松"},null,null,{"$f":"入力シート!C292&\"\"","v":""},null,null,{"$f":"入力シート!D292&\"\"","v":""},null,{"$f":"入力シート!E292&\"\"","v":""},{"$f":"IF(入力シート!F292=0,\"\",入力シート!F292)","v":""},{"$f":"入力シート!I292&\"\"","v":""},{"$f":"入力シート!J292&\"\"","v":""},{"$f":"入力シート!K292&\"\"","v":""},"・","現","帳"]
[{"$f":"入力シート!A293&\"\"","v":"273"},{"$f":"入力シート!B293&\"\"","v":"高松"},null,null,{"$f":"入力シート!C293&\"\"","v":""},null,null,{"$f":"入力シート!D293&\"\"","v":""},null,{"$f":"入力シート!E293&\"\"","v":""},{"$f":"IF(入力シート!F293=0,\"\",入力シート!F293)","v":""},{"$f":"入力シート!I293&\"\"","v":""},{"$f":"入力シート!J293&\"\"","v":""},{"$f":"入力シート!K293&\"\"","v":""},"・","現","帳"]
[{"$f":"入力シート!A294&\"\"","v":"274"},{"$f":"入力シート!B294&\"\"","v":"高松"},null,null,{"$f":"入力シート!C294&\"\"","v":""},null,null,{"$f":"入力シート!D294&\"\"","v":""},null,{"$f":"入力シート!E294&\"\"","v":""},{"$f":"IF(入力シート!F294=0,\"\",入力シート!F294)","v":""},{"$f":"入力シート!I294&\"\"","v":""},{"$f":"入力シート!J294&\"\"","v":""},{"$f":"入力シート!K294&\"\"","v":""},"・","現","帳"]
[{"$f":"入力シート!A295&\"\"","v":"275"},{"$f":"入力シート!B295&\"\"","v":"高松"},null,null,{"$f":"入力シート!C295&\"\"","v":""},null,null,{"$f":"入力シート!D295&\"\"","v":""},null,{"$f":"入力シート!E295&\"\"","v":""},{"$f":"IF(入力シート!F295=0,\"\",入力シート!F295)","v":""},{"$f":"入力シート!I295&\"\"","v":""},{"$f":"入力シート!J295&\"\"","v":""},{"$f":"入力シート!K295&\"\"","v":""},"・","現","帳"]
[{"$f":"入力シート!A296&\"\"","v":"276"},{"$f":"入力シート!B296&\"\"","v":"高松"},null,null,{"$f":"入力シート!C296&\"\"","v":""},null,null,{"$f":"入力シート!D296&\"\"","v":""},null,{"$f":"入力シート!E296&\"\"","v":""},{"$f":"IF(入力シート!F296=0,\"\",入力シート!F296)","v":""},{"$f":"入力シート!I296&\"\"","v":""},{"$f":"入力シート!J296&\"\"","v":""},{"$f":"入力シート!K296&\"\"","v":""},"・","現","帳"]
[{"$f":"入力シート!A297&\"\"","v":"277"},{"$f":"入力シート!B297&\"\"","v":"高松"},null,null,{"$f":"入力シート!C297&\"\"","v":""},null,null,{"$f":"入力シート!D297&\"\"","v":""},null,{"$f":"入力シート!E297&\"\"","v":""},{"$f":"IF(入力シート!F297=0,\"\",入力シート!F297)","v":""},{"$f":"入力シート!I297&\"\"","v":""},{"$f":"入力シート!J297&\"\"","v":""},{"$f":"入力シート!K297&\"\"","v":""},"・","現","帳"]
[{"$f":"入力シート!A298&\"\"","v":"278"},{"$f":"入力シート!B298&\"\"","v":"高松"},null,null,{"$f":"入力シート!C298&\"\"","v":""},null,null,{"$f":"入力シート!D298&\"\"","v":""},null,{"$f":"入力シート!E298&\"\"","v":""},{"$f":"IF(入力シート!F298=0,\"\",入力シート!F298)","v":""},{"$f":"入力シート!I298&\"\"","v":""},{"$f":"入力シート!J298&\"\"","v":""},{"$f":"入力シート!K298&\"\"","v":""},"・","現","帳"]
[{"$f":"入力シート!A299&\"\"","v":"279"},{"$f":"入力シート!B299&\"\"","v":"高松"},null,null,{"$f":"入力シート!C299&\"\"","v":""},null,null,{"$f":"入力シート!D299&\"\"","v":""},null,{"$f":"入力シート!E299&\"\"","v":""},{"$f":"IF(入力シート!F299=0,\"\",入力シート!F299)","v":""},{"$f":"入力シート!I299&\"\"","v":""},{"$f":"入力シート!J299&\"\"","v":""},{"$f":"入力シート!K299&\"\"","v":""},"・","現","帳"]
[{"$f":"入力シート!A300&\"\"","v":"280"},{"$f":"入力シート!B300&\"\"","v":"高松"},null,null,{"$f":"入力シート!C300&\"\"","v":""},null,null,{"$f":"入力シート!D300&\"\"","v":""},null,{"$f":"入力シート!E300&\"\"","v":""},{"$f":"IF(入力シート!F300=0,\"\",入力シート!F300)","v":""},{"$f":"入力シート!I300&\"\"","v":""},{"$f":"入力シート!J300&\"\"","v":""},{"$f":"入力シート!K300&\"\"","v":""},"・","現","帳"]
[{"$f":"入力シート!A301&\"\"","v":"281"},{"$f":"入力シート!B301&\"\"","v":"高松"},null,null,{"$f":"入力シート!C301&\"\"","v":""},null,null,{"$f":"入力シート!D301&\"\"","v":""},null,{"$f":"入力シート!E301&\"\"","v":""},{"$f":"IF(入力シート!F301=0,\"\",入力シート!F301)","v":""},{"$f":"入力シート!I301&\"\"","v":""},{"$f":"入力シート!J301&\"\"","v":""},{"$f":"入力シート!K301&\"\"","v":""},"・","現","帳"]
[{"$f":"入力シート!A302&\"\"","v":"282"},{"$f":"入力シート!B302&\"\"","v":"高松"},null,null,{"$f":"入力シート!C302&\"\"","v":""},null,null,{"$f":"入力シート!D302&\"\"","v":""},null,{"$f":"入力シート!E302&\"\"","v":""},{"$f":"IF(入力シート!F302=0,\"\",入力シート!F302)","v":""},{"$f":"入力シート!I302&\"\"","v":""},{"$f":"入力シート!J302&\"\"","v":""},{"$f":"入力シート!K302&\"\"","v":""},"・","現","帳"]
[{"$f":"入力シート!A303&\"\"","v":"283"},{"$f":"入力シート!B303&\"\"","v":"高松"},null,null,{"$f":"入力シート!C303&\"\"","v":""},null,null,{"$f":"入力シート!D303&\"\"","v":""},null,{"$f":"入力シート!E303&\"\"","v":""},{"$f":"IF(入力シート!F303=0,\"\",入力シート!F303)","v":""},{"$f":"入力シート!I303&\"\"","v":""},{"$f":"入力シート!J303&\"\"","v":""},{"$f":"入力シート!K303&\"\"","v":""},"・","現","帳"]
[{"$f":"入力シート!A304&\"\"","v":"284"},{"$f":"入力シート!B304&\"\"","v":"高松"},null,null,{"$f":"入力シート!C304&\"\"","v":""},null,null,{"$f":"入力シート!D304&\"\"","v":""},null,{"$f":"入力シート!E304&\"\"","v":""},{"$f":"IF(入力シート!F304=0,\"\",入力シート!F304)","v":""},{"$f":"入力シート!I304&\"\"","v":""},{"$f":"入力シート!J304&\"\"","v":""},{"$f":"入力シート!K304&\"\"","v":""},"・","現","帳"]
[{"$f":"入力シート!A305&\"\"","v":"285"},{"$f":"入力シート!B305&\"\"","v":"高松"},null,null,{"$f":"入力シート!C305&\"\"","v":""},null,null,{"$f":"入力シート!D305&\"\"","v":""},null,{"$f":"入力シート!E305&\"\"","v":""},{"$f":"IF(入力シート!F305=0,\"\",入力シート!F305)","v":""},{"$f":"入力シート!I305&\"\"","v":""},{"$f":"入力シート!J305&\"\"","v":""},{"$f":"入力シート!K305&\"\"","v":""},"・","現","帳"]
[{"$f":"入力シート!A306&\"\"","v":"286"},{"$f":"入力シート!B306&\"\"","v":"高松"},null,null,{"$f":"入力シート!C306&\"\"","v":""},null,null,{"$f":"入力シート!D306&\"\"","v":""},null,{"$f":"入力シート!E306&\"\"","v":""},{"$f":"IF(入力シート!F306=0,\"\",入力シート!F306)","v":""},{"$f":"入力シート!I306&\"\"","v":""},{"$f":"入力シート!J306&\"\"","v":""},{"$f":"入力シート!K306&\"\"","v":""},"・","現","帳"]
[{"$f":"入力シート!A307&\"\"","v":"287"},{"$f":"入力シート!B307&\"\"","v":"高松"},null,null,{"$f":"入力シート!C307&\"\"","v":""},null,null,{"$f":"入力シート!D307&\"\"","v":""},null,{"$f":"入力シート!E307&\"\"","v":""},{"$f":"IF(入力シート!F307=0,\"\",入力シート!F307)","v":""},{"$f":"入力シート!I307&\"\"","v":""},{"$f":"入力シート!J307&\"\"","v":""},{"$f":"入力シート!K307&\"\"","v":""},"・","現","帳"]
[{"$f":"入力シート!A308&\"\"","v":"288"},{"$f":"入力シート!B308&\"\"","v":"高松"},null,null,{"$f":"入力シート!C308&\"\"","v":""},null,null,{"$f":"入力シート!D308&\"\"","v":""},null,{"$f":"入力シート!E308&\"\"","v":""},{"$f":"IF(入力シート!F308=0,\"\",入力シート!F308)","v":""},{"$f":"入力シート!I308&\"\"","v":""},{"$f":"入力シート!J308&\"\"","v":""},{"$f":"入力シート!K308&\"\"","v":""},"・","現","帳"]
[{"$f":"入力シート!A309&\"\"","v":"289"},{"$f":"入力シート!B309&\"\"","v":"高松"},null,null,{"$f":"入力シート!C309&\"\"","v":""},null,null,{"$f":"入力シート!D309&\"\"","v":""},null,{"$f":"入力シート!E309&\"\"","v":""},{"$f":"IF(入力シート!F309=0,\"\",入力シート!F309)","v":""},{"$f":"入力シート!I309&\"\"","v":""},{"$f":"入力シート!J309&\"\"","v":""},{"$f":"入力シート!K309&\"\"","v":""},"・","現","帳"]
[{"$f":"入力シート!A310&\"\"","v":"290"},{"$f":"入力シート!B310&\"\"","v":"高松"},null,null,{"$f":"入力シート!C310&\"\"","v":""},null,null,{"$f":"入力シート!D310&\"\"","v":""},null,{"$f":"入力シート!E310&\"\"","v":""},{"$f":"IF(入力シート!F310=0,\"\",入力シート!F310)","v":""},{"$f":"入力シート!I310&\"\"","v":""},{"$f":"入力シート!J310&\"\"","v":""},{"$f":"入力シート!K310&\"\"","v":""},"・","現","帳"]
[{"$f":"入力シート!A311&\"\"","v":"291"},{"$f":"入力シート!B311&\"\"","v":"高松"},null,null,{"$f":"入力シート!C311&\"\"","v":""},null,null,{"$f":"入力シート!D311&\"\"","v":""},null,{"$f":"入力シート!E311&\"\"","v":""},{"$f":"IF(入力シート!F311=0,\"\",入力シート!F311)","v":""},{"$f":"入力シート!I311&\"\"","v":""},{"$f":"入力シート!J311&\"\"","v":""},{"$f":"入力シート!K311&\"\"","v":""},"・","現","帳"]
[{"$f":"入力シート!A312&\"\"","v":"292"},{"$f":"入力シート!B312&\"\"","v":"高松"},null,null,{"$f":"入力シート!C312&\"\"","v":""},null,null,{"$f":"入力シート!D312&\"\"","v":""},null,{"$f":"入力シート!E312&\"\"","v":""},{"$f":"IF(入力シート!F312=0,\"\",入力シート!F312)","v":""},{"$f":"入力シート!I312&\"\"","v":""},{"$f":"入力シート!J312&\"\"","v":""},{"$f":"入力シート!K312&\"\"","v":""},"・","現","帳"]
[{"$f":"入力シート!A313&\"\"","v":"293"},{"$f":"入力シート!B313&\"\"","v":"高松"},null,null,{"$f":"入力シート!C313&\"\"","v":""},null,null,{"$f":"入力シート!D313&\"\"","v":""},null,{"$f":"入力シート!E313&\"\"","v":""},{"$f":"IF(入力シート!F313=0,\"\",入力シート!F313)","v":""},{"$f":"入力シート!I313&\"\"","v":""},{"$f":"入力シート!J313&\"\"","v":""},{"$f":"入力シート!K313&\"\"","v":""},"・","現","帳"]
[{"$f":"入力シート!A314&\"\"","v":"294"},{"$f":"入力シート!B314&\"\"","v":"高松"},null,null,{"$f":"入力シート!C314&\"\"","v":""},null,null,{"$f":"入力シート!D314&\"\"","v":""},null,{"$f":"入力シート!E314&\"\"","v":""},{"$f":"IF(入力シート!F314=0,\"\",入力シート!F314)","v":""},{"$f":"入力シート!I314&\"\"","v":""},{"$f":"入力シート!J314&\"\"","v":""},{"$f":"入力シート!K314&\"\"","v":""},"・","現","帳"]
[{"$f":"入力シート!A315&\"\"","v":"295"},{"$f":"入力シート!B315&\"\"","v":"高松"},null,null,{"$f":"入力シート!C315&\"\"","v":""},null,null,{"$f":"入力シート!D315&\"\"","v":""},null,{"$f":"入力シート!E315&\"\"","v":""},{"$f":"IF(入力シート!F315=0,\"\",入力シート!F315)","v":""},{"$f":"入力シート!I315&\"\"","v":""},{"$f":"入力シート!J315&\"\"","v":""},{"$f":"入力シート!K315&\"\"","v":""},"・","現","帳"]
[{"$f":"入力シート!A316&\"\"","v":"296"},{"$f":"入力シート!B316&\"\"","v":"高松"},null,null,{"$f":"入力シート!C316&\"\"","v":""},null,null,{"$f":"入力シート!D316&\"\"","v":""},null,{"$f":"入力シート!E316&\"\"","v":""},{"$f":"IF(入力シート!F316=0,\"\",入力シート!F316)","v":""},{"$f":"入力シート!I316&\"\"","v":""},{"$f":"入力シート!J316&\"\"","v":""},{"$f":"入力シート!K316&\"\"","v":""},"・","現","帳"]
[{"$f":"入力シート!A317&\"\"","v":"297"},{"$f":"入力シート!B317&\"\"","v":"高松"},null,null,{"$f":"入力シート!C317&\"\"","v":""},null,null,{"$f":"入力シート!D317&\"\"","v":""},null,{"$f":"入力シート!E317&\"\"","v":""},{"$f":"IF(入力シート!F317=0,\"\",入力シート!F317)","v":""},{"$f":"入力シート!I317&\"\"","v":""},{"$f":"入力シート!J317&\"\"","v":""},{"$f":"入力シート!K317&\"\"","v":""},"・","現","帳"]
[{"$f":"入力シート!A318&\"\"","v":"298"},{"$f":"入力シート!B318&\"\"","v":"高松"},null,null,{"$f":"入力シート!C318&\"\"","v":""},null,null,{"$f":"入力シート!D318&\"\"","v":""},null,{"$f":"入力シート!E318&\"\"","v":""},{"$f":"IF(入力シート!F318=0,\"\",入力シート!F318)","v":""},{"$f":"入力シート!I318&\"\"","v":""},{"$f":"入力シート!J318&\"\"","v":""},{"$f":"入力シート!K318&\"\"","v":""},"・","現","帳"]
[{"$f":"入力シート!A319&\"\"","v":"299"},{"$f":"入力シート!B319&\"\"","v":"高松"},null,null,{"$f":"入力シート!C319&\"\"","v":""},null,null,{"$f":"入力シート!D319&\"\"","v":""},null,{"$f":"入力シート!E319&\"\"","v":""},{"$f":"IF(入力シート!F319=0,\"\",入力シート!F319)","v":""},{"$f":"入力シート!I319&\"\"","v":""},{"$f":"入力シート!J319&\"\"","v":""},{"$f":"入力シート!K319&\"\"","v":""},"・","現","帳"]
[{"$f":"入力シート!A320&\"\"","v":"300"},{"$f":"入力シート!B320&\"\"","v":"高松"},null,null,{"$f":"入力シート!C320&\"\"","v":""},null,null,{"$f":"入力シート!D320&\"\"","v":""},null,{"$f":"入力シート!E320&\"\"","v":""},{"$f":"IF(入力シート!F320=0,\"\",入力シート!F320)","v":""},{"$f":"入力シート!I320&\"\"","v":""},{"$f":"入力シート!J320&\"\"","v":""},{"$f":"入力シート!K320&\"\"","v":""},"・","現","帳"]
[{"$f":"入力シート!A321&\"\"","v":"301"},{"$f":"入力シート!B321&\"\"","v":"高松"},null,null,{"$f":"入力シート!C321&\"\"","v":""},null,null,{"$f":"入力シート!D321&\"\"","v":""},null,{"$f":"入力シート!E321&\"\"","v":""},{"$f":"IF(入力シート!F321=0,\"\",入力シート!F321)","v":""},{"$f":"入力シート!I321&\"\"","v":""},{"$f":"入力シート!J321&\"\"","v":""},{"$f":"入力シート!K321&\"\"","v":""},"・","現","帳"]
[{"$f":"入力シート!A322&\"\"","v":""},{"$f":"入力シート!B322&\"\"","v":""},null,null,{"$f":"入力シート!C322&\"\"","v":""},null,null,{"$f":"入力シート!D322&\"\"","v":""},null,{"$f":"入力シート!E322&\"\"","v":""},{"$f":"IF(入力シート!F322=0,\"\",入力シート!F322)","v":""},{"$f":"入力シート!I322&\"\"","v":""},{"$f":"入力シート!J322&\"\"","v":""},{"$f":"入力シート!K322&\"\"","v":""},"・","現","帳"]
[{"$f":"入力シート!A323&\"\"","v":""},{"$f":"入力シート!B323&\"\"","v":""},null,null,{"$f":"入力シート!C323&\"\"","v":""},null,null,{"$f":"入力シート!D323&\"\"","v":""},null,{"$f":"入力シート!E323&\"\"","v":""},{"$f":"IF(入力シート!F323=0,\"\",入力シート!F323)","v":""},{"$f":"入力シート!I323&\"\"","v":""},{"$f":"入力シート!J323&\"\"","v":""},{"$f":"入力シート!K323&\"\"","v":""},"・","現","帳"]
[{"$f":"入力シート!A324&\"\"","v":""},{"$f":"入力シート!B324&\"\"","v":""},null,null,{"$f":"入力シート!C324&\"\"","v":""},null,null,{"$f":"入力シート!D324&\"\"","v":""},null,{"$f":"入力シート!E324&\"\"","v":""},{"$f":"IF(入力シート!F324=0,\"\",入力シート!F324)","v":""},{"$f":"入力シート!I324&\"\"","v":""},{"$f":"入力シート!J324&\"\"","v":""},{"$f":"入力シート!K324&\"\"","v":""},"・","現","帳"]
[{"$f":"入力シート!A325&\"\"","v":""},{"$f":"入力シート!B325&\"\"","v":""},null,null,{"$f":"入力シート!C325&\"\"","v":""},null,null,{"$f":"入力シート!D325&\"\"","v":""},null,{"$f":"入力シート!E325&\"\"","v":""},{"$f":"IF(入力シート!F325=0,\"\",入力シート!F325)","v":""},{"$f":"入力シート!I325&\"\"","v":""},{"$f":"入力シート!J325&\"\"","v":""},{"$f":"入力シート!K325&\"\"","v":""},"・","現","帳"]
[{"$f":"入力シート!A326&\"\"","v":""},{"$f":"入力シート!B326&\"\"","v":""},null,null,{"$f":"入力シート!C326&\"\"","v":""},null,null,{"$f":"入力シート!D326&\"\"","v":""},null,{"$f":"入力シート!E326&\"\"","v":""},{"$f":"IF(入力シート!F326=0,\"\",入力シート!F326)","v":""},{"$f":"入力シート!I326&\"\"","v":""},{"$f":"入力シート!J326&\"\"","v":""},{"$f":"入力シート!K326&\"\"","v":""},"・","現","帳"]
[{"$f":"入力シート!A327&\"\"","v":""},{"$f":"入力シート!B327&\"\"","v":""},null,null,{"$f":"入力シート!C327&\"\"","v":""},null,null,{"$f":"入力シート!D327&\"\"","v":""},null,{"$f":"入力シート!E327&\"\"","v":""},{"$f":"IF(入力シート!F327=0,\"\",入力シート!F327)","v":""},{"$f":"入力シート!I327&\"\"","v":""},{"$f":"入力シート!J327&\"\"","v":""},{"$f":"入力シート!K327&\"\"","v":""},"・","現","帳"]
[{"$f":"入力シート!A328&\"\"","v":""},{"$f":"入力シート!B328&\"\"","v":""},null,null,{"$f":"入力シート!C328&\"\"","v":""},null,null,{"$f":"入力シート!D328&\"\"","v":""},null,{"$f":"入力シート!E328&\"\"","v":""},{"$f":"IF(入力シート!F328=0,\"\",入力シート!F328)","v":""},{"$f":"入力シート!I328&\"\"","v":""},{"$f":"入力シート!J328&\"\"","v":""},{"$f":"入力シート!K328&\"\"","v":""},"・","現","帳"]
[{"$f":"入力シート!A329&\"\"","v":""},{"$f":"入力シート!B329&\"\"","v":""},null,null,{"$f":"入力シート!C329&\"\"","v":""},null,null,{"$f":"入力シート!D329&\"\"","v":""},null,{"$f":"入力シート!E329&\"\"","v":""},{"$f":"IF(入力シート!F329=0,\"\",入力シート!F329)","v":""},{"$f":"入力シート!I329&\"\"","v":""},{"$f":"入力シート!J329&\"\"","v":""},{"$f":"入力シート!K329&\"\"","v":""},"・","現","帳"]
[{"$f":"入力シート!A330&\"\"","v":""},{"$f":"入力シート!B330&\"\"","v":""},null,null,{"$f":"入力シート!C330&\"\"","v":""},null,null,{"$f":"入力シート!D330&\"\"","v":""},null,{"$f":"入力シート!E330&\"\"","v":""},{"$f":"IF(入力シート!F330=0,\"\",入力シート!F330)","v":""},{"$f":"入力シート!I330&\"\"","v":""},{"$f":"入力シート!J330&\"\"","v":""},{"$f":"入力シート!K330&\"\"","v":""},"・","現","帳"]
[{"$f":"入力シート!A331&\"\"","v":""},{"$f":"入力シート!B331&\"\"","v":""},null,null,{"$f":"入力シート!C331&\"\"","v":""},null,null,{"$f":"入力シート!D331&\"\"","v":""},null,{"$f":"入力シート!E331&\"\"","v":""},{"$f":"IF(入力シート!F331=0,\"\",入力シート!F331)","v":""},{"$f":"入力シート!I331&\"\"","v":""},{"$f":"入力シート!J331&\"\"","v":""},{"$f":"入力シート!K331&\"\"","v":""},"・","現","帳"]
[{"$f":"入力シート!A332&\"\"","v":""},{"$f":"入力シート!B332&\"\"","v":""},null,null,{"$f":"入力シート!C332&\"\"","v":""},null,null,{"$f":"入力シート!D332&\"\"","v":""},null,{"$f":"入力シート!E332&\"\"","v":""},{"$f":"IF(入力シート!F332=0,\"\",入力シート!F332)","v":""},{"$f":"入力シート!I332&\"\"","v":""},{"$f":"入力シート!J332&\"\"","v":""},{"$f":"入力シート!K332&\"\"","v":""},"・","現","帳"]
[{"$f":"入力シート!A333&\"\"","v":""},{"$f":"入力シート!B333&\"\"","v":""},null,null,{"$f":"入力シート!C333&\"\"","v":""},null,null,{"$f":"入力シート!D333&\"\"","v":""},null,{"$f":"入力シート!E333&\"\"","v":""},{"$f":"IF(入力シート!F333=0,\"\",入力シート!F333)","v":""},{"$f":"入力シート!I333&\"\"","v":""},{"$f":"入力シート!J333&\"\"","v":""},{"$f":"入力シート!K333&\"\"","v":""},"・","現","帳"]
[{"$f":"入力シート!A334&\"\"","v":""},{"$f":"入力シート!B334&\"\"","v":""},null,null,{"$f":"入力シート!C334&\"\"","v":""},null,null,{"$f":"入力シート!D334&\"\"","v":""},null,{"$f":"入力シート!E334&\"\"","v":""},{"$f":"IF(入力シート!F334=0,\"\",入力シート!F334)","v":""},{"$f":"入力シート!I334&\"\"","v":""},{"$f":"入力シート!J334&\"\"","v":""},{"$f":"入力シート!K334&\"\"","v":""},"・","現","帳"]
[{"$f":"入力シート!A335&\"\"","v":""},{"$f":"入力シート!B335&\"\"","v":""},null,null,{"$f":"入力シート!C335&\"\"","v":""},null,null,{"$f":"入力シート!D335&\"\"","v":""},null,{"$f":"入力シート!E335&\"\"","v":""},{"$f":"IF(入力シート!F335=0,\"\",入力シート!F335)","v":""},{"$f":"入力シート!I335&\"\"","v":""},{"$f":"入力シート!J335&\"\"","v":""},{"$f":"入力シート!K335&\"\"","v":""},"・","現","帳"]
[{"$f":"入力シート!A336&\"\"","v":""},{"$f":"入力シート!B336&\"\"","v":""},null,null,{"$f":"入力シート!C336&\"\"","v":""},null,null,{"$f":"入力シート!D336&\"\"","v":""},null,{"$f":"入力シート!E336&\"\"","v":""},{"$f":"IF(入力シート!F336=0,\"\",入力シート!F336)","v":""},{"$f":"入力シート!I336&\"\"","v":""},{"$f":"入力シート!J336&\"\"","v":""},{"$f":"入力シート!K336&\"\"","v":""},"・","現","帳"]
[{"$f":"入力シート!A337&\"\"","v":""},{"$f":"入力シート!B337&\"\"","v":""},null,null,{"$f":"入力シート!C337&\"\"","v":""},null,null,{"$f":"入力シート!D337&\"\"","v":""},null,{"$f":"入力シート!E337&\"\"","v":""},{"$f":"IF(入力シート!F337=0,\"\",入力シート!F337)","v":""},{"$f":"入力シート!I337&\"\"","v":""},{"$f":"入力シート!J337&\"\"","v":""},{"$f":"入力シート!K337&\"\"","v":""},"・","現","帳"]
[{"$f":"入力シート!A338&\"\"","v":""},{"$f":"入力シート!B338&\"\"","v":""},null,null,{"$f":"入力シート!C338&\"\"","v":""},null,null,{"$f":"入力シート!D338&\"\"","v":""},null,{"$f":"入力シート!E338&\"\"","v":""},{"$f":"IF(入力シート!F338=0,\"\",入力シート!F338)","v":""},{"$f":"入力シート!I338&\"\"","v":""},{"$f":"入力シート!J338&\"\"","v":""},{"$f":"入力シート!K338&\"\"","v":""},"・","現","帳"]
[{"$f":"入力シート!A339&\"\"","v":""},{"$f":"入力シート!B339&\"\"","v":""},null,null,{"$f":"入力シート!C339&\"\"","v":""},null,null,{"$f":"入力シート!D339&\"\"","v":""},null,{"$f":"入力シート!E339&\"\"","v":""},{"$f":"IF(入力シート!F339=0,\"\",入力シート!F339)","v":""},{"$f":"入力シート!I339&\"\"","v":""},{"$f":"入力シート!J339&\"\"","v":""},{"$f":"入力シート!K339&\"\"","v":""},"・","現","帳"]
[{"$f":"入力シート!A340&\"\"","v":""},{"$f":"入力シート!B340&\"\"","v":""},null,null,{"$f":"入力シート!C340&\"\"","v":""},null,null,{"$f":"入力シート!D340&\"\"","v":""},null,{"$f":"入力シート!E340&\"\"","v":""},{"$f":"IF(入力シート!F340=0,\"\",入力シート!F340)","v":""},{"$f":"入力シート!I340&\"\"","v":""},{"$f":"入力シート!J340&\"\"","v":""},{"$f":"入力シート!K340&\"\"","v":""},"・","現","帳"]
[{"$f":"入力シート!A341&\"\"","v":""},{"$f":"入力シート!B341&\"\"","v":""},null,null,{"$f":"入力シート!C341&\"\"","v":""},null,null,{"$f":"入力シート!D341&\"\"","v":""},null,{"$f":"入力シート!E341&\"\"","v":""},{"$f":"IF(入力シート!F341=0,\"\",入力シート!F341)","v":""},{"$f":"入力シート!I341&\"\"","v":""},{"$f":"入力シート!J341&\"\"","v":""},{"$f":"入力シート!K341&\"\"","v":""},"・","現","帳"]
[{"$f":"入力シート!A342&\"\"","v":""},{"$f":"入力シート!B342&\"\"","v":""},null,null,{"$f":"入力シート!C342&\"\"","v":""},null,null,{"$f":"入力シート!D342&\"\"","v":""},null,{"$f":"入力シート!E342&\"\"","v":""},{"$f":"IF(入力シート!F342=0,\"\",入力シート!F342)","v":""},{"$f":"入力シート!I342&\"\"","v":""},{"$f":"入力シート!J342&\"\"","v":""},{"$f":"入力シート!K342&\"\"","v":""},"・","現","帳"]
[{"$f":"入力シート!A343&\"\"","v":""},{"$f":"入力シート!B343&\"\"","v":""},null,null,{"$f":"入力シート!C343&\"\"","v":""},null,null,{"$f":"入力シート!D343&\"\"","v":""},null,{"$f":"入力シート!E343&\"\"","v":""},{"$f":"IF(入力シート!F343=0,\"\",入力シート!F343)","v":""},{"$f":"入力シート!I343&\"\"","v":""},{"$f":"入力シート!J343&\"\"","v":""},{"$f":"入力シート!K343&\"\"","v":""},"・","現","帳"]
[{"$f":"入力シート!A344&\"\"","v":""},{"$f":"入力シート!B344&\"\"","v":""},null,null,{"$f":"入力シート!C344&\"\"","v":""},null,null,{"$f":"入力シート!D344&\"\"","v":""},null,{"$f":"入力シート!E344&\"\"","v":""},{"$f":"IF(入力シート!F344=0,\"\",入力シート!F344)","v":""},{"$f":"入力シート!I344&\"\"","v":""},{"$f":"入力シート!J344&\"\"","v":""},{"$f":"入力シート!K344&\"\"","v":""},"・","現","帳"]
[{"$f":"入力シート!A345&\"\"","v":""},{"$f":"入力シート!B345&\"\"","v":""},null,null,{"$f":"入力シート!C345&\"\"","v":""},null,null,{"$f":"入力シート!D345&\"\"","v":""},null,{"$f":"入力シート!E345&\"\"","v":""},{"$f":"IF(入力シート!F345=0,\"\",入力シート!F345)","v":""},{"$f":"入力シート!I345&\"\"","v":""},{"$f":"入力シート!J345&\"\"","v":""},{"$f":"入力シート!K345&\"\"","v":""},"・","現","帳"]
[{"$f":"入力シート!A346&\"\"","v":""},{"$f":"入力シート!B346&\"\"","v":""},null,null,{"$f":"入力シート!C346&\"\"","v":""},null,null,{"$f":"入力シート!D346&\"\"","v":""},null,{"$f":"入力シート!E346&\"\"","v":""},{"$f":"IF(入力シート!F346=0,\"\",入力シート!F346)","v":""},{"$f":"入力シート!I346&\"\"","v":""},{"$f":"入力シート!J346&\"\"","v":""},{"$f":"入力シート!K346&\"\"","v":""},"・","現","帳"]
[{"$f":"入力シート!A347&\"\"","v":""},{"$f":"入力シート!B347&\"\"","v":""},null,null,{"$f":"入力シート!C347&\"\"","v":""},null,null,{"$f":"入力シート!D347&\"\"","v":""},null,{"$f":"入力シート!E347&\"\"","v":""},{"$f":"IF(入力シート!F347=0,\"\",入力シート!F347)","v":""},{"$f":"入力シート!I347&\"\"","v":""},{"$f":"入力シート!J347&\"\"","v":""},{"$f":"入力シート!K347&\"\"","v":""},"・","現","帳"]
[{"$f":"入力シート!A348&\"\"","v":""},{"$f":"入力シート!B348&\"\"","v":""},null,null,{"$f":"入力シート!C348&\"\"","v":""},null,null,{"$f":"入力シート!D348&\"\"","v":""},null,{"$f":"入力シート!E348&\"\"","v":""},{"$f":"IF(入力シート!F348=0,\"\",入力シート!F348)","v":""},{"$f":"入力シート!I348&\"\"","v":""},{"$f":"入力シート!J348&\"\"","v":""},{"$f":"入力シート!K348&\"\"","v":""},"・","現","帳"]

{"sheet":"③中古自動車販売店の控","index":4,"n_rows":344,"n_cols":17,"rows_kept":344,"cut":false,"hidden":false,"merged":[[342,1,342,3],[342,4,342,6],[342,7,342,8],[343,1,343,3],[343,4,343,6],[343,7,343,8],[340,1,340,3],[340,4,340,6],[340,7,340,8],[341,1,341,3],[341,4,341,6],[341,7,341,8],[338,1,338,3],[338,4,338,6],[338,7,338,8],[339,1,339,3],[339,4,339,6],[339,7,339,8],[336,1,336,3],[336,4,336,6],[336,7,336,8],[337,1,337,3],[337,4,337,6],[337,7,337,8],[334,1,334,3],[334,4,334,6],[334,7,334,8],[335,1,335,3],[335,4,335,6],[335,7,335,8],[332,1,332,3],[332,4,332,6],[332,7,332,8],[333,1,333,3],[333,4,333,6],[333,7,333,8],[330,1,330,3],[330,4,330,6],[330,7,330,8],[331,1,331,3],[331,4,331,6],[331,7,331,8],[328,1,328,3],[328,4,328,6],[328,7,328,8],[329,1,329,3],[329,4,329,6],[329,7,329,8],[326,1,326,3],[326,4,326,6],[326,7,326,8],[327,1,327,3],[327,4,327,6],[327,7,327,8],[324,1,324,3],[324,4,324,6],[324,7,324,8],[325,1,325,3],[325,4,325,6],[325,7,325,8],[322,1,322,3],[322,4,322,6],[322,7,322,8],[323,1,323,3],[323,4,323,6],[323,7,323,8],[320,1,320,3],[320,4,320,6],[320,7,320,8],[321,1,321,3],[321,4,321,6],[321,7,321,8],[318,1,318,3],[318,4,318,6],[318,7,318,8],[319,1,319,3],[319,4,319,6],[319,7,319,8],[316,1,316,3],[316,4,316,6],[316,7,316,8],[317,1,317,3],[317,4,317,6],[317,7,317,8],[314,1,314,3],[314,4,314,6],[314,7,314,8],[315,1,315,3],[315,4,315,6],[315,7,315,8],[312,1,312,3],[312,4,312,6],[312,7,312,8],[313,1,313,3],[313,4,313,6],[313,7,313,8],[310,1,310,3],[310,4,310,6],[310,7,310,8],[311,1,311,3],[311,4,311,6],[311,7,311,8],[308,1,308,3],[308,4,308,6],[308,7,308,8],[309,1,309,3],[309,4,309,6],[309,7,309,8],[306,1,306,3],[306,4,306,6],[306,7,306,8],[307,1,307,3],[307,4,307,6],[307,7,307,8],[304,1,304,3],[304,4,304,6],[304,7,304,8],[305,1,305,3],[305,4,305,6],[305,7,305,8],[302,1,302,3],[302,4,302,6],[302,7,302,8],[303,1,303,3],[303,4,303,6],[303,7,303,8],[300,1,300,3],[300,4,300,6],[300,7,300,8],[301,1,301,3],[301,4,301,6],[301,7,301,8],[298,1,298,3],[298,4,298,6],[298,7,298,8],[299,1,299,3],[299,4,299,6],[299,7,299,8],[296,1,296,3],[296,4,296,6],[296,7,296,8],[297,1,297,3],[297,4,297,6],[297,7,297,8],[294,1,294,3],[294,4,294,6],[294,7,294,8],[295,1,295,3],[295,4,295,6],[295,7,295,8],[292,1,292,3],[292,4,292,6],[292,7,292,8],[293,1,293,3],[293,4,293,6],[293,7,293,8],[290,1,290,3],[290,4,290,6],[290,7,290,8],[291,1,291,3],[291,4,291,6],[291,7,291,8],[288,1,288,3],[288,4,288,6],[288,7,288,8],[289,1,289,3],[289,4,289,6],[289,7,289,8],[286,1,286,3],[286,4,286,6],[286,7,286,8],[287,1,287,3],[287,4,287,6],[287,7,287,8],[284,1,284,3],[284,4,284,6],[284,7,284,8],[285,1,285,3],[285,4,285,6],[285,7,285,8],[282,1,282,3],[282,4,282,6],[282,7,282,8],[283,1,283,3],[283,4,283,6],[283,7,283,8],[280,1,280,3],[280,4,280,6],[280,7,280,8],[281,1,281,3],[281,4,281,6],[281,7,281,8],[278,1,278,3],[278,4,278,6],[278,7,278,8],[279,1,279,3],[279,4,279,6],[279,7,279,8],[276,1,276,3],[276,4,276,6],[276,7,276,8],[277,1,277,3],[277,4,277,6],[277,7,277,8],[274,1,274,3],[274,4,274,6],[274,7,274,8],[275,1,275,3],[275,4,275,6],[275,7,275,8],[272,1,272,3],[272,4,272,6],[272,7,272,8],[273,1,273,3],[273,4,273,6],[273,7,273,8],[270,1,270,3],[270,4,270,6],[270,7,270,8],[271,1,271,3],[271,4,271,6],[271,7,271,8],[268,1,268,3],[268,4,268,6],[268,7,268,8],[269,1,269,3],[269,4,269,6],[269,7,269,8],[266,1,266,3],[266,4,266,6],[266,7,266,8],[267,1,267,3],[267,4,267,6],[267,7,267,8],[264,1,264,3],[264,4,264,6],[264,7,264,8],[265,1,265,3],[265,4,265,6],[265,7,265,8],[262,1,262,3],[262,4,262,6],[262,7,262,8],[263,1,263,3],[263,4,263,6],[263,7,263,8],[260,1,260,3],[260,4,260,6],[260,7,260,8],[261,1,261,3],[261,4,261,6],[261,7,261,8],[258,1,258,3],[258,4,258,6],[258,7,258,8],[259,1,259,3],[259,4,259,6],[259,7,259,8],[256,1,256,3],[256,4,256,6],[256,7,256,8],[257,1,257,3],[257,4,257,6],[257,7,257,8],[254,1,254,3],[254,4,254,6],[254,7,254,8],[255,1,255,3],[255,4,255,6],[255,7,255,8],[252,1,252,3],[252,4,252,6],[252,7,252,8],[253,1,253,3],[253,4,253,6],[253,7,253,8],[250,1,250,3],[250,4,250,6],[250,7,250,8],[251,1,251,3],[251,4,251,6],[251,7,251,8],[248,1,248,3],[248,4,248,6],[248,7,248,8],[249,1,249,3],[249,4,249,6],[249,7,249,8],[246,1,246,3],[246,4,246,6],[246,7,246,8],[247,1,247,3],[247,4,247,6],[247,7,247,8],[244,1,244,3],[244,4,244,6],[244,7,244,8],[245,1,245,3],[245,4,245,6],[245,7,245,8],[242,1,242,3],[242,4,242,6],[242,7,242,8],[243,1,243,3],[243,4,243,6],[243,7,243,8],[240,1,240,3],[240,4,240,6],[240,7,240,8],[241,1,241,3],[241,4,241,6],[241,7,241,8],[238,1,238,3],[238,4,238,6],[238,7,238,8],[239,1,239,3],[239,4,239,6],[239,7,239,8],[236,1,236,3],[236,4,236,6],[236,7,236,8],[237,1,237,3],[237,4,237,6],[237,7,237,8],[234,1,234,3],[234,4,234,6],[234,7,234,8],[235,1,235,3],[235,4,235,6],[235,7,235,8],[232,1,232,3],[232,4,232,6],[232,7,232,8],[233,1,233,3],[233,4,233,6],[233,7,233,8],[230,1,230,3],[230,4,230,6],[230,7,230,8],[231,1,231,3],[231,4,231,6],[231,7,231,8],[228,1,228,3],[228,4,228,6],[228,7,228,8],[229,1,229,3],[229,4,229,6],[229,7,229,8],[226,1,226,3],[226,4,226,6],[226,7,226,8],[227,1,227,3],[227,4,227,6],[227,7,227,8],[224,1,224,3],[224,4,224,6],[224,7,224,8],[225,1,225,3],[225,4,225,6],[225,7,225,8],[222,1,222,3],[222,4,222,6],[222,7,222,8],[223,1,223,3],[223,4,223,6],[223,7,223,8],[220,1,220,3],[220,4,220,6],[220,7,220,8],[221,1,221,3],[221,4,221,6],[221,7,221,8],[218,1,218,3],[218,4,218,6],[218,7,218,8],[219,1,219,3],[219,4,219,6],[219,7,219,8],[216,1,216,3],[216,4,216,6],[216,7,216,8],[217,1,217,3],[217,4,217,6],[217,7,217,8],[214,1,214,3],[214,4,214,6],[214,7,214,8],[215,1,215,3],[215,4,215,6],[215,7,215,8],[212,1,212,3],[212,4,212,6],[212,7,212,8],[213,1,213,3],[213,4,213,6],[213,7,213,8],[210,1,210,3],[210,4,210,6],[210,7,210,8],[211,1,211,3],[211,4,211,6],[211,7,211,8],[208,1,208,3],[208,4,208,6],[208,7,208,8],[209,1,209,3],[209,4,209,6],[209,7,209,8],[206,1,206,3],[206,4,206,6],[206,7,206,8],[207,1,207,3],[207,4,207,6],[207,7,207,8],[204,1,204,3],[204,4,204,6],[204,7,204,8],[205,1,205,3],[205,4,205,6],[205,7,205,8],[202,1,202,3],[202,4,202,6],[202,7,202,8],[203,1,203,3],[203,4,203,6],[203,7,203,8],[200,1,200,3],[200,4,200,6],[200,7,200,8],[201,1,201,3],[201,4,201,6],[201,7,201,8],[198,1,198,3],[198,4,198,6],[198,7,198,8],[199,1,199,3],[199,4,199,6],[199,7,199,8],[196,1,196,3],[196,4,196,6],[196,7,196,8],[197,1,197,3],[197,4,197,6],[197,7,197,8],[194,1,194,3],[194,4,194,6],[194,7,194,8],[195,1,195,3],[195,4,195,6],[195,7,195,8],[192,1,192,3],[192,4,192,6],[192,7,192,8],[193,1,193,3],[193,4,193,6],[193,7,193,8],[190,1,190,3],[190,4,190,6],[190,7,190,8],[191,1,191,3],[191,4,191,6],[191,7,191,8],[188,1,188,3],[188,4,188,6],[188,7,188,8],[189,1,189,3],[189,4,189,6],[189,7,189,8],[186,1,186,3],[186,4,186,6],[186,7,186,8],[187,1,187,3],[187,4,187,6],[187,7,187,8],[184,1,184,3],[184,4,184,6],[184,7,184,8],[185,1,185,3],[185,4,185,6],[185,7,185,8],[182,1,182,3],[182,4,182,6],[182,7,182,8],[183,1,183,3],[183,4,183,6],[183,7,183,8],[180,1,180,3],[180,4,180,6],[180,7,180,8],[181,1,181,3],[181,4,181,6],[181,7,181,8],[178,1,178,3],[178,4,178,6],[178,7,178,8],[179,1,179,3],[179,4,179,6],[179,7,179,8],[176,1,176,3],[176,4,176,6],[176,7,176,8],[177,1,177,3],[177,4,177,6],[177,7,177,8],[174,1,174,3],[174,4,174,6],[174,7,174,8],[175,1,175,3],[175,4,175,6],[175,7,175,8],[172,1,172,3],[172,4,172,6],[172,7,172,8],[173,1,173,3],[173,4,173,6],[173,7,173,8],[170,1,170,3],[170,4,170,6],[170,7,170,8],[171,1,171,3],[171,4,171,6],[171,7,171,8],[168,1,168,3],[168,4,168,6],[168,7,168,8],[169,1,169,3],[169,4,169,6],[169,7,169,8],[166,1,166,3],[166,4,166,6],[166,7,166,8],[167,1,167,3],[167,4,167,6],[167,7,167,8],[164,1,164,3],[164,4,164,6],[164,7,164,8],[165,1,165,3],[165,4,165,6],[165,7,165,8],[162,1,162,3],[162,4,162,6],[162,7,162,8],[163,1,163,3],[163,4,163,6],[163,7,163,8],[160,1,160,3],[160,4,160,6],[160,7,160,8],[161,1,161,3],[161,4,161,6],[161,7,161,8],[158,1,158,3],[158,4,158,6],[158,7,158,8],[159,1,159,3],[159,4,159,6],[159,7,159,8],[156,1,156,3],[156,4,156,6],[156,7,156,8],[157,1,157,3],[157,4,157,6],[157,7,157,8],[154,1,154,3],[154,4,154,6],[154,7,154,8],[155,1,155,3],[155,4,155,6],[155,7,155,8],[152,1,152,3],[152,4,152,6],[152,7,152,8],[153,1,153,3],[153,4,153,6],[153,7,153,8],[150,1,150,3],[150,4,150,6],[150,7,150,8],[151,1,151,3],[151,4,151,6],[151,7,151,8],[148,1,148,3],[148,4,148,6],[148,7,148,8],[149,1,149,3],[149,4,149,6],[149,7,149,8],[146,1,146,3],[146,4,146,6],[146,7,146,8],[147,1,147,3],[147,4,147,6],[147,7,147,8],[144,1,144,3],[144,4,144,6],[144,7,144,8],[145,1,145,3],[145,4,145,6],[145,7,145,8],[142,1,142,3],[142,4,142,6],[142,7,142,8],[143,1,143,3],[143,4,143,6],[143,7,143,8],[140,1,140,3],[140,4,140,6],[140,7,140,8],[141,1,141,3],[141,4,141,6],[141,7,141,8],[138,1,138,3],[138,4,138,6],[138,7,138,8],[139,1,139,3],[139,4,139,6],[139,7,139,8],[136,1,136,3],[136,4,136,6],[136,7,136,8],[137,1,137,3],[137,4,137,6],[137,7,137,8],[134,1,134,3],[134,4,134,6],[134,7,134,8],[135,1,135,3],[135,4,135,6],[135,7,135,8],[132,1,132,3],[132,4,132,6],[132,7,132,8],[133,1,133,3],[133,4,133,6],[133,7,133,8],[130,1,130,3],[130,4,130,6],[130,7,130,8],[131,1,131,3],[131,4,131,6],[131,7,131,8],[128,1,128,3],[128,4,128,6],[128,7,128,8],[129,1,129,3],[129,4,129,6],[129,7,129,8],[126,1,126,3],[126,4,126,6],[126,7,126,8],[127,1,127,3],[127,4,127,6],[127,7,127,8],[124,1,124,3],[124,4,124,6],[124,7,124,8],[125,1,125,3],[125,4,125,6],[125,7,125,8],[122,1,122,3],[122,4,122,6],[122,7,122,8],[123,1,123,3],[123,4,123,6],[123,7,123,8],[120,1,120,3],[120,4,120,6],[120,7,120,8],[121,1,121,3],[121,4,121,6],[121,7,121,8],[118,1,118,3],[118,4,118,6],[118,7,118,8],[119,1,119,3],[119,4,119,6],[119,7,119,8],[116,1,116,3],[116,4,116,6],[116,7,116,8],[117,1,117,3],[117,4,117,6],[117,7,117,8],[114,1,114,3],[114,4,114,6],[114,7,114,8],[115,1,115,3],[115,4,115,6],[115,7,115,8],[112,1,112,3],[112,4,112,6],[112,7,112,8],[113,1,113,3],[113,4,113,6],[113,7,113,8],[110,1,110,3],[110,4,110,6],[110,7,110,8],[111,1,111,3],[111,4,111,6],[111,7,111,8],[108,1,108,3],[108,4,108,6],[108,7,108,8],[109,1,109,3],[109,4,109,6],[109,7,109,8],[106,1,106,3],[106,4,106,6],[106,7,106,8],[107,1,107,3],[107,4,107,6],[107,7,107,8],[104,1,104,3],[104,4,104,6],[104,7,104,8],[105,1,105,3],[105,4,105,6],[105,7,105,8],[102,1,102,3],[102,4,102,6],[102,7,102,8],[103,1,103,3],[103,4,103,6],[103,7,103,8],[100,1,100,3],[100,4,100,6],[100,7,100,8],[101,1,101,3],[101,4,101,6],[101,7,101,8],[98,1,98,3],[98,4,98,6],[98,7,98,8],[99,1,99,3],[99,4,99,6],[99,7,99,8],[96,1,96,3],[96,4,96,6],[96,7,96,8],[97,1,97,3],[97,4,97,6],[97,7,97,8],[94,1,94,3],[94,4,94,6],[94,7,94,8],[95,1,95,3],[95,4,95,6],[95,7,95,8],[92,1,92,3],[92,4,92,6],[92,7,92,8],[93,1,93,3],[93,4,93,6],[93,7,93,8],[90,1,90,3],[90,4,90,6],[90,7,90,8],[91,1,91,3],[91,4,91,6],[91,7,91,8],[88,1,88,3],[88,4,88,6],[88,7,88,8],[89,1,89,3],[89,4,89,6],[89,7,89,8],[86,1,86,3],[86,4,86,6],[86,7,86,8],[87,1,87,3],[87,4,87,6],[87,7,87,8],[84,1,84,3],[84,4,84,6],[84,7,84,8],[85,1,85,3],[85,4,85,6],[85,7,85,8],[82,1,82,3],[82,4,82,6],[82,7,82,8],[83,1,83,3],[83,4,83,6],[83,7,83,8],[80,1,80,3],[80,4,80,6],[80,7,80,8],[81,1,81,3],[81,4,81,6],[81,7,81,8],[78,1,78,3],[78,4,78,6],[78,7,78,8],[79,1,79,3],[79,4,79,6],[79,7,79,8],[76,1,76,3],[76,4,76,6],[76,7,76,8],[77,1,77,3],[77,4,77,6],[77,7,77,8],[74,1,74,3],[74,4,74,6],[74,7,74,8],[75,1,75,3],[75,4,75,6],[75,7,75,8],[72,1,72,3],[72,4,72,6],[72,7,72,8],[73,1,73,3],[73,4,73,6],[73,7,73,8],[70,1,70,3],[70,4,70,6],[70,7,70,8],[71,1,71,3],[71,4,71,6],[71,7,71,8],[68,1,68,3],[68,4,68,6],[68,7,68,8],[69,1,69,3],[69,4,69,6],[69,7,69,8],[66,1,66,3],[66,4,66,6],[66,7,66,8],[67,1,67,3],[67,4,67,6],[67,7,67,8],[64,1,64,3],[64,4,64,6],[64,7,64,8],[65,1,65,3],[65,4,65,6],[65,7,65,8],[62,1,62,3],[62,4,62,6],[62,7,62,8],[63,1,63,3],[63,4,63,6],[63,7,63,8],[60,1,60,3],[60,4,60,6],[60,7,60,8],[61,1,61,3],[61,4,61,6],[61,7,61,8],[58,1,58,3],[58,4,58,6],[58,7,58,8],[59,1,59,3],[59,4,59,6],[59,7,59,8],[56,1,56,3],[56,4,56,6],[56,7,56,8],[57,1,57,3],[57,4,57,6],[57,7,57,8],[54,1,54,3],[54,4,54,6],[54,7,54,8],[55,1,55,3],[55,4,55,6],[55,7,55,8],[52,1,52,3],[52,4,52,6],[52,7,52,8],[53,1,53,3],[53,4,53,6],[53,7,53,8],[50,1,50,3],[50,4,50,6],[50,7,50,8],[51,1,51,3],[51,4,51,6],[51,7,51,8],[48,1,48,3],[48,4,48,6],[48,7,48,8],[49,1,49,3],[49,4,49,6],[49,7,49,8],[46,1,46,3],[46,4,46,6],[46,7,46,8],[47,1,47,3],[47,4,47,6],[47,7,47,8],[44,1,44,3],[44,4,44,6],[44,7,44,8],[45,1,45,3],[45,4,45,6],[45,7,45,8],[42,1,42,3],[42,4,42,6],[42,7,42,8],[43,1,43,3],[43,4,43,6],[43,7,43,8],[40,1,40,3],[40,4,40,6],[40,7,40,8],[41,1,41,3],[41,4,41,6],[41,7,41,8],[38,1,38,3],[38,4,38,6],[38,7,38,8],[39,1,39,3],[39,4,39,6],[39,7,39,8],[36,1,36,3],[36,4,36,6],[36,7,36,8],[37,1,37,3],[37,4,37,6],[37,7,37,8],[34,1,34,3],[34,4,34,6],[34,7,34,8],[35,1,35,3],[35,4,35,6],[35,7,35,8],[32,1,32,3],[32,4,32,6],[32,7,32,8],[33,1,33,3],[33,4,33,6],[33,7,33,8],[30,1,30,3],[30,4,30,6],[30,7,30,8],[31,1,31,3],[31,4,31,6],[31,7,31,8],[28,1,28,3],[28,4,28,6],[28,7,28,8],[29,1,29,3],[29,4,29,6],[29,7,29,8],[26,1,26,3],[26,4,26,6],[26,7,26,8],[27,1,27,3],[27,4,27,6],[27,7,27,8],[24,1,24,3],[24,4,24,6],[24,7,24,8],[25,1,25,3],[25,4,25,6],[25,7,25,8],[22,1,22,3],[22,4,22,6],[22,7,22,8],[23,1,23,3],[23,4,23,6],[23,7,23,8],[20,1,20,3],[20,4,20,6],[20,7,20,8],[21,1,21,3],[21,4,21,6],[21,7,21,8],[18,1,18,3],[18,4,18,6],[18,7,18,8],[19,1,19,3],[19,4,19,6],[19,7,19,8],[16,1,16,3],[16,4,16,6],[16,7,16,8],[17,1,17,3],[17,4,17,6],[17,7,17,8],[13,0,13,16],[14,0,15,0],[14,1,15,9],[14,10,15,10],[14,11,15,11],[14,14,14,16],[15,15,15,16],[1,0,1,16],[2,13,2,16],[3,0,3,10],[4,0,4,10],[4,13,5,16],[5,0,11,11],[6,13,7,16],[9,13,9,16],[11,13,11,15]]}
["様式-1-（3）",null,null,null,null,null,null,null,null,null,null,null,null,null,null,null,"（中古自動車販売店の控）"]
["商　品　中　古　自　動　車　証　明　申　請　書"]
[null,null,null,null,null,null,null,null,null,null,null,null,null,"（コード番号　　　　　　　　　　　　）"]
["一般財団法人日本自動車査定協会",null,null,null,null,null,null,null,null,null,null,null,"令和　　　年　　　　月　　　　日"]
["香川県支所長　殿",null,null,null,null,null,null,null,null,null,null,null,"申請者住所",{"$f":"入力シート!$C$6&\"\"","v":"高松市番町４－１－１０"}]
["商品中古自動車確認証明業務実施要領に基づき下記の自動車が\n商品中古自動車であることの証明を申請します。\nなお、下記の自動車が商品自動車であること及び記載事項に相違\nないこと並びに現地調査が行われる場合には協力することを確約\n致します。"]
[null,null,null,null,null,null,null,null,null,null,null,null,"申請者名",{"$f":"入力シート!$C$7&\"\"","v":"株式会社香川県庁自動車"}]
[]
[null,null,null,null,null,null,null,null,null,null,null,null,"代表者名",{"$f":"入力シート!$C$8&\"\"","v":"代表取締役　香川　けん"}]
[null,null,null,null,null,null,null,null,null,null,null,null,"（電話番号）",{"$f":"入力シート!$C$9&\"\"","v":"087-１１1-1111"}]
[]
[null,null,null,null,null,null,null,null,null,null,null,null,"古物商許可番号",{"$f":"入力シート!$C$10&\"\"","v":"12345678"}]
[]
["記"]
["№","登録番号",null,null,null,null,null,null,null,null,"登録年月日","車台番号","車名又は","展示場名","調査"]
[null,null,null,null,null,null,null,null,null,null,null,null,"ペットネーム","（４月１日現在）","月　 日","結　果"]
[{"$f":"入力シート!A21","v":1},{"$f":"入力シート!B21&\"\"","v":"香"},null,null,{"$f":"入力シート!C21&\"\"","v":"501"},null,null,{"$f":"入力シート!D21&\"\"","v":"あ"},null,{"$f":"入力シート!E21&\"\"","v":"2"},{"$f":"IF(入力シート!F21=0,\"\",入力シート!F21)","v":"2021-11-18"},{"$f":"入力シート!I21&\"\"","v":"ZZZ80-044592"},{"$f":"入力シート!J21&\"\"","v":"ホンタオブユーケー　シビック"},{"$f":"入力シート!K21&\"\"","v":"県税支店"},"・","現","帳"]
[{"$f":"入力シート!A22","v":2},{"$f":"入力シート!B22&\"\"","v":"香"},null,null,{"$f":"入力シート!C22&\"\"","v":"501"},null,null,{"$f":"入力シート!D22&\"\"","v":"く"},null,{"$f":"入力シート!E22&\"\"","v":"555"},{"$f":"IF(入力シート!F22=0,\"\",入力シート!F22)","v":"2021-11-30"},{"$f":"入力シート!I22&\"\"","v":"ZZZ80-044604"},{"$f":"入力シート!J22&\"\"","v":"ヴォルクスバーゲン"},{"$f":"入力シート!K22&\"\"","v":"西讃支店"},"・","現","帳"]
[{"$f":"入力シート!A23","v":3},{"$f":"入力シート!B23&\"\"","v":"香"},null,null,{"$f":"入力シート!C23&\"\"","v":"506"},null,null,{"$f":"入力シート!D23&\"\"","v":"く"},null,{"$f":"入力シート!E23&\"\"","v":"212"},{"$f":"IF(入力シート!F23=0,\"\",入力シート!F23)","v":"2021-11-23"},{"$f":"入力シート!I23&\"\"","v":"ZZZ80-044597"},{"$f":"入力シート!J23&\"\"","v":"ホンタ"},{"$f":"入力シート!K23&\"\"","v":"東讃支店"},"・","現","帳"]
[{"$f":"入力シート!A24","v":4},{"$f":"入力シート!B24&\"\"","v":"香"},null,null,{"$f":"入力シート!C24&\"\"","v":"522"},null,null,{"$f":"入力シート!D24&\"\"","v":"く"},null,{"$f":"入力シート!E24&\"\"","v":"41"},{"$f":"IF(入力シート!F24=0,\"\",入力シート!F24)","v":"2021-12-05"},{"$f":"入力シート!I24&\"\"","v":"ZZZ80-04460921583"},{"$f":"入力シート!J24&\"\"","v":"ホンタ"},{"$f":"入力シート!K24&\"\"","v":"県税支店"},"・","現","帳"]
[{"$f":"入力シート!A25","v":5},{"$f":"入力シート!B25&\"\"","v":"香"},null,null,{"$f":"入力シート!C25&\"\"","v":"555"},null,null,{"$f":"入力シート!D25&\"\"","v":"く"},null,{"$f":"入力シート!E25&\"\"","v":"7655"},{"$f":"IF(入力シート!F25=0,\"\",入力シート!F25)","v":"2021-11-25"},{"$f":"入力シート!I25&\"\"","v":"ZZZ80-044599"},{"$f":"入力シート!J25&\"\"","v":"マツタ"},{"$f":"入力シート!K25&\"\"","v":"小豆支店"},"・","現","帳"]
[{"$f":"入力シート!A26","v":6},{"$f":"入力シート!B26&\"\"","v":"香川"},null,null,{"$f":"入力シート!C26&\"\"","v":"111"},null,null,{"$f":"入力シート!D26&\"\"","v":"く"},null,{"$f":"入力シート!E26&\"\"","v":"3"},{"$f":"IF(入力シート!F26=0,\"\",入力シート!F26)","v":"2021-11-28"},{"$f":"入力シート!I26&\"\"","v":"ZZZ80-044602"},{"$f":"入力シート!J26&\"\"","v":"鈴本"},{"$f":"入力シート!K26&\"\"","v":"東讃支店"},"・","現","帳"]
[{"$f":"入力シート!A27","v":7},{"$f":"入力シート!B27&\"\"","v":"香川"},null,null,{"$f":"入力シート!C27&\"\"","v":"300"},null,null,{"$f":"入力シート!D27&\"\"","v":"き"},null,{"$f":"入力シート!E27&\"\"","v":"4562"},{"$f":"IF(入力シート!F27=0,\"\",入力シート!F27)","v":"2018-02-23"},{"$f":"入力シート!I27&\"\"","v":"ZZZ80-044587"},{"$f":"入力シート!J27&\"\"","v":"豊田"},{"$f":"入力シート!K27&\"\"","v":"県税支店"},"・","現","帳"]
[{"$f":"入力シート!A28","v":8},{"$f":"入力シート!B28&\"\"","v":"香川"},null,null,{"$f":"入力シート!C28&\"\"","v":"300"},null,null,{"$f":"入力シート!D28&\"\"","v":"く"},null,{"$f":"入力シート!E28&\"\"","v":"7525"},{"$f":"IF(入力シート!F28=0,\"\",入力シート!F28)","v":"2018-10-31"},{"$f":"入力シート!I28&\"\"","v":"ZZZ80-044588"},{"$f":"入力シート!J28&\"\"","v":"目産"},{"$f":"入力シート!K28&\"\"","v":"小豆支店"},"・","現","帳"]
[{"$f":"入力シート!A29","v":9},{"$f":"入力シート!B29&\"\"","v":"香川"},null,null,{"$f":"入力シート!C29&\"\"","v":"300"},null,null,{"$f":"入力シート!D29&\"\"","v":"こ"},null,{"$f":"入力シート!E29&\"\"","v":"1"},{"$f":"IF(入力シート!F29=0,\"\",入力シート!F29)","v":"2022-03-29"},{"$f":"入力シート!I29&\"\"","v":"ZZZ３０-1501219"},{"$f":"入力シート!J29&\"\"","v":"ホンタ"},{"$f":"入力シート!K29&\"\"","v":"本店"},"・","現","帳"]
[{"$f":"入力シート!A30","v":10},{"$f":"入力シート!B30&\"\"","v":"香川"},null,null,{"$f":"入力シート!C30&\"\"","v":"325"},null,null,{"$f":"入力シート!D30&\"\"","v":"く"},null,{"$f":"入力シート!E30&\"\"","v":"21"},{"$f":"IF(入力シート!F30=0,\"\",入力シート!F30)","v":"2021-11-27"},{"$f":"入力シート!I30&\"\"","v":"ZZZ80-044601"},{"$f":"入力シート!J30&\"\"","v":"ホンタ"},{"$f":"入力シート!K30&\"\"","v":"西讃支店"},"・","現","帳"]
[{"$f":"入力シート!A31","v":11},{"$f":"入力シート!B31&\"\"","v":"香川"},null,null,{"$f":"入力シート!C31&\"\"","v":"333"},null,null,{"$f":"入力シート!D31&\"\"","v":"く"},null,{"$f":"入力シート!E31&\"\"","v":"7569"},{"$f":"IF(入力シート!F31=0,\"\",入力シート!F31)","v":"2021-11-24"},{"$f":"入力シート!I31&\"\"","v":"ZZZ80-044598"},{"$f":"入力シート!J31&\"\"","v":"目産"},{"$f":"入力シート!K31&\"\"","v":"県税支店"},"・","現","帳"]
[{"$f":"入力シート!A32","v":12},{"$f":"入力シート!B32&\"\"","v":"香川"},null,null,{"$f":"入力シート!C32&\"\"","v":"500"},null,null,{"$f":"入力シート!D32&\"\"","v":"か"},null,{"$f":"入力シート!E32&\"\"","v":"4489"},{"$f":"IF(入力シート!F32=0,\"\",入力シート!F32)","v":"2021-12-15"},{"$f":"入力シート!I32&\"\"","v":"ZZZ80-044590"},{"$f":"入力シート!J32&\"\"","v":"鈴本"},{"$f":"入力シート!K32&\"\"","v":"西讃支店"},"・","現","帳"]
[{"$f":"入力シート!A33","v":13},{"$f":"入力シート!B33&\"\"","v":"香川"},null,null,{"$f":"入力シート!C33&\"\"","v":"500"},null,null,{"$f":"入力シート!D33&\"\"","v":"け"},null,{"$f":"入力シート!E33&\"\"","v":"7375"},{"$f":"IF(入力シート!F33=0,\"\",入力シート!F33)","v":"2021-08-04"},{"$f":"入力シート!I33&\"\"","v":"ZZZ80-044589"},{"$f":"入力シート!J33&\"\"","v":"マツタ"},{"$f":"入力シート!K33&\"\"","v":"中讃支店"},"・","現","帳"]
[{"$f":"入力シート!A34","v":14},{"$f":"入力シート!B34&\"\"","v":"香川"},null,null,{"$f":"入力シート!C34&\"\"","v":"500"},null,null,{"$f":"入力シート!D34&\"\"","v":"こ"},null,{"$f":"入力シート!E34&\"\"","v":"1569"},{"$f":"IF(入力シート!F34=0,\"\",入力シート!F34)","v":"2021-11-17"},{"$f":"入力シート!I34&\"\"","v":"ZZZ80-044591"},{"$f":"入力シート!J34&\"\"","v":"ホンタ"},{"$f":"入力シート!K34&\"\"","v":"東讃支店"},"・","現","帳"]
[{"$f":"入力シート!A35","v":15},{"$f":"入力シート!B35&\"\"","v":"香川"},null,null,{"$f":"入力シート!C35&\"\"","v":"504"},null,null,{"$f":"入力シート!D35&\"\"","v":"い"},null,{"$f":"入力シート!E35&\"\"","v":"42"},{"$f":"IF(入力シート!F35=0,\"\",入力シート!F35)","v":"2021-11-21"},{"$f":"入力シート!I35&\"\"","v":"ZZZ80-044595"},{"$f":"入力シート!J35&\"\"","v":"マツタ"},{"$f":"入力シート!K35&\"\"","v":"西讃支店"},"・","現","帳"]
[{"$f":"入力シート!A36","v":16},{"$f":"入力シート!B36&\"\"","v":"香川"},null,null,{"$f":"入力シート!C36&\"\"","v":"505"},null,null,{"$f":"入力シート!D36&\"\"","v":"り"},null,{"$f":"入力シート!E36&\"\"","v":"985"},{"$f":"IF(入力シート!F36=0,\"\",入力シート!F36)","v":"2021-11-22"},{"$f":"入力シート!I36&\"\"","v":"ZZZ80-044596"},{"$f":"入力シート!J36&\"\"","v":"鈴本"},{"$f":"入力シート!K36&\"\"","v":"東讃支店"},"・","現","帳"]
[{"$f":"入力シート!A37","v":17},{"$f":"入力シート!B37&\"\"","v":"香川"},null,null,{"$f":"入力シート!C37&\"\"","v":"566"},null,null,{"$f":"入力シート!D37&\"\"","v":"く"},null,{"$f":"入力シート!E37&\"\"","v":"4777"},{"$f":"IF(入力シート!F37=0,\"\",入力シート!F37)","v":"2021-11-29"},{"$f":"入力シート!I37&\"\"","v":"ZZZ80-044603"},{"$f":"入力シート!J37&\"\"","v":"ホンタ"},{"$f":"入力シート!K37&\"\"","v":"中讃支店"},"・","現","帳"]
[{"$f":"入力シート!A38","v":18},{"$f":"入力シート!B38&\"\"","v":"香川"},null,null,{"$f":"入力シート!C38&\"\"","v":"800"},null,null,{"$f":"入力シート!D38&\"\"","v":"く"},null,{"$f":"入力シート!E38&\"\"","v":"4563"},{"$f":"IF(入力シート!F38=0,\"\",入力シート!F38)","v":"2021-12-04"},{"$f":"入力シート!I38&\"\"","v":"ZZZ80-044608"},{"$f":"入力シート!J38&\"\"","v":"鈴本"},{"$f":"入力シート!K38&\"\"","v":"東讃支店"},"・","現","帳"]
[{"$f":"入力シート!A39","v":19},{"$f":"入力シート!B39&\"\"","v":"高松"},null,null,{"$f":"入力シート!C39&\"\"","v":"100"},null,null,{"$f":"入力シート!D39&\"\"","v":"く"},null,{"$f":"入力シート!E39&\"\"","v":"123"},{"$f":"IF(入力シート!F39=0,\"\",入力シート!F39)","v":"2021-12-02"},{"$f":"入力シート!I39&\"\"","v":"ZZZ80-044606"},{"$f":"入力シート!J39&\"\"","v":"マツタ"},{"$f":"入力シート!K39&\"\"","v":"県税支店"},"・","現","帳"]
[{"$f":"入力シート!A40","v":20},{"$f":"入力シート!B40&\"\"","v":"高松"},null,null,{"$f":"入力シート!C40&\"\"","v":"100"},null,null,{"$f":"入力シート!D40&\"\"","v":"く"},null,{"$f":"入力シート!E40&\"\"","v":"144"},{"$f":"IF(入力シート!F40=0,\"\",入力シート!F40)","v":"2021-11-26"},{"$f":"入力シート!I40&\"\"","v":"ZZZ80-044600"},{"$f":"入力シート!J40&\"\"","v":"鈴本"},{"$f":"入力シート!K40&\"\"","v":"中讃支店"},"・","現","帳"]
[{"$f":"入力シート!A41&\"\"","v":"21"},{"$f":"入力シート!B41&\"\"","v":"高松"},null,null,{"$f":"入力シート!C41&\"\"","v":"121"},null,null,{"$f":"入力シート!D41&\"\"","v":"く"},null,{"$f":"入力シート!E41&\"\"","v":"97"},{"$f":"IF(入力シート!F41=0,\"\",入力シート!F41)","v":"2021-12-03"},{"$f":"入力シート!I41&\"\"","v":"ZZZ80-044607"},{"$f":"入力シート!J41&\"\"","v":"鈴本"},{"$f":"入力シート!K41&\"\"","v":"小豆支店"},"・","現","帳"]
[{"$f":"入力シート!A42&\"\"","v":"22"},{"$f":"入力シート!B42&\"\"","v":"高松"},null,null,{"$f":"入力シート!C42&\"\"","v":"333"},null,null,{"$f":"入力シート!D42&\"\"","v":"く"},null,{"$f":"入力シート!E42&\"\"","v":"506"},{"$f":"IF(入力シート!F42=0,\"\",入力シート!F42)","v":"2021-12-01"},{"$f":"入力シート!I42&\"\"","v":"ZZZ80-044605"},{"$f":"入力シート!J42&\"\"","v":"目産"},{"$f":"入力シート!K42&\"\"","v":"東讃支店"},"・","現","帳"]
[{"$f":"入力シート!A43&\"\"","v":"23"},{"$f":"入力シート!B43&\"\"","v":"高松"},null,null,{"$f":"入力シート!C43&\"\"","v":"502"},null,null,{"$f":"入力シート!D43&\"\"","v":"わ"},null,{"$f":"入力シート!E43&\"\"","v":"1"},{"$f":"IF(入力シート!F43=0,\"\",入力シート!F43)","v":"2021-11-19"},{"$f":"入力シート!I43&\"\"","v":"ZZZ80-044593"},{"$f":"入力シート!J43&\"\"","v":"マツタ"},{"$f":"入力シート!K43&\"\"","v":"小豆支店"},"・","現","帳"]
[{"$f":"入力シート!A44&\"\"","v":"24"},{"$f":"入力シート!B44&\"\"","v":"高松"},null,null,{"$f":"入力シート!C44&\"\"","v":"503"},null,null,{"$f":"入力シート!D44&\"\"","v":"ら"},null,{"$f":"入力シート!E44&\"\"","v":"45"},{"$f":"IF(入力シート!F44=0,\"\",入力シート!F44)","v":"2021-11-20"},{"$f":"入力シート!I44&\"\"","v":"ZZZ80-044594"},{"$f":"入力シート!J44&\"\"","v":"鈴本"},{"$f":"入力シート!K44&\"\"","v":"中讃支店"},"・","現","帳"]
[{"$f":"入力シート!A45&\"\"","v":"25"},{"$f":"入力シート!B45&\"\"","v":"高松"},null,null,{"$f":"入力シート!C45&\"\"","v":"541"},null,null,{"$f":"入力シート!D45&\"\"","v":"く"},null,{"$f":"入力シート!E45&\"\"","v":"87"},{"$f":"IF(入力シート!F45=0,\"\",入力シート!F45)","v":"2021-12-06"},{"$f":"入力シート!I45&\"\"","v":"ZZZ80-044610"},{"$f":"入力シート!J45&\"\"","v":"豊田"},{"$f":"入力シート!K45&\"\"","v":"東讃支店"},"・","現","帳"]
[{"$f":"入力シート!A46&\"\"","v":"26"},{"$f":"入力シート!B46&\"\"","v":"高松"},null,null,{"$f":"入力シート!C46&\"\"","v":"542"},null,null,{"$f":"入力シート!D46&\"\"","v":"く"},null,{"$f":"入力シート!E46&\"\"","v":"87"},{"$f":"IF(入力シート!F46=0,\"\",入力シート!F46)","v":"2021-12-07"},{"$f":"入力シート!I46&\"\"","v":"ZZZ80-044611"},{"$f":"入力シート!J46&\"\"","v":"豊田"},{"$f":"入力シート!K46&\"\"","v":"東讃支店"},"・","現","帳"]
[{"$f":"入力シート!A47&\"\"","v":"27"},{"$f":"入力シート!B47&\"\"","v":"高松"},null,null,{"$f":"入力シート!C47&\"\"","v":"543"},null,null,{"$f":"入力シート!D47&\"\"","v":"く"},null,{"$f":"入力シート!E47&\"\"","v":"87"},{"$f":"IF(入力シート!F47=0,\"\",入力シート!F47)","v":"2021-12-08"},{"$f":"入力シート!I47&\"\"","v":"ZZZ80-044612"},{"$f":"入力シート!J47&\"\"","v":"豊田"},{"$f":"入力シート!K47&\"\"","v":"東讃支店"},"・","現","帳"]
[{"$f":"入力シート!A48&\"\"","v":"28"},{"$f":"入力シート!B48&\"\"","v":"高松"},null,null,{"$f":"入力シート!C48&\"\"","v":"544"},null,null,{"$f":"入力シート!D48&\"\"","v":"く"},null,{"$f":"入力シート!E48&\"\"","v":"87"},{"$f":"IF(入力シート!F48=0,\"\",入力シート!F48)","v":"2021-12-09"},{"$f":"入力シート!I48&\"\"","v":"ZZZ80-044613"},{"$f":"入力シート!J48&\"\"","v":"豊田"},{"$f":"入力シート!K48&\"\"","v":"東讃支店"},"・","現","帳"]
[{"$f":"入力シート!A49&\"\"","v":"29"},{"$f":"入力シート!B49&\"\"","v":"高松"},null,null,{"$f":"入力シート!C49&\"\"","v":"545"},null,null,{"$f":"入力シート!D49&\"\"","v":"く"},null,{"$f":"入力シート!E49&\"\"","v":"87"},{"$f":"IF(入力シート!F49=0,\"\",入力シート!F49)","v":"2021-12-10"},{"$f":"入力シート!I49&\"\"","v":"ZZZ80-044614"},{"$f":"入力シート!J49&\"\"","v":"豊田"},{"$f":"入力シート!K49&\"\"","v":"東讃支店"},"・","現","帳"]
[{"$f":"入力シート!A50&\"\"","v":"30"},{"$f":"入力シート!B50&\"\"","v":"高松"},null,null,{"$f":"入力シート!C50&\"\"","v":"546"},null,null,{"$f":"入力シート!D50&\"\"","v":"く"},null,{"$f":"入力シート!E50&\"\"","v":"87"},{"$f":"IF(入力シート!F50=0,\"\",入力シート!F50)","v":"2021-12-11"},{"$f":"入力シート!I50&\"\"","v":"ZZZ80-044615"},{"$f":"入力シート!J50&\"\"","v":"豊田"},{"$f":"入力シート!K50&\"\"","v":"東讃支店"},"・","現","帳"]
[{"$f":"入力シート!A51&\"\"","v":"31"},{"$f":"入力シート!B51&\"\"","v":"高松"},null,null,{"$f":"入力シート!C51&\"\"","v":"547"},null,null,{"$f":"入力シート!D51&\"\"","v":"く"},null,{"$f":"入力シート!E51&\"\"","v":"87"},{"$f":"IF(入力シート!F51=0,\"\",入力シート!F51)","v":"2021-12-12"},{"$f":"入力シート!I51&\"\"","v":"ZZZ80-044616"},{"$f":"入力シート!J51&\"\"","v":"豊田"},{"$f":"入力シート!K51&\"\"","v":"東讃支店"},"・","現","帳"]
[{"$f":"入力シート!A52&\"\"","v":"32"},{"$f":"入力シート!B52&\"\"","v":"高松"},null,null,{"$f":"入力シート!C52&\"\"","v":"548"},null,null,{"$f":"入力シート!D52&\"\"","v":"く"},null,{"$f":"入力シート!E52&\"\"","v":"87"},{"$f":"IF(入力シート!F52=0,\"\",入力シート!F52)","v":"2021-12-13"},{"$f":"入力シート!I52&\"\"","v":"ZZZ80-044617"},{"$f":"入力シート!J52&\"\"","v":"豊田"},{"$f":"入力シート!K52&\"\"","v":"東讃支店"},"・","現","帳"]
[{"$f":"入力シート!A53&\"\"","v":"33"},{"$f":"入力シート!B53&\"\"","v":"高松"},null,null,{"$f":"入力シート!C53&\"\"","v":"549"},null,null,{"$f":"入力シート!D53&\"\"","v":"く"},null,{"$f":"入力シート!E53&\"\"","v":"87"},{"$f":"IF(入力シート!F53=0,\"\",入力シート!F53)","v":"2021-12-14"},{"$f":"入力シート!I53&\"\"","v":"ZZZ80-044618"},{"$f":"入力シート!J53&\"\"","v":"豊田"},{"$f":"入力シート!K53&\"\"","v":"東讃支店"},"・","現","帳"]
[{"$f":"入力シート!A54&\"\"","v":"34"},{"$f":"入力シート!B54&\"\"","v":"高松"},null,null,{"$f":"入力シート!C54&\"\"","v":"550"},null,null,{"$f":"入力シート!D54&\"\"","v":"く"},null,{"$f":"入力シート!E54&\"\"","v":"87"},{"$f":"IF(入力シート!F54=0,\"\",入力シート!F54)","v":"2021-12-15"},{"$f":"入力シート!I54&\"\"","v":"ZZZ80-044619"},{"$f":"入力シート!J54&\"\"","v":"豊田"},{"$f":"入力シート!K54&\"\"","v":"東讃支店"},"・","現","帳"]
[{"$f":"入力シート!A55&\"\"","v":"35"},{"$f":"入力シート!B55&\"\"","v":"高松"},null,null,{"$f":"入力シート!C55&\"\"","v":"551"},null,null,{"$f":"入力シート!D55&\"\"","v":"く"},null,{"$f":"入力シート!E55&\"\"","v":"87"},{"$f":"IF(入力シート!F55=0,\"\",入力シート!F55)","v":"2021-12-16"},{"$f":"入力シート!I55&\"\"","v":"ZZZ80-044620"},{"$f":"入力シート!J55&\"\"","v":"豊田"},{"$f":"入力シート!K55&\"\"","v":"東讃支店"},"・","現","帳"]
[{"$f":"入力シート!A56&\"\"","v":"36"},{"$f":"入力シート!B56&\"\"","v":"高松"},null,null,{"$f":"入力シート!C56&\"\"","v":"552"},null,null,{"$f":"入力シート!D56&\"\"","v":"く"},null,{"$f":"入力シート!E56&\"\"","v":"87"},{"$f":"IF(入力シート!F56=0,\"\",入力シート!F56)","v":"2021-12-17"},{"$f":"入力シート!I56&\"\"","v":"ZZZ80-044621"},{"$f":"入力シート!J56&\"\"","v":"豊田"},{"$f":"入力シート!K56&\"\"","v":"東讃支店"},"・","現","帳"]
[{"$f":"入力シート!A57&\"\"","v":"37"},{"$f":"入力シート!B57&\"\"","v":"高松"},null,null,{"$f":"入力シート!C57&\"\"","v":"553"},null,null,{"$f":"入力シート!D57&\"\"","v":"く"},null,{"$f":"入力シート!E57&\"\"","v":"87"},{"$f":"IF(入力シート!F57=0,\"\",入力シート!F57)","v":"2021-12-18"},{"$f":"入力シート!I57&\"\"","v":"ZZZ80-044622"},{"$f":"入力シート!J57&\"\"","v":"豊田"},{"$f":"入力シート!K57&\"\"","v":"東讃支店"},"・","現","帳"]
[{"$f":"入力シート!A58&\"\"","v":"38"},{"$f":"入力シート!B58&\"\"","v":"高松"},null,null,{"$f":"入力シート!C58&\"\"","v":"554"},null,null,{"$f":"入力シート!D58&\"\"","v":"く"},null,{"$f":"入力シート!E58&\"\"","v":"87"},{"$f":"IF(入力シート!F58=0,\"\",入力シート!F58)","v":"2021-12-19"},{"$f":"入力シート!I58&\"\"","v":"ZZZ80-044623"},{"$f":"入力シート!J58&\"\"","v":"豊田"},{"$f":"入力シート!K58&\"\"","v":"東讃支店"},"・","現","帳"]
[{"$f":"入力シート!A59&\"\"","v":"39"},{"$f":"入力シート!B59&\"\"","v":"高松"},null,null,{"$f":"入力シート!C59&\"\"","v":"555"},null,null,{"$f":"入力シート!D59&\"\"","v":"く"},null,{"$f":"入力シート!E59&\"\"","v":"87"},{"$f":"IF(入力シート!F59=0,\"\",入力シート!F59)","v":"2021-12-20"},{"$f":"入力シート!I59&\"\"","v":"ZZZ80-044624"},{"$f":"入力シート!J59&\"\"","v":"豊田"},{"$f":"入力シート!K59&\"\"","v":"東讃支店"},"・","現","帳"]
[{"$f":"入力シート!A60&\"\"","v":"40"},{"$f":"入力シート!B60&\"\"","v":"高松"},null,null,{"$f":"入力シート!C60&\"\"","v":"556"},null,null,{"$f":"入力シート!D60&\"\"","v":"く"},null,{"$f":"入力シート!E60&\"\"","v":"87"},{"$f":"IF(入力シート!F60=0,\"\",入力シート!F60)","v":"2021-12-21"},{"$f":"入力シート!I60&\"\"","v":"ZZZ80-044625"},{"$f":"入力シート!J60&\"\"","v":"豊田"},{"$f":"入力シート!K60&\"\"","v":"東讃支店"},"・","現","帳"]
[{"$f":"入力シート!A61&\"\"","v":"41"},{"$f":"入力シート!B61&\"\"","v":"高松"},null,null,{"$f":"入力シート!C61&\"\"","v":"557"},null,null,{"$f":"入力シート!D61&\"\"","v":"く"},null,{"$f":"入力シート!E61&\"\"","v":"87"},{"$f":"IF(入力シート!F61=0,\"\",入力シート!F61)","v":"2021-12-22"},{"$f":"入力シート!I61&\"\"","v":"ZZZ80-044626"},{"$f":"入力シート!J61&\"\"","v":"豊田"},{"$f":"入力シート!K61&\"\"","v":"東讃支店"},"・","現","帳"]
[{"$f":"入力シート!A62&\"\"","v":"42"},{"$f":"入力シート!B62&\"\"","v":"高松"},null,null,{"$f":"入力シート!C62&\"\"","v":"558"},null,null,{"$f":"入力シート!D62&\"\"","v":"く"},null,{"$f":"入力シート!E62&\"\"","v":"87"},{"$f":"IF(入力シート!F62=0,\"\",入力シート!F62)","v":"2021-12-23"},{"$f":"入力シート!I62&\"\"","v":"ZZZ80-044627"},{"$f":"入力シート!J62&\"\"","v":"豊田"},{"$f":"入力シート!K62&\"\"","v":"東讃支店"},"・","現","帳"]
[{"$f":"入力シート!A63&\"\"","v":"43"},{"$f":"入力シート!B63&\"\"","v":"高松"},null,null,{"$f":"入力シート!C63&\"\"","v":""},null,null,{"$f":"入力シート!D63&\"\"","v":""},null,{"$f":"入力シート!E63&\"\"","v":""},{"$f":"IF(入力シート!F63=0,\"\",入力シート!F63)","v":""},{"$f":"入力シート!I63&\"\"","v":""},{"$f":"入力シート!J63&\"\"","v":""},{"$f":"入力シート!K63&\"\"","v":""},"・","現","帳"]
[{"$f":"入力シート!A64&\"\"","v":"44"},{"$f":"入力シート!B64&\"\"","v":"高松"},null,null,{"$f":"入力シート!C64&\"\"","v":""},null,null,{"$f":"入力シート!D64&\"\"","v":""},null,{"$f":"入力シート!E64&\"\"","v":""},{"$f":"IF(入力シート!F64=0,\"\",入力シート!F64)","v":""},{"$f":"入力シート!I64&\"\"","v":""},{"$f":"入力シート!J64&\"\"","v":""},{"$f":"入力シート!K64&\"\"","v":""},"・","現","帳"]
[{"$f":"入力シート!A65&\"\"","v":"45"},{"$f":"入力シート!B65&\"\"","v":"高松"},null,null,{"$f":"入力シート!C65&\"\"","v":""},null,null,{"$f":"入力シート!D65&\"\"","v":""},null,{"$f":"入力シート!E65&\"\"","v":""},{"$f":"IF(入力シート!F65=0,\"\",入力シート!F65)","v":""},{"$f":"入力シート!I65&\"\"","v":""},{"$f":"入力シート!J65&\"\"","v":""},{"$f":"入力シート!K65&\"\"","v":""},"・","現","帳"]
[{"$f":"入力シート!A66&\"\"","v":"46"},{"$f":"入力シート!B66&\"\"","v":"高松"},null,null,{"$f":"入力シート!C66&\"\"","v":""},null,null,{"$f":"入力シート!D66&\"\"","v":""},null,{"$f":"入力シート!E66&\"\"","v":""},{"$f":"IF(入力シート!F66=0,\"\",入力シート!F66)","v":""},{"$f":"入力シート!I66&\"\"","v":""},{"$f":"入力シート!J66&\"\"","v":""},{"$f":"入力シート!K66&\"\"","v":""},"・","現","帳"]
[{"$f":"入力シート!A67&\"\"","v":"47"},{"$f":"入力シート!B67&\"\"","v":"高松"},null,null,{"$f":"入力シート!C67&\"\"","v":""},null,null,{"$f":"入力シート!D67&\"\"","v":""},null,{"$f":"入力シート!E67&\"\"","v":""},{"$f":"IF(入力シート!F67=0,\"\",入力シート!F67)","v":""},{"$f":"入力シート!I67&\"\"","v":""},{"$f":"入力シート!J67&\"\"","v":""},{"$f":"入力シート!K67&\"\"","v":""},"・","現","帳"]
[{"$f":"入力シート!A68&\"\"","v":"48"},{"$f":"入力シート!B68&\"\"","v":"高松"},null,null,{"$f":"入力シート!C68&\"\"","v":""},null,null,{"$f":"入力シート!D68&\"\"","v":""},null,{"$f":"入力シート!E68&\"\"","v":""},{"$f":"IF(入力シート!F68=0,\"\",入力シート!F68)","v":""},{"$f":"入力シート!I68&\"\"","v":""},{"$f":"入力シート!J68&\"\"","v":""},{"$f":"入力シート!K68&\"\"","v":""},"・","現","帳"]
[{"$f":"入力シート!A69&\"\"","v":"49"},{"$f":"入力シート!B69&\"\"","v":"高松"},null,null,{"$f":"入力シート!C69&\"\"","v":""},null,null,{"$f":"入力シート!D69&\"\"","v":""},null,{"$f":"入力シート!E69&\"\"","v":""},{"$f":"IF(入力シート!F69=0,\"\",入力シート!F69)","v":""},{"$f":"入力シート!I69&\"\"","v":""},{"$f":"入力シート!J69&\"\"","v":""},{"$f":"入力シート!K69&\"\"","v":""},"・","現","帳"]
[{"$f":"入力シート!A70&\"\"","v":"50"},{"$f":"入力シート!B70&\"\"","v":"高松"},null,null,{"$f":"入力シート!C70&\"\"","v":""},null,null,{"$f":"入力シート!D70&\"\"","v":""},null,{"$f":"入力シート!E70&\"\"","v":""},{"$f":"IF(入力シート!F70=0,\"\",入力シート!F70)","v":""},{"$f":"入力シート!I70&\"\"","v":""},{"$f":"入力シート!J70&\"\"","v":""},{"$f":"入力シート!K70&\"\"","v":""},"・","現","帳"]
[{"$f":"入力シート!A71&\"\"","v":"51"},{"$f":"入力シート!B71&\"\"","v":"高松"},null,null,{"$f":"入力シート!C71&\"\"","v":""},null,null,{"$f":"入力シート!D71&\"\"","v":""},null,{"$f":"入力シート!E71&\"\"","v":""},{"$f":"IF(入力シート!F71=0,\"\",入力シート!F71)","v":""},{"$f":"入力シート!I71&\"\"","v":""},{"$f":"入力シート!J71&\"\"","v":""},{"$f":"入力シート!K71&\"\"","v":""},"・","現","帳"]
[{"$f":"入力シート!A72&\"\"","v":"52"},{"$f":"入力シート!B72&\"\"","v":"高松"},null,null,{"$f":"入力シート!C72&\"\"","v":""},null,null,{"$f":"入力シート!D72&\"\"","v":""},null,{"$f":"入力シート!E72&\"\"","v":""},{"$f":"IF(入力シート!F72=0,\"\",入力シート!F72)","v":""},{"$f":"入力シート!I72&\"\"","v":""},{"$f":"入力シート!J72&\"\"","v":""},{"$f":"入力シート!K72&\"\"","v":""},"・","現","帳"]
[{"$f":"入力シート!A73&\"\"","v":"53"},{"$f":"入力シート!B73&\"\"","v":"高松"},null,null,{"$f":"入力シート!C73&\"\"","v":""},null,null,{"$f":"入力シート!D73&\"\"","v":""},null,{"$f":"入力シート!E73&\"\"","v":""},{"$f":"IF(入力シート!F73=0,\"\",入力シート!F73)","v":""},{"$f":"入力シート!I73&\"\"","v":""},{"$f":"入力シート!J73&\"\"","v":""},{"$f":"入力シート!K73&\"\"","v":""},"・","現","帳"]
[{"$f":"入力シート!A74&\"\"","v":"54"},{"$f":"入力シート!B74&\"\"","v":"高松"},null,null,{"$f":"入力シート!C74&\"\"","v":""},null,null,{"$f":"入力シート!D74&\"\"","v":""},null,{"$f":"入力シート!E74&\"\"","v":""},{"$f":"IF(入力シート!F74=0,\"\",入力シート!F74)","v":""},{"$f":"入力シート!I74&\"\"","v":""},{"$f":"入力シート!J74&\"\"","v":""},{"$f":"入力シート!K74&\"\"","v":""},"・","現","帳"]
[{"$f":"入力シート!A75&\"\"","v":"55"},{"$f":"入力シート!B75&\"\"","v":"高松"},null,null,{"$f":"入力シート!C75&\"\"","v":""},null,null,{"$f":"入力シート!D75&\"\"","v":""},null,{"$f":"入力シート!E75&\"\"","v":""},{"$f":"IF(入力シート!F75=0,\"\",入力シート!F75)","v":""},{"$f":"入力シート!I75&\"\"","v":""},{"$f":"入力シート!J75&\"\"","v":""},{"$f":"入力シート!K75&\"\"","v":""},"・","現","帳"]
[{"$f":"入力シート!A76&\"\"","v":"56"},{"$f":"入力シート!B76&\"\"","v":"高松"},null,null,{"$f":"入力シート!C76&\"\"","v":""},null,null,{"$f":"入力シート!D76&\"\"","v":""},null,{"$f":"入力シート!E76&\"\"","v":""},{"$f":"IF(入力シート!F76=0,\"\",入力シート!F76)","v":""},{"$f":"入力シート!I76&\"\"","v":""},{"$f":"入力シート!J76&\"\"","v":""},{"$f":"入力シート!K76&\"\"","v":""},"・","現","帳"]
[{"$f":"入力シート!A77&\"\"","v":"57"},{"$f":"入力シート!B77&\"\"","v":"高松"},null,null,{"$f":"入力シート!C77&\"\"","v":""},null,null,{"$f":"入力シート!D77&\"\"","v":""},null,{"$f":"入力シート!E77&\"\"","v":""},{"$f":"IF(入力シート!F77=0,\"\",入力シート!F77)","v":""},{"$f":"入力シート!I77&\"\"","v":""},{"$f":"入力シート!J77&\"\"","v":""},{"$f":"入力シート!K77&\"\"","v":""},"・","現","帳"]
[{"$f":"入力シート!A78&\"\"","v":"58"},{"$f":"入力シート!B78&\"\"","v":"高松"},null,null,{"$f":"入力シート!C78&\"\"","v":""},null,null,{"$f":"入力シート!D78&\"\"","v":""},null,{"$f":"入力シート!E78&\"\"","v":""},{"$f":"IF(入力シート!F78=0,\"\",入力シート!F78)","v":""},{"$f":"入力シート!I78&\"\"","v":""},{"$f":"入力シート!J78&\"\"","v":""},{"$f":"入力シート!K78&\"\"","v":""},"・","現","帳"]
[{"$f":"入力シート!A79&\"\"","v":"59"},{"$f":"入力シート!B79&\"\"","v":"高松"},null,null,{"$f":"入力シート!C79&\"\"","v":""},null,null,{"$f":"入力シート!D79&\"\"","v":""},null,{"$f":"入力シート!E79&\"\"","v":""},{"$f":"IF(入力シート!F79=0,\"\",入力シート!F79)","v":""},{"$f":"入力シート!I79&\"\"","v":""},{"$f":"入力シート!J79&\"\"","v":""},{"$f":"入力シート!K79&\"\"","v":""},"・","現","帳"]
[{"$f":"入力シート!A80&\"\"","v":"60"},{"$f":"入力シート!B80&\"\"","v":"高松"},null,null,{"$f":"入力シート!C80&\"\"","v":""},null,null,{"$f":"入力シート!D80&\"\"","v":""},null,{"$f":"入力シート!E80&\"\"","v":""},{"$f":"IF(入力シート!F80=0,\"\",入力シート!F80)","v":""},{"$f":"入力シート!I80&\"\"","v":""},{"$f":"入力シート!J80&\"\"","v":""},{"$f":"入力シート!K80&\"\"","v":""},"・","現","帳"]
[{"$f":"入力シート!A81&\"\"","v":"61"},{"$f":"入力シート!B81&\"\"","v":"高松"},null,null,{"$f":"入力シート!C81&\"\"","v":""},null,null,{"$f":"入力シート!D81&\"\"","v":""},null,{"$f":"入力シート!E81&\"\"","v":""},{"$f":"IF(入力シート!F81=0,\"\",入力シート!F81)","v":""},{"$f":"入力シート!I81&\"\"","v":""},{"$f":"入力シート!J81&\"\"","v":""},{"$f":"入力シート!K81&\"\"","v":""},"・","現","帳"]
[{"$f":"入力シート!A82&\"\"","v":"62"},{"$f":"入力シート!B82&\"\"","v":"高松"},null,null,{"$f":"入力シート!C82&\"\"","v":""},null,null,{"$f":"入力シート!D82&\"\"","v":""},null,{"$f":"入力シート!E82&\"\"","v":""},{"$f":"IF(入力シート!F82=0,\"\",入力シート!F82)","v":""},{"$f":"入力シート!I82&\"\"","v":""},{"$f":"入力シート!J82&\"\"","v":""},{"$f":"入力シート!K82&\"\"","v":""},"・","現","帳"]
[{"$f":"入力シート!A83&\"\"","v":"63"},{"$f":"入力シート!B83&\"\"","v":"高松"},null,null,{"$f":"入力シート!C83&\"\"","v":""},null,null,{"$f":"入力シート!D83&\"\"","v":""},null,{"$f":"入力シート!E83&\"\"","v":""},{"$f":"IF(入力シート!F83=0,\"\",入力シート!F83)","v":""},{"$f":"入力シート!I83&\"\"","v":""},{"$f":"入力シート!J83&\"\"","v":""},{"$f":"入力シート!K83&\"\"","v":""},"・","現","帳"]
[{"$f":"入力シート!A84&\"\"","v":"64"},{"$f":"入力シート!B84&\"\"","v":"高松"},null,null,{"$f":"入力シート!C84&\"\"","v":""},null,null,{"$f":"入力シート!D84&\"\"","v":""},null,{"$f":"入力シート!E84&\"\"","v":""},{"$f":"IF(入力シート!F84=0,\"\",入力シート!F84)","v":""},{"$f":"入力シート!I84&\"\"","v":""},{"$f":"入力シート!J84&\"\"","v":""},{"$f":"入力シート!K84&\"\"","v":""},"・","現","帳"]
[{"$f":"入力シート!A85&\"\"","v":"65"},{"$f":"入力シート!B85&\"\"","v":"高松"},null,null,{"$f":"入力シート!C85&\"\"","v":""},null,null,{"$f":"入力シート!D85&\"\"","v":""},null,{"$f":"入力シート!E85&\"\"","v":""},{"$f":"IF(入力シート!F85=0,\"\",入力シート!F85)","v":""},{"$f":"入力シート!I85&\"\"","v":""},{"$f":"入力シート!J85&\"\"","v":""},{"$f":"入力シート!K85&\"\"","v":""},"・","現","帳"]
[{"$f":"入力シート!A86&\"\"","v":"66"},{"$f":"入力シート!B86&\"\"","v":"高松"},null,null,{"$f":"入力シート!C86&\"\"","v":""},null,null,{"$f":"入力シート!D86&\"\"","v":""},null,{"$f":"入力シート!E86&\"\"","v":""},{"$f":"IF(入力シート!F86=0,\"\",入力シート!F86)","v":""},{"$f":"入力シート!I86&\"\"","v":""},{"$f":"入力シート!J86&\"\"","v":""},{"$f":"入力シート!K86&\"\"","v":""},"・","現","帳"]
[{"$f":"入力シート!A87&\"\"","v":"67"},{"$f":"入力シート!B87&\"\"","v":"高松"},null,null,{"$f":"入力シート!C87&\"\"","v":""},null,null,{"$f":"入力シート!D87&\"\"","v":""},null,{"$f":"入力シート!E87&\"\"","v":""},{"$f":"IF(入力シート!F87=0,\"\",入力シート!F87)","v":""},{"$f":"入力シート!I87&\"\"","v":""},{"$f":"入力シート!J87&\"\"","v":""},{"$f":"入力シート!K87&\"\"","v":""},"・","現","帳"]
[{"$f":"入力シート!A88&\"\"","v":"68"},{"$f":"入力シート!B88&\"\"","v":"高松"},null,null,{"$f":"入力シート!C88&\"\"","v":""},null,null,{"$f":"入力シート!D88&\"\"","v":""},null,{"$f":"入力シート!E88&\"\"","v":""},{"$f":"IF(入力シート!F88=0,\"\",入力シート!F88)","v":""},{"$f":"入力シート!I88&\"\"","v":""},{"$f":"入力シート!J88&\"\"","v":""},{"$f":"入力シート!K88&\"\"","v":""},"・","現","帳"]
[{"$f":"入力シート!A89&\"\"","v":"69"},{"$f":"入力シート!B89&\"\"","v":"高松"},null,null,{"$f":"入力シート!C89&\"\"","v":""},null,null,{"$f":"入力シート!D89&\"\"","v":""},null,{"$f":"入力シート!E89&\"\"","v":""},{"$f":"IF(入力シート!F89=0,\"\",入力シート!F89)","v":""},{"$f":"入力シート!I89&\"\"","v":""},{"$f":"入力シート!J89&\"\"","v":""},{"$f":"入力シート!K89&\"\"","v":""},"・","現","帳"]
[{"$f":"入力シート!A90&\"\"","v":"70"},{"$f":"入力シート!B90&\"\"","v":"高松"},null,null,{"$f":"入力シート!C90&\"\"","v":""},null,null,{"$f":"入力シート!D90&\"\"","v":""},null,{"$f":"入力シート!E90&\"\"","v":""},{"$f":"IF(入力シート!F90=0,\"\",入力シート!F90)","v":""},{"$f":"入力シート!I90&\"\"","v":""},{"$f":"入力シート!J90&\"\"","v":""},{"$f":"入力シート!K90&\"\"","v":""},"・","現","帳"]
[{"$f":"入力シート!A91&\"\"","v":"71"},{"$f":"入力シート!B91&\"\"","v":"高松"},null,null,{"$f":"入力シート!C91&\"\"","v":""},null,null,{"$f":"入力シート!D91&\"\"","v":""},null,{"$f":"入力シート!E91&\"\"","v":""},{"$f":"IF(入力シート!F91=0,\"\",入力シート!F91)","v":""},{"$f":"入力シート!I91&\"\"","v":""},{"$f":"入力シート!J91&\"\"","v":""},{"$f":"入力シート!K91&\"\"","v":""},"・","現","帳"]
[{"$f":"入力シート!A92&\"\"","v":"72"},{"$f":"入力シート!B92&\"\"","v":"高松"},null,null,{"$f":"入力シート!C92&\"\"","v":""},null,null,{"$f":"入力シート!D92&\"\"","v":""},null,{"$f":"入力シート!E92&\"\"","v":""},{"$f":"IF(入力シート!F92=0,\"\",入力シート!F92)","v":""},{"$f":"入力シート!I92&\"\"","v":""},{"$f":"入力シート!J92&\"\"","v":""},{"$f":"入力シート!K92&\"\"","v":""},"・","現","帳"]
[{"$f":"入力シート!A93&\"\"","v":"73"},{"$f":"入力シート!B93&\"\"","v":"高松"},null,null,{"$f":"入力シート!C93&\"\"","v":""},null,null,{"$f":"入力シート!D93&\"\"","v":""},null,{"$f":"入力シート!E93&\"\"","v":""},{"$f":"IF(入力シート!F93=0,\"\",入力シート!F93)","v":""},{"$f":"入力シート!I93&\"\"","v":""},{"$f":"入力シート!J93&\"\"","v":""},{"$f":"入力シート!K93&\"\"","v":""},"・","現","帳"]
[{"$f":"入力シート!A94&\"\"","v":"74"},{"$f":"入力シート!B94&\"\"","v":"高松"},null,null,{"$f":"入力シート!C94&\"\"","v":""},null,null,{"$f":"入力シート!D94&\"\"","v":""},null,{"$f":"入力シート!E94&\"\"","v":""},{"$f":"IF(入力シート!F94=0,\"\",入力シート!F94)","v":""},{"$f":"入力シート!I94&\"\"","v":""},{"$f":"入力シート!J94&\"\"","v":""},{"$f":"入力シート!K94&\"\"","v":""},"・","現","帳"]
[{"$f":"入力シート!A95&\"\"","v":"75"},{"$f":"入力シート!B95&\"\"","v":"高松"},null,null,{"$f":"入力シート!C95&\"\"","v":""},null,null,{"$f":"入力シート!D95&\"\"","v":""},null,{"$f":"入力シート!E95&\"\"","v":""},{"$f":"IF(入力シート!F95=0,\"\",入力シート!F95)","v":""},{"$f":"入力シート!I95&\"\"","v":""},{"$f":"入力シート!J95&\"\"","v":""},{"$f":"入力シート!K95&\"\"","v":""},"・","現","帳"]
[{"$f":"入力シート!A96&\"\"","v":"76"},{"$f":"入力シート!B96&\"\"","v":"高松"},null,null,{"$f":"入力シート!C96&\"\"","v":""},null,null,{"$f":"入力シート!D96&\"\"","v":""},null,{"$f":"入力シート!E96&\"\"","v":""},{"$f":"IF(入力シート!F96=0,\"\",入力シート!F96)","v":""},{"$f":"入力シート!I96&\"\"","v":""},{"$f":"入力シート!J96&\"\"","v":""},{"$f":"入力シート!K96&\"\"","v":""},"・","現","帳"]
[{"$f":"入力シート!A97&\"\"","v":"77"},{"$f":"入力シート!B97&\"\"","v":"高松"},null,null,{"$f":"入力シート!C97&\"\"","v":""},null,null,{"$f":"入力シート!D97&\"\"","v":""},null,{"$f":"入力シート!E97&\"\"","v":""},{"$f":"IF(入力シート!F97=0,\"\",入力シート!F97)","v":""},{"$f":"入力シート!I97&\"\"","v":""},{"$f":"入力シート!J97&\"\"","v":""},{"$f":"入力シート!K97&\"\"","v":""},"・","現","帳"]
[{"$f":"入力シート!A98&\"\"","v":"78"},{"$f":"入力シート!B98&\"\"","v":"高松"},null,null,{"$f":"入力シート!C98&\"\"","v":""},null,null,{"$f":"入力シート!D98&\"\"","v":""},null,{"$f":"入力シート!E98&\"\"","v":""},{"$f":"IF(入力シート!F98=0,\"\",入力シート!F98)","v":""},{"$f":"入力シート!I98&\"\"","v":""},{"$f":"入力シート!J98&\"\"","v":""},{"$f":"入力シート!K98&\"\"","v":""},"・","現","帳"]
[{"$f":"入力シート!A99&\"\"","v":"79"},{"$f":"入力シート!B99&\"\"","v":"高松"},null,null,{"$f":"入力シート!C99&\"\"","v":""},null,null,{"$f":"入力シート!D99&\"\"","v":""},null,{"$f":"入力シート!E99&\"\"","v":""},{"$f":"IF(入力シート!F99=0,\"\",入力シート!F99)","v":""},{"$f":"入力シート!I99&\"\"","v":""},{"$f":"入力シート!J99&\"\"","v":""},{"$f":"入力シート!K99&\"\"","v":""},"・","現","帳"]
[{"$f":"入力シート!A100&\"\"","v":"80"},{"$f":"入力シート!B100&\"\"","v":"高松"},null,null,{"$f":"入力シート!C100&\"\"","v":""},null,null,{"$f":"入力シート!D100&\"\"","v":""},null,{"$f":"入力シート!E100&\"\"","v":""},{"$f":"IF(入力シート!F100=0,\"\",入力シート!F100)","v":""},{"$f":"入力シート!I100&\"\"","v":""},{"$f":"入力シート!J100&\"\"","v":""},{"$f":"入力シート!K100&\"\"","v":""},"・","現","帳"]
[{"$f":"入力シート!A101&\"\"","v":"81"},{"$f":"入力シート!B101&\"\"","v":"高松"},null,null,{"$f":"入力シート!C101&\"\"","v":""},null,null,{"$f":"入力シート!D101&\"\"","v":""},null,{"$f":"入力シート!E101&\"\"","v":""},{"$f":"IF(入力シート!F101=0,\"\",入力シート!F101)","v":""},{"$f":"入力シート!I101&\"\"","v":""},{"$f":"入力シート!J101&\"\"","v":""},{"$f":"入力シート!K101&\"\"","v":""},"・","現","帳"]
[{"$f":"入力シート!A102&\"\"","v":"82"},{"$f":"入力シート!B102&\"\"","v":"高松"},null,null,{"$f":"入力シート!C102&\"\"","v":""},null,null,{"$f":"入力シート!D102&\"\"","v":""},null,{"$f":"入力シート!E102&\"\"","v":""},{"$f":"IF(入力シート!F102=0,\"\",入力シート!F102)","v":""},{"$f":"入力シート!I102&\"\"","v":""},{"$f":"入力シート!J102&\"\"","v":""},{"$f":"入力シート!K102&\"\"","v":""},"・","現","帳"]
[{"$f":"入力シート!A103&\"\"","v":"83"},{"$f":"入力シート!B103&\"\"","v":"高松"},null,null,{"$f":"入力シート!C103&\"\"","v":""},null,null,{"$f":"入力シート!D103&\"\"","v":""},null,{"$f":"入力シート!E103&\"\"","v":""},{"$f":"IF(入力シート!F103=0,\"\",入力シート!F103)","v":""},{"$f":"入力シート!I103&\"\"","v":""},{"$f":"入力シート!J103&\"\"","v":""},{"$f":"入力シート!K103&\"\"","v":""},"・","現","帳"]
[{"$f":"入力シート!A104&\"\"","v":"84"},{"$f":"入力シート!B104&\"\"","v":"高松"},null,null,{"$f":"入力シート!C104&\"\"","v":""},null,null,{"$f":"入力シート!D104&\"\"","v":""},null,{"$f":"入力シート!E104&\"\"","v":""},{"$f":"IF(入力シート!F104=0,\"\",入力シート!F104)","v":""},{"$f":"入力シート!I104&\"\"","v":""},{"$f":"入力シート!J104&\"\"","v":""},{"$f":"入力シート!K104&\"\"","v":""},"・","現","帳"]
[{"$f":"入力シート!A105&\"\"","v":"85"},{"$f":"入力シート!B105&\"\"","v":"高松"},null,null,{"$f":"入力シート!C105&\"\"","v":""},null,null,{"$f":"入力シート!D105&\"\"","v":""},null,{"$f":"入力シート!E105&\"\"","v":""},{"$f":"IF(入力シート!F105=0,\"\",入力シート!F105)","v":""},{"$f":"入力シート!I105&\"\"","v":""},{"$f":"入力シート!J105&\"\"","v":""},{"$f":"入力シート!K105&\"\"","v":""},"・","現","帳"]
[{"$f":"入力シート!A106&\"\"","v":"86"},{"$f":"入力シート!B106&\"\"","v":"高松"},null,null,{"$f":"入力シート!C106&\"\"","v":""},null,null,{"$f":"入力シート!D106&\"\"","v":""},null,{"$f":"入力シート!E106&\"\"","v":""},{"$f":"IF(入力シート!F106=0,\"\",入力シート!F106)","v":""},{"$f":"入力シート!I106&\"\"","v":""},{"$f":"入力シート!J106&\"\"","v":""},{"$f":"入力シート!K106&\"\"","v":""},"・","現","帳"]
[{"$f":"入力シート!A107&\"\"","v":"87"},{"$f":"入力シート!B107&\"\"","v":"高松"},null,null,{"$f":"入力シート!C107&\"\"","v":""},null,null,{"$f":"入力シート!D107&\"\"","v":""},null,{"$f":"入力シート!E107&\"\"","v":""},{"$f":"IF(入力シート!F107=0,\"\",入力シート!F107)","v":""},{"$f":"入力シート!I107&\"\"","v":""},{"$f":"入力シート!J107&\"\"","v":""},{"$f":"入力シート!K107&\"\"","v":""},"・","現","帳"]
[{"$f":"入力シート!A108&\"\"","v":"88"},{"$f":"入力シート!B108&\"\"","v":"高松"},null,null,{"$f":"入力シート!C108&\"\"","v":""},null,null,{"$f":"入力シート!D108&\"\"","v":""},null,{"$f":"入力シート!E108&\"\"","v":""},{"$f":"IF(入力シート!F108=0,\"\",入力シート!F108)","v":""},{"$f":"入力シート!I108&\"\"","v":""},{"$f":"入力シート!J108&\"\"","v":""},{"$f":"入力シート!K108&\"\"","v":""},"・","現","帳"]
[{"$f":"入力シート!A109&\"\"","v":"89"},{"$f":"入力シート!B109&\"\"","v":"高松"},null,null,{"$f":"入力シート!C109&\"\"","v":""},null,null,{"$f":"入力シート!D109&\"\"","v":""},null,{"$f":"入力シート!E109&\"\"","v":""},{"$f":"IF(入力シート!F109=0,\"\",入力シート!F109)","v":""},{"$f":"入力シート!I109&\"\"","v":""},{"$f":"入力シート!J109&\"\"","v":""},{"$f":"入力シート!K109&\"\"","v":""},"・","現","帳"]
[{"$f":"入力シート!A110&\"\"","v":"90"},{"$f":"入力シート!B110&\"\"","v":"高松"},null,null,{"$f":"入力シート!C110&\"\"","v":""},null,null,{"$f":"入力シート!D110&\"\"","v":""},null,{"$f":"入力シート!E110&\"\"","v":""},{"$f":"IF(入力シート!F110=0,\"\",入力シート!F110)","v":""},{"$f":"入力シート!I110&\"\"","v":""},{"$f":"入力シート!J110&\"\"","v":""},{"$f":"入力シート!K110&\"\"","v":""},"・","現","帳"]
[{"$f":"入力シート!A111&\"\"","v":"91"},{"$f":"入力シート!B111&\"\"","v":"高松"},null,null,{"$f":"入力シート!C111&\"\"","v":""},null,null,{"$f":"入力シート!D111&\"\"","v":""},null,{"$f":"入力シート!E111&\"\"","v":""},{"$f":"IF(入力シート!F111=0,\"\",入力シート!F111)","v":""},{"$f":"入力シート!I111&\"\"","v":""},{"$f":"入力シート!J111&\"\"","v":""},{"$f":"入力シート!K111&\"\"","v":""},"・","現","帳"]
[{"$f":"入力シート!A112&\"\"","v":"92"},{"$f":"入力シート!B112&\"\"","v":"高松"},null,null,{"$f":"入力シート!C112&\"\"","v":""},null,null,{"$f":"入力シート!D112&\"\"","v":""},null,{"$f":"入力シート!E112&\"\"","v":""},{"$f":"IF(入力シート!F112=0,\"\",入力シート!F112)","v":""},{"$f":"入力シート!I112&\"\"","v":""},{"$f":"入力シート!J112&\"\"","v":""},{"$f":"入力シート!K112&\"\"","v":""},"・","現","帳"]
[{"$f":"入力シート!A113&\"\"","v":"93"},{"$f":"入力シート!B113&\"\"","v":"高松"},null,null,{"$f":"入力シート!C113&\"\"","v":""},null,null,{"$f":"入力シート!D113&\"\"","v":""},null,{"$f":"入力シート!E113&\"\"","v":""},{"$f":"IF(入力シート!F113=0,\"\",入力シート!F113)","v":""},{"$f":"入力シート!I113&\"\"","v":""},{"$f":"入力シート!J113&\"\"","v":""},{"$f":"入力シート!K113&\"\"","v":""},"・","現","帳"]
[{"$f":"入力シート!A114&\"\"","v":"94"},{"$f":"入力シート!B114&\"\"","v":"高松"},null,null,{"$f":"入力シート!C114&\"\"","v":""},null,null,{"$f":"入力シート!D114&\"\"","v":""},null,{"$f":"入力シート!E114&\"\"","v":""},{"$f":"IF(入力シート!F114=0,\"\",入力シート!F114)","v":""},{"$f":"入力シート!I114&\"\"","v":""},{"$f":"入力シート!J114&\"\"","v":""},{"$f":"入力シート!K114&\"\"","v":""},"・","現","帳"]
[{"$f":"入力シート!A115&\"\"","v":"95"},{"$f":"入力シート!B115&\"\"","v":"高松"},null,null,{"$f":"入力シート!C115&\"\"","v":""},null,null,{"$f":"入力シート!D115&\"\"","v":""},null,{"$f":"入力シート!E115&\"\"","v":""},{"$f":"IF(入力シート!F115=0,\"\",入力シート!F115)","v":""},{"$f":"入力シート!I115&\"\"","v":""},{"$f":"入力シート!J115&\"\"","v":""},{"$f":"入力シート!K115&\"\"","v":""},"・","現","帳"]
[{"$f":"入力シート!A116&\"\"","v":"96"},{"$f":"入力シート!B116&\"\"","v":"高松"},null,null,{"$f":"入力シート!C116&\"\"","v":""},null,null,{"$f":"入力シート!D116&\"\"","v":""},null,{"$f":"入力シート!E116&\"\"","v":""},{"$f":"IF(入力シート!F116=0,\"\",入力シート!F116)","v":""},{"$f":"入力シート!I116&\"\"","v":""},{"$f":"入力シート!J116&\"\"","v":""},{"$f":"入力シート!K116&\"\"","v":""},"・","現","帳"]
[{"$f":"入力シート!A117&\"\"","v":"97"},{"$f":"入力シート!B117&\"\"","v":"高松"},null,null,{"$f":"入力シート!C117&\"\"","v":""},null,null,{"$f":"入力シート!D117&\"\"","v":""},null,{"$f":"入力シート!E117&\"\"","v":""},{"$f":"IF(入力シート!F117=0,\"\",入力シート!F117)","v":""},{"$f":"入力シート!I117&\"\"","v":""},{"$f":"入力シート!J117&\"\"","v":""},{"$f":"入力シート!K117&\"\"","v":""},"・","現","帳"]
[{"$f":"入力シート!A118&\"\"","v":"98"},{"$f":"入力シート!B118&\"\"","v":"高松"},null,null,{"$f":"入力シート!C118&\"\"","v":""},null,null,{"$f":"入力シート!D118&\"\"","v":""},null,{"$f":"入力シート!E118&\"\"","v":""},{"$f":"IF(入力シート!F118=0,\"\",入力シート!F118)","v":""},{"$f":"入力シート!I118&\"\"","v":""},{"$f":"入力シート!J118&\"\"","v":""},{"$f":"入力シート!K118&\"\"","v":""},"・","現","帳"]
[{"$f":"入力シート!A119&\"\"","v":"99"},{"$f":"入力シート!B119&\"\"","v":"高松"},null,null,{"$f":"入力シート!C119&\"\"","v":""},null,null,{"$f":"入力シート!D119&\"\"","v":""},null,{"$f":"入力シート!E119&\"\"","v":""},{"$f":"IF(入力シート!F119=0,\"\",入力シート!F119)","v":""},{"$f":"入力シート!I119&\"\"","v":""},{"$f":"入力シート!J119&\"\"","v":""},{"$f":"入力シート!K119&\"\"","v":""},"・","現","帳"]
[{"$f":"入力シート!A120&\"\"","v":"100"},{"$f":"入力シート!B120&\"\"","v":"高松"},null,null,{"$f":"入力シート!C120&\"\"","v":""},null,null,{"$f":"入力シート!D120&\"\"","v":""},null,{"$f":"入力シート!E120&\"\"","v":""},{"$f":"IF(入力シート!F120=0,\"\",入力シート!F120)","v":""},{"$f":"入力シート!I120&\"\"","v":""},{"$f":"入力シート!J120&\"\"","v":""},{"$f":"入力シート!K120&\"\"","v":""},"・","現","帳"]
[{"$f":"入力シート!A121&\"\"","v":"101"},{"$f":"入力シート!B121&\"\"","v":"高松"},null,null,{"$f":"入力シート!C121&\"\"","v":""},null,null,{"$f":"入力シート!D121&\"\"","v":""},null,{"$f":"入力シート!E121&\"\"","v":""},{"$f":"IF(入力シート!F121=0,\"\",入力シート!F121)","v":""},{"$f":"入力シート!I121&\"\"","v":""},{"$f":"入力シート!J121&\"\"","v":""},{"$f":"入力シート!K121&\"\"","v":""},"・","現","帳"]
[{"$f":"入力シート!A122&\"\"","v":"102"},{"$f":"入力シート!B122&\"\"","v":"高松"},null,null,{"$f":"入力シート!C122&\"\"","v":""},null,null,{"$f":"入力シート!D122&\"\"","v":""},null,{"$f":"入力シート!E122&\"\"","v":""},{"$f":"IF(入力シート!F122=0,\"\",入力シート!F122)","v":""},{"$f":"入力シート!I122&\"\"","v":""},{"$f":"入力シート!J122&\"\"","v":""},{"$f":"入力シート!K122&\"\"","v":""},"・","現","帳"]
[{"$f":"入力シート!A123&\"\"","v":"103"},{"$f":"入力シート!B123&\"\"","v":"高松"},null,null,{"$f":"入力シート!C123&\"\"","v":""},null,null,{"$f":"入力シート!D123&\"\"","v":""},null,{"$f":"入力シート!E123&\"\"","v":""},{"$f":"IF(入力シート!F123=0,\"\",入力シート!F123)","v":""},{"$f":"入力シート!I123&\"\"","v":""},{"$f":"入力シート!J123&\"\"","v":""},{"$f":"入力シート!K123&\"\"","v":""},"・","現","帳"]
[{"$f":"入力シート!A124&\"\"","v":"104"},{"$f":"入力シート!B124&\"\"","v":"高松"},null,null,{"$f":"入力シート!C124&\"\"","v":""},null,null,{"$f":"入力シート!D124&\"\"","v":""},null,{"$f":"入力シート!E124&\"\"","v":""},{"$f":"IF(入力シート!F124=0,\"\",入力シート!F124)","v":""},{"$f":"入力シート!I124&\"\"","v":""},{"$f":"入力シート!J124&\"\"","v":""},{"$f":"入力シート!K124&\"\"","v":""},"・","現","帳"]
[{"$f":"入力シート!A125&\"\"","v":"105"},{"$f":"入力シート!B125&\"\"","v":"高松"},null,null,{"$f":"入力シート!C125&\"\"","v":""},null,null,{"$f":"入力シート!D125&\"\"","v":""},null,{"$f":"入力シート!E125&\"\"","v":""},{"$f":"IF(入力シート!F125=0,\"\",入力シート!F125)","v":""},{"$f":"入力シート!I125&\"\"","v":""},{"$f":"入力シート!J125&\"\"","v":""},{"$f":"入力シート!K125&\"\"","v":""},"・","現","帳"]
[{"$f":"入力シート!A126&\"\"","v":"106"},{"$f":"入力シート!B126&\"\"","v":"高松"},null,null,{"$f":"入力シート!C126&\"\"","v":""},null,null,{"$f":"入力シート!D126&\"\"","v":""},null,{"$f":"入力シート!E126&\"\"","v":""},{"$f":"IF(入力シート!F126=0,\"\",入力シート!F126)","v":""},{"$f":"入力シート!I126&\"\"","v":""},{"$f":"入力シート!J126&\"\"","v":""},{"$f":"入力シート!K126&\"\"","v":""},"・","現","帳"]
[{"$f":"入力シート!A127&\"\"","v":"107"},{"$f":"入力シート!B127&\"\"","v":"高松"},null,null,{"$f":"入力シート!C127&\"\"","v":""},null,null,{"$f":"入力シート!D127&\"\"","v":""},null,{"$f":"入力シート!E127&\"\"","v":""},{"$f":"IF(入力シート!F127=0,\"\",入力シート!F127)","v":""},{"$f":"入力シート!I127&\"\"","v":""},{"$f":"入力シート!J127&\"\"","v":""},{"$f":"入力シート!K127&\"\"","v":""},"・","現","帳"]
[{"$f":"入力シート!A128&\"\"","v":"108"},{"$f":"入力シート!B128&\"\"","v":"高松"},null,null,{"$f":"入力シート!C128&\"\"","v":""},null,null,{"$f":"入力シート!D128&\"\"","v":""},null,{"$f":"入力シート!E128&\"\"","v":""},{"$f":"IF(入力シート!F128=0,\"\",入力シート!F128)","v":""},{"$f":"入力シート!I128&\"\"","v":""},{"$f":"入力シート!J128&\"\"","v":""},{"$f":"入力シート!K128&\"\"","v":""},"・","現","帳"]
[{"$f":"入力シート!A129&\"\"","v":"109"},{"$f":"入力シート!B129&\"\"","v":"高松"},null,null,{"$f":"入力シート!C129&\"\"","v":""},null,null,{"$f":"入力シート!D129&\"\"","v":""},null,{"$f":"入力シート!E129&\"\"","v":""},{"$f":"IF(入力シート!F129=0,\"\",入力シート!F129)","v":""},{"$f":"入力シート!I129&\"\"","v":""},{"$f":"入力シート!J129&\"\"","v":""},{"$f":"入力シート!K129&\"\"","v":""},"・","現","帳"]
[{"$f":"入力シート!A130&\"\"","v":"110"},{"$f":"入力シート!B130&\"\"","v":"高松"},null,null,{"$f":"入力シート!C130&\"\"","v":""},null,null,{"$f":"入力シート!D130&\"\"","v":""},null,{"$f":"入力シート!E130&\"\"","v":""},{"$f":"IF(入力シート!F130=0,\"\",入力シート!F130)","v":""},{"$f":"入力シート!I130&\"\"","v":""},{"$f":"入力シート!J130&\"\"","v":""},{"$f":"入力シート!K130&\"\"","v":""},"・","現","帳"]
[{"$f":"入力シート!A131&\"\"","v":"111"},{"$f":"入力シート!B131&\"\"","v":"高松"},null,null,{"$f":"入力シート!C131&\"\"","v":""},null,null,{"$f":"入力シート!D131&\"\"","v":""},null,{"$f":"入力シート!E131&\"\"","v":""},{"$f":"IF(入力シート!F131=0,\"\",入力シート!F131)","v":""},{"$f":"入力シート!I131&\"\"","v":""},{"$f":"入力シート!J131&\"\"","v":""},{"$f":"入力シート!K131&\"\"","v":""},"・","現","帳"]
[{"$f":"入力シート!A132&\"\"","v":"112"},{"$f":"入力シート!B132&\"\"","v":"高松"},null,null,{"$f":"入力シート!C132&\"\"","v":""},null,null,{"$f":"入力シート!D132&\"\"","v":""},null,{"$f":"入力シート!E132&\"\"","v":""},{"$f":"IF(入力シート!F132=0,\"\",入力シート!F132)","v":""},{"$f":"入力シート!I132&\"\"","v":""},{"$f":"入力シート!J132&\"\"","v":""},{"$f":"入力シート!K132&\"\"","v":""},"・","現","帳"]
[{"$f":"入力シート!A133&\"\"","v":"113"},{"$f":"入力シート!B133&\"\"","v":"高松"},null,null,{"$f":"入力シート!C133&\"\"","v":""},null,null,{"$f":"入力シート!D133&\"\"","v":""},null,{"$f":"入力シート!E133&\"\"","v":""},{"$f":"IF(入力シート!F133=0,\"\",入力シート!F133)","v":""},{"$f":"入力シート!I133&\"\"","v":""},{"$f":"入力シート!J133&\"\"","v":""},{"$f":"入力シート!K133&\"\"","v":""},"・","現","帳"]
[{"$f":"入力シート!A134&\"\"","v":"114"},{"$f":"入力シート!B134&\"\"","v":"高松"},null,null,{"$f":"入力シート!C134&\"\"","v":""},null,null,{"$f":"入力シート!D134&\"\"","v":""},null,{"$f":"入力シート!E134&\"\"","v":""},{"$f":"IF(入力シート!F134=0,\"\",入力シート!F134)","v":""},{"$f":"入力シート!I134&\"\"","v":""},{"$f":"入力シート!J134&\"\"","v":""},{"$f":"入力シート!K134&\"\"","v":""},"・","現","帳"]
[{"$f":"入力シート!A135&\"\"","v":"115"},{"$f":"入力シート!B135&\"\"","v":"高松"},null,null,{"$f":"入力シート!C135&\"\"","v":""},null,null,{"$f":"入力シート!D135&\"\"","v":""},null,{"$f":"入力シート!E135&\"\"","v":""},{"$f":"IF(入力シート!F135=0,\"\",入力シート!F135)","v":""},{"$f":"入力シート!I135&\"\"","v":""},{"$f":"入力シート!J135&\"\"","v":""},{"$f":"入力シート!K135&\"\"","v":""},"・","現","帳"]
[{"$f":"入力シート!A136&\"\"","v":"116"},{"$f":"入力シート!B136&\"\"","v":"高松"},null,null,{"$f":"入力シート!C136&\"\"","v":""},null,null,{"$f":"入力シート!D136&\"\"","v":""},null,{"$f":"入力シート!E136&\"\"","v":""},{"$f":"IF(入力シート!F136=0,\"\",入力シート!F136)","v":""},{"$f":"入力シート!I136&\"\"","v":""},{"$f":"入力シート!J136&\"\"","v":""},{"$f":"入力シート!K136&\"\"","v":""},"・","現","帳"]
[{"$f":"入力シート!A137&\"\"","v":"117"},{"$f":"入力シート!B137&\"\"","v":"高松"},null,null,{"$f":"入力シート!C137&\"\"","v":""},null,null,{"$f":"入力シート!D137&\"\"","v":""},null,{"$f":"入力シート!E137&\"\"","v":""},{"$f":"IF(入力シート!F137=0,\"\",入力シート!F137)","v":""},{"$f":"入力シート!I137&\"\"","v":""},{"$f":"入力シート!J137&\"\"","v":""},{"$f":"入力シート!K137&\"\"","v":""},"・","現","帳"]
[{"$f":"入力シート!A138&\"\"","v":"118"},{"$f":"入力シート!B138&\"\"","v":"高松"},null,null,{"$f":"入力シート!C138&\"\"","v":""},null,null,{"$f":"入力シート!D138&\"\"","v":""},null,{"$f":"入力シート!E138&\"\"","v":""},{"$f":"IF(入力シート!F138=0,\"\",入力シート!F138)","v":""},{"$f":"入力シート!I138&\"\"","v":""},{"$f":"入力シート!J138&\"\"","v":""},{"$f":"入力シート!K138&\"\"","v":""},"・","現","帳"]
[{"$f":"入力シート!A139&\"\"","v":"119"},{"$f":"入力シート!B139&\"\"","v":"高松"},null,null,{"$f":"入力シート!C139&\"\"","v":""},null,null,{"$f":"入力シート!D139&\"\"","v":""},null,{"$f":"入力シート!E139&\"\"","v":""},{"$f":"IF(入力シート!F139=0,\"\",入力シート!F139)","v":""},{"$f":"入力シート!I139&\"\"","v":""},{"$f":"入力シート!J139&\"\"","v":""},{"$f":"入力シート!K139&\"\"","v":""},"・","現","帳"]
[{"$f":"入力シート!A140&\"\"","v":"120"},{"$f":"入力シート!B140&\"\"","v":"高松"},null,null,{"$f":"入力シート!C140&\"\"","v":""},null,null,{"$f":"入力シート!D140&\"\"","v":""},null,{"$f":"入力シート!E140&\"\"","v":""},{"$f":"IF(入力シート!F140=0,\"\",入力シート!F140)","v":""},{"$f":"入力シート!I140&\"\"","v":""},{"$f":"入力シート!J140&\"\"","v":""},{"$f":"入力シート!K140&\"\"","v":""},"・","現","帳"]
[{"$f":"入力シート!A141&\"\"","v":"121"},{"$f":"入力シート!B141&\"\"","v":"高松"},null,null,{"$f":"入力シート!C141&\"\"","v":""},null,null,{"$f":"入力シート!D141&\"\"","v":""},null,{"$f":"入力シート!E141&\"\"","v":""},{"$f":"IF(入力シート!F141=0,\"\",入力シート!F141)","v":""},{"$f":"入力シート!I141&\"\"","v":""},{"$f":"入力シート!J141&\"\"","v":""},{"$f":"入力シート!K141&\"\"","v":""},"・","現","帳"]
[{"$f":"入力シート!A142&\"\"","v":"122"},{"$f":"入力シート!B142&\"\"","v":"高松"},null,null,{"$f":"入力シート!C142&\"\"","v":""},null,null,{"$f":"入力シート!D142&\"\"","v":""},null,{"$f":"入力シート!E142&\"\"","v":""},{"$f":"IF(入力シート!F142=0,\"\",入力シート!F142)","v":""},{"$f":"入力シート!I142&\"\"","v":""},{"$f":"入力シート!J142&\"\"","v":""},{"$f":"入力シート!K142&\"\"","v":""},"・","現","帳"]
[{"$f":"入力シート!A143&\"\"","v":"123"},{"$f":"入力シート!B143&\"\"","v":"高松"},null,null,{"$f":"入力シート!C143&\"\"","v":""},null,null,{"$f":"入力シート!D143&\"\"","v":""},null,{"$f":"入力シート!E143&\"\"","v":""},{"$f":"IF(入力シート!F143=0,\"\",入力シート!F143)","v":""},{"$f":"入力シート!I143&\"\"","v":""},{"$f":"入力シート!J143&\"\"","v":""},{"$f":"入力シート!K143&\"\"","v":""},"・","現","帳"]
[{"$f":"入力シート!A144&\"\"","v":"124"},{"$f":"入力シート!B144&\"\"","v":"高松"},null,null,{"$f":"入力シート!C144&\"\"","v":""},null,null,{"$f":"入力シート!D144&\"\"","v":""},null,{"$f":"入力シート!E144&\"\"","v":""},{"$f":"IF(入力シート!F144=0,\"\",入力シート!F144)","v":""},{"$f":"入力シート!I144&\"\"","v":""},{"$f":"入力シート!J144&\"\"","v":""},{"$f":"入力シート!K144&\"\"","v":""},"・","現","帳"]
[{"$f":"入力シート!A145&\"\"","v":"125"},{"$f":"入力シート!B145&\"\"","v":"高松"},null,null,{"$f":"入力シート!C145&\"\"","v":""},null,null,{"$f":"入力シート!D145&\"\"","v":""},null,{"$f":"入力シート!E145&\"\"","v":""},{"$f":"IF(入力シート!F145=0,\"\",入力シート!F145)","v":""},{"$f":"入力シート!I145&\"\"","v":""},{"$f":"入力シート!J145&\"\"","v":""},{"$f":"入力シート!K145&\"\"","v":""},"・","現","帳"]
[{"$f":"入力シート!A146&\"\"","v":"126"},{"$f":"入力シート!B146&\"\"","v":"高松"},null,null,{"$f":"入力シート!C146&\"\"","v":""},null,null,{"$f":"入力シート!D146&\"\"","v":""},null,{"$f":"入力シート!E146&\"\"","v":""},{"$f":"IF(入力シート!F146=0,\"\",入力シート!F146)","v":""},{"$f":"入力シート!I146&\"\"","v":""},{"$f":"入力シート!J146&\"\"","v":""},{"$f":"入力シート!K146&\"\"","v":""},"・","現","帳"]
[{"$f":"入力シート!A147&\"\"","v":"127"},{"$f":"入力シート!B147&\"\"","v":"高松"},null,null,{"$f":"入力シート!C147&\"\"","v":""},null,null,{"$f":"入力シート!D147&\"\"","v":""},null,{"$f":"入力シート!E147&\"\"","v":""},{"$f":"IF(入力シート!F147=0,\"\",入力シート!F147)","v":""},{"$f":"入力シート!I147&\"\"","v":""},{"$f":"入力シート!J147&\"\"","v":""},{"$f":"入力シート!K147&\"\"","v":""},"・","現","帳"]
[{"$f":"入力シート!A148&\"\"","v":"128"},{"$f":"入力シート!B148&\"\"","v":"高松"},null,null,{"$f":"入力シート!C148&\"\"","v":""},null,null,{"$f":"入力シート!D148&\"\"","v":""},null,{"$f":"入力シート!E148&\"\"","v":""},{"$f":"IF(入力シート!F148=0,\"\",入力シート!F148)","v":""},{"$f":"入力シート!I148&\"\"","v":""},{"$f":"入力シート!J148&\"\"","v":""},{"$f":"入力シート!K148&\"\"","v":""},"・","現","帳"]
[{"$f":"入力シート!A149&\"\"","v":"129"},{"$f":"入力シート!B149&\"\"","v":"高松"},null,null,{"$f":"入力シート!C149&\"\"","v":""},null,null,{"$f":"入力シート!D149&\"\"","v":""},null,{"$f":"入力シート!E149&\"\"","v":""},{"$f":"IF(入力シート!F149=0,\"\",入力シート!F149)","v":""},{"$f":"入力シート!I149&\"\"","v":""},{"$f":"入力シート!J149&\"\"","v":""},{"$f":"入力シート!K149&\"\"","v":""},"・","現","帳"]
[{"$f":"入力シート!A150&\"\"","v":"130"},{"$f":"入力シート!B150&\"\"","v":"高松"},null,null,{"$f":"入力シート!C150&\"\"","v":""},null,null,{"$f":"入力シート!D150&\"\"","v":""},null,{"$f":"入力シート!E150&\"\"","v":""},{"$f":"IF(入力シート!F150=0,\"\",入力シート!F150)","v":""},{"$f":"入力シート!I150&\"\"","v":""},{"$f":"入力シート!J150&\"\"","v":""},{"$f":"入力シート!K150&\"\"","v":""},"・","現","帳"]
[{"$f":"入力シート!A151&\"\"","v":"131"},{"$f":"入力シート!B151&\"\"","v":"高松"},null,null,{"$f":"入力シート!C151&\"\"","v":""},null,null,{"$f":"入力シート!D151&\"\"","v":""},null,{"$f":"入力シート!E151&\"\"","v":""},{"$f":"IF(入力シート!F151=0,\"\",入力シート!F151)","v":""},{"$f":"入力シート!I151&\"\"","v":""},{"$f":"入力シート!J151&\"\"","v":""},{"$f":"入力シート!K151&\"\"","v":""},"・","現","帳"]
[{"$f":"入力シート!A152&\"\"","v":"132"},{"$f":"入力シート!B152&\"\"","v":"高松"},null,null,{"$f":"入力シート!C152&\"\"","v":""},null,null,{"$f":"入力シート!D152&\"\"","v":""},null,{"$f":"入力シート!E152&\"\"","v":""},{"$f":"IF(入力シート!F152=0,\"\",入力シート!F152)","v":""},{"$f":"入力シート!I152&\"\"","v":""},{"$f":"入力シート!J152&\"\"","v":""},{"$f":"入力シート!K152&\"\"","v":""},"・","現","帳"]
[{"$f":"入力シート!A153&\"\"","v":"133"},{"$f":"入力シート!B153&\"\"","v":"高松"},null,null,{"$f":"入力シート!C153&\"\"","v":""},null,null,{"$f":"入力シート!D153&\"\"","v":""},null,{"$f":"入力シート!E153&\"\"","v":""},{"$f":"IF(入力シート!F153=0,\"\",入力シート!F153)","v":""},{"$f":"入力シート!I153&\"\"","v":""},{"$f":"入力シート!J153&\"\"","v":""},{"$f":"入力シート!K153&\"\"","v":""},"・","現","帳"]
[{"$f":"入力シート!A154&\"\"","v":"134"},{"$f":"入力シート!B154&\"\"","v":"高松"},null,null,{"$f":"入力シート!C154&\"\"","v":""},null,null,{"$f":"入力シート!D154&\"\"","v":""},null,{"$f":"入力シート!E154&\"\"","v":""},{"$f":"IF(入力シート!F154=0,\"\",入力シート!F154)","v":""},{"$f":"入力シート!I154&\"\"","v":""},{"$f":"入力シート!J154&\"\"","v":""},{"$f":"入力シート!K154&\"\"","v":""},"・","現","帳"]
[{"$f":"入力シート!A155&\"\"","v":"135"},{"$f":"入力シート!B155&\"\"","v":"高松"},null,null,{"$f":"入力シート!C155&\"\"","v":""},null,null,{"$f":"入力シート!D155&\"\"","v":""},null,{"$f":"入力シート!E155&\"\"","v":""},{"$f":"IF(入力シート!F155=0,\"\",入力シート!F155)","v":""},{"$f":"入力シート!I155&\"\"","v":""},{"$f":"入力シート!J155&\"\"","v":""},{"$f":"入力シート!K155&\"\"","v":""},"・","現","帳"]
[{"$f":"入力シート!A156&\"\"","v":"136"},{"$f":"入力シート!B156&\"\"","v":"高松"},null,null,{"$f":"入力シート!C156&\"\"","v":""},null,null,{"$f":"入力シート!D156&\"\"","v":""},null,{"$f":"入力シート!E156&\"\"","v":""},{"$f":"IF(入力シート!F156=0,\"\",入力シート!F156)","v":""},{"$f":"入力シート!I156&\"\"","v":""},{"$f":"入力シート!J156&\"\"","v":""},{"$f":"入力シート!K156&\"\"","v":""},"・","現","帳"]
[{"$f":"入力シート!A157&\"\"","v":"137"},{"$f":"入力シート!B157&\"\"","v":"高松"},null,null,{"$f":"入力シート!C157&\"\"","v":""},null,null,{"$f":"入力シート!D157&\"\"","v":""},null,{"$f":"入力シート!E157&\"\"","v":""},{"$f":"IF(入力シート!F157=0,\"\",入力シート!F157)","v":""},{"$f":"入力シート!I157&\"\"","v":""},{"$f":"入力シート!J157&\"\"","v":""},{"$f":"入力シート!K157&\"\"","v":""},"・","現","帳"]
[{"$f":"入力シート!A158&\"\"","v":"138"},{"$f":"入力シート!B158&\"\"","v":"高松"},null,null,{"$f":"入力シート!C158&\"\"","v":""},null,null,{"$f":"入力シート!D158&\"\"","v":""},null,{"$f":"入力シート!E158&\"\"","v":""},{"$f":"IF(入力シート!F158=0,\"\",入力シート!F158)","v":""},{"$f":"入力シート!I158&\"\"","v":""},{"$f":"入力シート!J158&\"\"","v":""},{"$f":"入力シート!K158&\"\"","v":""},"・","現","帳"]
[{"$f":"入力シート!A159&\"\"","v":"139"},{"$f":"入力シート!B159&\"\"","v":"高松"},null,null,{"$f":"入力シート!C159&\"\"","v":""},null,null,{"$f":"入力シート!D159&\"\"","v":""},null,{"$f":"入力シート!E159&\"\"","v":""},{"$f":"IF(入力シート!F159=0,\"\",入力シート!F159)","v":""},{"$f":"入力シート!I159&\"\"","v":""},{"$f":"入力シート!J159&\"\"","v":""},{"$f":"入力シート!K159&\"\"","v":""},"・","現","帳"]
[{"$f":"入力シート!A160&\"\"","v":"140"},{"$f":"入力シート!B160&\"\"","v":"高松"},null,null,{"$f":"入力シート!C160&\"\"","v":""},null,null,{"$f":"入力シート!D160&\"\"","v":""},null,{"$f":"入力シート!E160&\"\"","v":""},{"$f":"IF(入力シート!F160=0,\"\",入力シート!F160)","v":""},{"$f":"入力シート!I160&\"\"","v":""},{"$f":"入力シート!J160&\"\"","v":""},{"$f":"入力シート!K160&\"\"","v":""},"・","現","帳"]
[{"$f":"入力シート!A161&\"\"","v":"141"},{"$f":"入力シート!B161&\"\"","v":"高松"},null,null,{"$f":"入力シート!C161&\"\"","v":""},null,null,{"$f":"入力シート!D161&\"\"","v":""},null,{"$f":"入力シート!E161&\"\"","v":""},{"$f":"IF(入力シート!F161=0,\"\",入力シート!F161)","v":""},{"$f":"入力シート!I161&\"\"","v":""},{"$f":"入力シート!J161&\"\"","v":""},{"$f":"入力シート!K161&\"\"","v":""},"・","現","帳"]
[{"$f":"入力シート!A162&\"\"","v":"142"},{"$f":"入力シート!B162&\"\"","v":"高松"},null,null,{"$f":"入力シート!C162&\"\"","v":""},null,null,{"$f":"入力シート!D162&\"\"","v":""},null,{"$f":"入力シート!E162&\"\"","v":""},{"$f":"IF(入力シート!F162=0,\"\",入力シート!F162)","v":""},{"$f":"入力シート!I162&\"\"","v":""},{"$f":"入力シート!J162&\"\"","v":""},{"$f":"入力シート!K162&\"\"","v":""},"・","現","帳"]
[{"$f":"入力シート!A163&\"\"","v":"143"},{"$f":"入力シート!B163&\"\"","v":"高松"},null,null,{"$f":"入力シート!C163&\"\"","v":""},null,null,{"$f":"入力シート!D163&\"\"","v":""},null,{"$f":"入力シート!E163&\"\"","v":""},{"$f":"IF(入力シート!F163=0,\"\",入力シート!F163)","v":""},{"$f":"入力シート!I163&\"\"","v":""},{"$f":"入力シート!J163&\"\"","v":""},{"$f":"入力シート!K163&\"\"","v":""},"・","現","帳"]
[{"$f":"入力シート!A164&\"\"","v":"144"},{"$f":"入力シート!B164&\"\"","v":"高松"},null,null,{"$f":"入力シート!C164&\"\"","v":""},null,null,{"$f":"入力シート!D164&\"\"","v":""},null,{"$f":"入力シート!E164&\"\"","v":""},{"$f":"IF(入力シート!F164=0,\"\",入力シート!F164)","v":""},{"$f":"入力シート!I164&\"\"","v":""},{"$f":"入力シート!J164&\"\"","v":""},{"$f":"入力シート!K164&\"\"","v":""},"・","現","帳"]
[{"$f":"入力シート!A165&\"\"","v":"145"},{"$f":"入力シート!B165&\"\"","v":"高松"},null,null,{"$f":"入力シート!C165&\"\"","v":""},null,null,{"$f":"入力シート!D165&\"\"","v":""},null,{"$f":"入力シート!E165&\"\"","v":""},{"$f":"IF(入力シート!F165=0,\"\",入力シート!F165)","v":""},{"$f":"入力シート!I165&\"\"","v":""},{"$f":"入力シート!J165&\"\"","v":""},{"$f":"入力シート!K165&\"\"","v":""},"・","現","帳"]
[{"$f":"入力シート!A166&\"\"","v":"146"},{"$f":"入力シート!B166&\"\"","v":"高松"},null,null,{"$f":"入力シート!C166&\"\"","v":""},null,null,{"$f":"入力シート!D166&\"\"","v":""},null,{"$f":"入力シート!E166&\"\"","v":""},{"$f":"IF(入力シート!F166=0,\"\",入力シート!F166)","v":""},{"$f":"入力シート!I166&\"\"","v":""},{"$f":"入力シート!J166&\"\"","v":""},{"$f":"入力シート!K166&\"\"","v":""},"・","現","帳"]
[{"$f":"入力シート!A167&\"\"","v":"147"},{"$f":"入力シート!B167&\"\"","v":"高松"},null,null,{"$f":"入力シート!C167&\"\"","v":""},null,null,{"$f":"入力シート!D167&\"\"","v":""},null,{"$f":"入力シート!E167&\"\"","v":""},{"$f":"IF(入力シート!F167=0,\"\",入力シート!F167)","v":""},{"$f":"入力シート!I167&\"\"","v":""},{"$f":"入力シート!J167&\"\"","v":""},{"$f":"入力シート!K167&\"\"","v":""},"・","現","帳"]
[{"$f":"入力シート!A168&\"\"","v":"148"},{"$f":"入力シート!B168&\"\"","v":"高松"},null,null,{"$f":"入力シート!C168&\"\"","v":""},null,null,{"$f":"入力シート!D168&\"\"","v":""},null,{"$f":"入力シート!E168&\"\"","v":""},{"$f":"IF(入力シート!F168=0,\"\",入力シート!F168)","v":""},{"$f":"入力シート!I168&\"\"","v":""},{"$f":"入力シート!J168&\"\"","v":""},{"$f":"入力シート!K168&\"\"","v":""},"・","現","帳"]
[{"$f":"入力シート!A169&\"\"","v":"149"},{"$f":"入力シート!B169&\"\"","v":"高松"},null,null,{"$f":"入力シート!C169&\"\"","v":""},null,null,{"$f":"入力シート!D169&\"\"","v":""},null,{"$f":"入力シート!E169&\"\"","v":""},{"$f":"IF(入力シート!F169=0,\"\",入力シート!F169)","v":""},{"$f":"入力シート!I169&\"\"","v":""},{"$f":"入力シート!J169&\"\"","v":""},{"$f":"入力シート!K169&\"\"","v":""},"・","現","帳"]
[{"$f":"入力シート!A170&\"\"","v":"150"},{"$f":"入力シート!B170&\"\"","v":"高松"},null,null,{"$f":"入力シート!C170&\"\"","v":""},null,null,{"$f":"入力シート!D170&\"\"","v":""},null,{"$f":"入力シート!E170&\"\"","v":""},{"$f":"IF(入力シート!F170=0,\"\",入力シート!F170)","v":""},{"$f":"入力シート!I170&\"\"","v":""},{"$f":"入力シート!J170&\"\"","v":""},{"$f":"入力シート!K170&\"\"","v":""},"・","現","帳"]
[{"$f":"入力シート!A171&\"\"","v":"151"},{"$f":"入力シート!B171&\"\"","v":"高松"},null,null,{"$f":"入力シート!C171&\"\"","v":""},null,null,{"$f":"入力シート!D171&\"\"","v":""},null,{"$f":"入力シート!E171&\"\"","v":""},{"$f":"IF(入力シート!F171=0,\"\",入力シート!F171)","v":""},{"$f":"入力シート!I171&\"\"","v":""},{"$f":"入力シート!J171&\"\"","v":""},{"$f":"入力シート!K171&\"\"","v":""},"・","現","帳"]
[{"$f":"入力シート!A172&\"\"","v":"152"},{"$f":"入力シート!B172&\"\"","v":"高松"},null,null,{"$f":"入力シート!C172&\"\"","v":""},null,null,{"$f":"入力シート!D172&\"\"","v":""},null,{"$f":"入力シート!E172&\"\"","v":""},{"$f":"IF(入力シート!F172=0,\"\",入力シート!F172)","v":""},{"$f":"入力シート!I172&\"\"","v":""},{"$f":"入力シート!J172&\"\"","v":""},{"$f":"入力シート!K172&\"\"","v":""},"・","現","帳"]
[{"$f":"入力シート!A173&\"\"","v":"153"},{"$f":"入力シート!B173&\"\"","v":"高松"},null,null,{"$f":"入力シート!C173&\"\"","v":""},null,null,{"$f":"入力シート!D173&\"\"","v":""},null,{"$f":"入力シート!E173&\"\"","v":""},{"$f":"IF(入力シート!F173=0,\"\",入力シート!F173)","v":""},{"$f":"入力シート!I173&\"\"","v":""},{"$f":"入力シート!J173&\"\"","v":""},{"$f":"入力シート!K173&\"\"","v":""},"・","現","帳"]
[{"$f":"入力シート!A174&\"\"","v":"154"},{"$f":"入力シート!B174&\"\"","v":"高松"},null,null,{"$f":"入力シート!C174&\"\"","v":""},null,null,{"$f":"入力シート!D174&\"\"","v":""},null,{"$f":"入力シート!E174&\"\"","v":""},{"$f":"IF(入力シート!F174=0,\"\",入力シート!F174)","v":""},{"$f":"入力シート!I174&\"\"","v":""},{"$f":"入力シート!J174&\"\"","v":""},{"$f":"入力シート!K174&\"\"","v":""},"・","現","帳"]
[{"$f":"入力シート!A175&\"\"","v":"155"},{"$f":"入力シート!B175&\"\"","v":"高松"},null,null,{"$f":"入力シート!C175&\"\"","v":""},null,null,{"$f":"入力シート!D175&\"\"","v":""},null,{"$f":"入力シート!E175&\"\"","v":""},{"$f":"IF(入力シート!F175=0,\"\",入力シート!F175)","v":""},{"$f":"入力シート!I175&\"\"","v":""},{"$f":"入力シート!J175&\"\"","v":""},{"$f":"入力シート!K175&\"\"","v":""},"・","現","帳"]
[{"$f":"入力シート!A176&\"\"","v":"156"},{"$f":"入力シート!B176&\"\"","v":"高松"},null,null,{"$f":"入力シート!C176&\"\"","v":""},null,null,{"$f":"入力シート!D176&\"\"","v":""},null,{"$f":"入力シート!E176&\"\"","v":""},{"$f":"IF(入力シート!F176=0,\"\",入力シート!F176)","v":""},{"$f":"入力シート!I176&\"\"","v":""},{"$f":"入力シート!J176&\"\"","v":""},{"$f":"入力シート!K176&\"\"","v":""},"・","現","帳"]
[{"$f":"入力シート!A177&\"\"","v":"157"},{"$f":"入力シート!B177&\"\"","v":"高松"},null,null,{"$f":"入力シート!C177&\"\"","v":""},null,null,{"$f":"入力シート!D177&\"\"","v":""},null,{"$f":"入力シート!E177&\"\"","v":""},{"$f":"IF(入力シート!F177=0,\"\",入力シート!F177)","v":""},{"$f":"入力シート!I177&\"\"","v":""},{"$f":"入力シート!J177&\"\"","v":""},{"$f":"入力シート!K177&\"\"","v":""},"・","現","帳"]
[{"$f":"入力シート!A178&\"\"","v":"158"},{"$f":"入力シート!B178&\"\"","v":"高松"},null,null,{"$f":"入力シート!C178&\"\"","v":""},null,null,{"$f":"入力シート!D178&\"\"","v":""},null,{"$f":"入力シート!E178&\"\"","v":""},{"$f":"IF(入力シート!F178=0,\"\",入力シート!F178)","v":""},{"$f":"入力シート!I178&\"\"","v":""},{"$f":"入力シート!J178&\"\"","v":""},{"$f":"入力シート!K178&\"\"","v":""},"・","現","帳"]
[{"$f":"入力シート!A179&\"\"","v":"159"},{"$f":"入力シート!B179&\"\"","v":"高松"},null,null,{"$f":"入力シート!C179&\"\"","v":""},null,null,{"$f":"入力シート!D179&\"\"","v":""},null,{"$f":"入力シート!E179&\"\"","v":""},{"$f":"IF(入力シート!F179=0,\"\",入力シート!F179)","v":""},{"$f":"入力シート!I179&\"\"","v":""},{"$f":"入力シート!J179&\"\"","v":""},{"$f":"入力シート!K179&\"\"","v":""},"・","現","帳"]
[{"$f":"入力シート!A180&\"\"","v":"160"},{"$f":"入力シート!B180&\"\"","v":"高松"},null,null,{"$f":"入力シート!C180&\"\"","v":""},null,null,{"$f":"入力シート!D180&\"\"","v":""},null,{"$f":"入力シート!E180&\"\"","v":""},{"$f":"IF(入力シート!F180=0,\"\",入力シート!F180)","v":""},{"$f":"入力シート!I180&\"\"","v":""},{"$f":"入力シート!J180&\"\"","v":""},{"$f":"入力シート!K180&\"\"","v":""},"・","現","帳"]
[{"$f":"入力シート!A181&\"\"","v":"161"},{"$f":"入力シート!B181&\"\"","v":"高松"},null,null,{"$f":"入力シート!C181&\"\"","v":""},null,null,{"$f":"入力シート!D181&\"\"","v":""},null,{"$f":"入力シート!E181&\"\"","v":""},{"$f":"IF(入力シート!F181=0,\"\",入力シート!F181)","v":""},{"$f":"入力シート!I181&\"\"","v":""},{"$f":"入力シート!J181&\"\"","v":""},{"$f":"入力シート!K181&\"\"","v":""},"・","現","帳"]
[{"$f":"入力シート!A182&\"\"","v":"162"},{"$f":"入力シート!B182&\"\"","v":"高松"},null,null,{"$f":"入力シート!C182&\"\"","v":""},null,null,{"$f":"入力シート!D182&\"\"","v":""},null,{"$f":"入力シート!E182&\"\"","v":""},{"$f":"IF(入力シート!F182=0,\"\",入力シート!F182)","v":""},{"$f":"入力シート!I182&\"\"","v":""},{"$f":"入力シート!J182&\"\"","v":""},{"$f":"入力シート!K182&\"\"","v":""},"・","現","帳"]
[{"$f":"入力シート!A183&\"\"","v":"163"},{"$f":"入力シート!B183&\"\"","v":"高松"},null,null,{"$f":"入力シート!C183&\"\"","v":""},null,null,{"$f":"入力シート!D183&\"\"","v":""},null,{"$f":"入力シート!E183&\"\"","v":""},{"$f":"IF(入力シート!F183=0,\"\",入力シート!F183)","v":""},{"$f":"入力シート!I183&\"\"","v":""},{"$f":"入力シート!J183&\"\"","v":""},{"$f":"入力シート!K183&\"\"","v":""},"・","現","帳"]
[{"$f":"入力シート!A184&\"\"","v":"164"},{"$f":"入力シート!B184&\"\"","v":"高松"},null,null,{"$f":"入力シート!C184&\"\"","v":""},null,null,{"$f":"入力シート!D184&\"\"","v":""},null,{"$f":"入力シート!E184&\"\"","v":""},{"$f":"IF(入力シート!F184=0,\"\",入力シート!F184)","v":""},{"$f":"入力シート!I184&\"\"","v":""},{"$f":"入力シート!J184&\"\"","v":""},{"$f":"入力シート!K184&\"\"","v":""},"・","現","帳"]
[{"$f":"入力シート!A185&\"\"","v":"165"},{"$f":"入力シート!B185&\"\"","v":"高松"},null,null,{"$f":"入力シート!C185&\"\"","v":""},null,null,{"$f":"入力シート!D185&\"\"","v":""},null,{"$f":"入力シート!E185&\"\"","v":""},{"$f":"IF(入力シート!F185=0,\"\",入力シート!F185)","v":""},{"$f":"入力シート!I185&\"\"","v":""},{"$f":"入力シート!J185&\"\"","v":""},{"$f":"入力シート!K185&\"\"","v":""},"・","現","帳"]
[{"$f":"入力シート!A186&\"\"","v":"166"},{"$f":"入力シート!B186&\"\"","v":"高松"},null,null,{"$f":"入力シート!C186&\"\"","v":""},null,null,{"$f":"入力シート!D186&\"\"","v":""},null,{"$f":"入力シート!E186&\"\"","v":""},{"$f":"IF(入力シート!F186=0,\"\",入力シート!F186)","v":""},{"$f":"入力シート!I186&\"\"","v":""},{"$f":"入力シート!J186&\"\"","v":""},{"$f":"入力シート!K186&\"\"","v":""},"・","現","帳"]
[{"$f":"入力シート!A187&\"\"","v":"167"},{"$f":"入力シート!B187&\"\"","v":"高松"},null,null,{"$f":"入力シート!C187&\"\"","v":""},null,null,{"$f":"入力シート!D187&\"\"","v":""},null,{"$f":"入力シート!E187&\"\"","v":""},{"$f":"IF(入力シート!F187=0,\"\",入力シート!F187)","v":""},{"$f":"入力シート!I187&\"\"","v":""},{"$f":"入力シート!J187&\"\"","v":""},{"$f":"入力シート!K187&\"\"","v":""},"・","現","帳"]
[{"$f":"入力シート!A188&\"\"","v":"168"},{"$f":"入力シート!B188&\"\"","v":"高松"},null,null,{"$f":"入力シート!C188&\"\"","v":""},null,null,{"$f":"入力シート!D188&\"\"","v":""},null,{"$f":"入力シート!E188&\"\"","v":""},{"$f":"IF(入力シート!F188=0,\"\",入力シート!F188)","v":""},{"$f":"入力シート!I188&\"\"","v":""},{"$f":"入力シート!J188&\"\"","v":""},{"$f":"入力シート!K188&\"\"","v":""},"・","現","帳"]
[{"$f":"入力シート!A189&\"\"","v":"169"},{"$f":"入力シート!B189&\"\"","v":"高松"},null,null,{"$f":"入力シート!C189&\"\"","v":""},null,null,{"$f":"入力シート!D189&\"\"","v":""},null,{"$f":"入力シート!E189&\"\"","v":""},{"$f":"IF(入力シート!F189=0,\"\",入力シート!F189)","v":""},{"$f":"入力シート!I189&\"\"","v":""},{"$f":"入力シート!J189&\"\"","v":""},{"$f":"入力シート!K189&\"\"","v":""},"・","現","帳"]
[{"$f":"入力シート!A190&\"\"","v":"170"},{"$f":"入力シート!B190&\"\"","v":"高松"},null,null,{"$f":"入力シート!C190&\"\"","v":""},null,null,{"$f":"入力シート!D190&\"\"","v":""},null,{"$f":"入力シート!E190&\"\"","v":""},{"$f":"IF(入力シート!F190=0,\"\",入力シート!F190)","v":""},{"$f":"入力シート!I190&\"\"","v":""},{"$f":"入力シート!J190&\"\"","v":""},{"$f":"入力シート!K190&\"\"","v":""},"・","現","帳"]
[{"$f":"入力シート!A191&\"\"","v":"171"},{"$f":"入力シート!B191&\"\"","v":"高松"},null,null,{"$f":"入力シート!C191&\"\"","v":""},null,null,{"$f":"入力シート!D191&\"\"","v":""},null,{"$f":"入力シート!E191&\"\"","v":""},{"$f":"IF(入力シート!F191=0,\"\",入力シート!F191)","v":""},{"$f":"入力シート!I191&\"\"","v":""},{"$f":"入力シート!J191&\"\"","v":""},{"$f":"入力シート!K191&\"\"","v":""},"・","現","帳"]
[{"$f":"入力シート!A192&\"\"","v":"172"},{"$f":"入力シート!B192&\"\"","v":"高松"},null,null,{"$f":"入力シート!C192&\"\"","v":""},null,null,{"$f":"入力シート!D192&\"\"","v":""},null,{"$f":"入力シート!E192&\"\"","v":""},{"$f":"IF(入力シート!F192=0,\"\",入力シート!F192)","v":""},{"$f":"入力シート!I192&\"\"","v":""},{"$f":"入力シート!J192&\"\"","v":""},{"$f":"入力シート!K192&\"\"","v":""},"・","現","帳"]
[{"$f":"入力シート!A193&\"\"","v":"173"},{"$f":"入力シート!B193&\"\"","v":"高松"},null,null,{"$f":"入力シート!C193&\"\"","v":""},null,null,{"$f":"入力シート!D193&\"\"","v":""},null,{"$f":"入力シート!E193&\"\"","v":""},{"$f":"IF(入力シート!F193=0,\"\",入力シート!F193)","v":""},{"$f":"入力シート!I193&\"\"","v":""},{"$f":"入力シート!J193&\"\"","v":""},{"$f":"入力シート!K193&\"\"","v":""},"・","現","帳"]
[{"$f":"入力シート!A194&\"\"","v":"174"},{"$f":"入力シート!B194&\"\"","v":"高松"},null,null,{"$f":"入力シート!C194&\"\"","v":""},null,null,{"$f":"入力シート!D194&\"\"","v":""},null,{"$f":"入力シート!E194&\"\"","v":""},{"$f":"IF(入力シート!F194=0,\"\",入力シート!F194)","v":""},{"$f":"入力シート!I194&\"\"","v":""},{"$f":"入力シート!J194&\"\"","v":""},{"$f":"入力シート!K194&\"\"","v":""},"・","現","帳"]
[{"$f":"入力シート!A195&\"\"","v":"175"},{"$f":"入力シート!B195&\"\"","v":"高松"},null,null,{"$f":"入力シート!C195&\"\"","v":""},null,null,{"$f":"入力シート!D195&\"\"","v":""},null,{"$f":"入力シート!E195&\"\"","v":""},{"$f":"IF(入力シート!F195=0,\"\",入力シート!F195)","v":""},{"$f":"入力シート!I195&\"\"","v":""},{"$f":"入力シート!J195&\"\"","v":""},{"$f":"入力シート!K195&\"\"","v":""},"・","現","帳"]
[{"$f":"入力シート!A196&\"\"","v":"176"},{"$f":"入力シート!B196&\"\"","v":"高松"},null,null,{"$f":"入力シート!C196&\"\"","v":""},null,null,{"$f":"入力シート!D196&\"\"","v":""},null,{"$f":"入力シート!E196&\"\"","v":""},{"$f":"IF(入力シート!F196=0,\"\",入力シート!F196)","v":""},{"$f":"入力シート!I196&\"\"","v":""},{"$f":"入力シート!J196&\"\"","v":""},{"$f":"入力シート!K196&\"\"","v":""},"・","現","帳"]
[{"$f":"入力シート!A197&\"\"","v":"177"},{"$f":"入力シート!B197&\"\"","v":"高松"},null,null,{"$f":"入力シート!C197&\"\"","v":""},null,null,{"$f":"入力シート!D197&\"\"","v":""},null,{"$f":"入力シート!E197&\"\"","v":""},{"$f":"IF(入力シート!F197=0,\"\",入力シート!F197)","v":""},{"$f":"入力シート!I197&\"\"","v":""},{"$f":"入力シート!J197&\"\"","v":""},{"$f":"入力シート!K197&\"\"","v":""},"・","現","帳"]
[{"$f":"入力シート!A198&\"\"","v":"178"},{"$f":"入力シート!B198&\"\"","v":"高松"},null,null,{"$f":"入力シート!C198&\"\"","v":""},null,null,{"$f":"入力シート!D198&\"\"","v":""},null,{"$f":"入力シート!E198&\"\"","v":""},{"$f":"IF(入力シート!F198=0,\"\",入力シート!F198)","v":""},{"$f":"入力シート!I198&\"\"","v":""},{"$f":"入力シート!J198&\"\"","v":""},{"$f":"入力シート!K198&\"\"","v":""},"・","現","帳"]
[{"$f":"入力シート!A199&\"\"","v":"179"},{"$f":"入力シート!B199&\"\"","v":"高松"},null,null,{"$f":"入力シート!C199&\"\"","v":""},null,null,{"$f":"入力シート!D199&\"\"","v":""},null,{"$f":"入力シート!E199&\"\"","v":""},{"$f":"IF(入力シート!F199=0,\"\",入力シート!F199)","v":""},{"$f":"入力シート!I199&\"\"","v":""},{"$f":"入力シート!J199&\"\"","v":""},{"$f":"入力シート!K199&\"\"","v":""},"・","現","帳"]
[{"$f":"入力シート!A200&\"\"","v":"180"},{"$f":"入力シート!B200&\"\"","v":"高松"},null,null,{"$f":"入力シート!C200&\"\"","v":""},null,null,{"$f":"入力シート!D200&\"\"","v":""},null,{"$f":"入力シート!E200&\"\"","v":""},{"$f":"IF(入力シート!F200=0,\"\",入力シート!F200)","v":""},{"$f":"入力シート!I200&\"\"","v":""},{"$f":"入力シート!J200&\"\"","v":""},{"$f":"入力シート!K200&\"\"","v":""},"・","現","帳"]
[{"$f":"入力シート!A201&\"\"","v":"181"},{"$f":"入力シート!B201&\"\"","v":"高松"},null,null,{"$f":"入力シート!C201&\"\"","v":""},null,null,{"$f":"入力シート!D201&\"\"","v":""},null,{"$f":"入力シート!E201&\"\"","v":""},{"$f":"IF(入力シート!F201=0,\"\",入力シート!F201)","v":""},{"$f":"入力シート!I201&\"\"","v":""},{"$f":"入力シート!J201&\"\"","v":""},{"$f":"入力シート!K201&\"\"","v":""},"・","現","帳"]
[{"$f":"入力シート!A202&\"\"","v":"182"},{"$f":"入力シート!B202&\"\"","v":"高松"},null,null,{"$f":"入力シート!C202&\"\"","v":""},null,null,{"$f":"入力シート!D202&\"\"","v":""},null,{"$f":"入力シート!E202&\"\"","v":""},{"$f":"IF(入力シート!F202=0,\"\",入力シート!F202)","v":""},{"$f":"入力シート!I202&\"\"","v":""},{"$f":"入力シート!J202&\"\"","v":""},{"$f":"入力シート!K202&\"\"","v":""},"・","現","帳"]
[{"$f":"入力シート!A203&\"\"","v":"183"},{"$f":"入力シート!B203&\"\"","v":"高松"},null,null,{"$f":"入力シート!C203&\"\"","v":""},null,null,{"$f":"入力シート!D203&\"\"","v":""},null,{"$f":"入力シート!E203&\"\"","v":""},{"$f":"IF(入力シート!F203=0,\"\",入力シート!F203)","v":""},{"$f":"入力シート!I203&\"\"","v":""},{"$f":"入力シート!J203&\"\"","v":""},{"$f":"入力シート!K203&\"\"","v":""},"・","現","帳"]
[{"$f":"入力シート!A204&\"\"","v":"184"},{"$f":"入力シート!B204&\"\"","v":"高松"},null,null,{"$f":"入力シート!C204&\"\"","v":""},null,null,{"$f":"入力シート!D204&\"\"","v":""},null,{"$f":"入力シート!E204&\"\"","v":""},{"$f":"IF(入力シート!F204=0,\"\",入力シート!F204)","v":""},{"$f":"入力シート!I204&\"\"","v":""},{"$f":"入力シート!J204&\"\"","v":""},{"$f":"入力シート!K204&\"\"","v":""},"・","現","帳"]
[{"$f":"入力シート!A205&\"\"","v":"185"},{"$f":"入力シート!B205&\"\"","v":"高松"},null,null,{"$f":"入力シート!C205&\"\"","v":""},null,null,{"$f":"入力シート!D205&\"\"","v":""},null,{"$f":"入力シート!E205&\"\"","v":""},{"$f":"IF(入力シート!F205=0,\"\",入力シート!F205)","v":""},{"$f":"入力シート!I205&\"\"","v":""},{"$f":"入力シート!J205&\"\"","v":""},{"$f":"入力シート!K205&\"\"","v":""},"・","現","帳"]
[{"$f":"入力シート!A206&\"\"","v":"186"},{"$f":"入力シート!B206&\"\"","v":"高松"},null,null,{"$f":"入力シート!C206&\"\"","v":""},null,null,{"$f":"入力シート!D206&\"\"","v":""},null,{"$f":"入力シート!E206&\"\"","v":""},{"$f":"IF(入力シート!F206=0,\"\",入力シート!F206)","v":""},{"$f":"入力シート!I206&\"\"","v":""},{"$f":"入力シート!J206&\"\"","v":""},{"$f":"入力シート!K206&\"\"","v":""},"・","現","帳"]
[{"$f":"入力シート!A207&\"\"","v":"187"},{"$f":"入力シート!B207&\"\"","v":"高松"},null,null,{"$f":"入力シート!C207&\"\"","v":""},null,null,{"$f":"入力シート!D207&\"\"","v":""},null,{"$f":"入力シート!E207&\"\"","v":""},{"$f":"IF(入力シート!F207=0,\"\",入力シート!F207)","v":""},{"$f":"入力シート!I207&\"\"","v":""},{"$f":"入力シート!J207&\"\"","v":""},{"$f":"入力シート!K207&\"\"","v":""},"・","現","帳"]
[{"$f":"入力シート!A208&\"\"","v":"188"},{"$f":"入力シート!B208&\"\"","v":"高松"},null,null,{"$f":"入力シート!C208&\"\"","v":""},null,null,{"$f":"入力シート!D208&\"\"","v":""},null,{"$f":"入力シート!E208&\"\"","v":""},{"$f":"IF(入力シート!F208=0,\"\",入力シート!F208)","v":""},{"$f":"入力シート!I208&\"\"","v":""},{"$f":"入力シート!J208&\"\"","v":""},{"$f":"入力シート!K208&\"\"","v":""},"・","現","帳"]
[{"$f":"入力シート!A209&\"\"","v":"189"},{"$f":"入力シート!B209&\"\"","v":"高松"},null,null,{"$f":"入力シート!C209&\"\"","v":""},null,null,{"$f":"入力シート!D209&\"\"","v":""},null,{"$f":"入力シート!E209&\"\"","v":""},{"$f":"IF(入力シート!F209=0,\"\",入力シート!F209)","v":""},{"$f":"入力シート!I209&\"\"","v":""},{"$f":"入力シート!J209&\"\"","v":""},{"$f":"入力シート!K209&\"\"","v":""},"・","現","帳"]
[{"$f":"入力シート!A210&\"\"","v":"190"},{"$f":"入力シート!B210&\"\"","v":"高松"},null,null,{"$f":"入力シート!C210&\"\"","v":""},null,null,{"$f":"入力シート!D210&\"\"","v":""},null,{"$f":"入力シート!E210&\"\"","v":""},{"$f":"IF(入力シート!F210=0,\"\",入力シート!F210)","v":""},{"$f":"入力シート!I210&\"\"","v":""},{"$f":"入力シート!J210&\"\"","v":""},{"$f":"入力シート!K210&\"\"","v":""},"・","現","帳"]
[{"$f":"入力シート!A211&\"\"","v":"191"},{"$f":"入力シート!B211&\"\"","v":"高松"},null,null,{"$f":"入力シート!C211&\"\"","v":""},null,null,{"$f":"入力シート!D211&\"\"","v":""},null,{"$f":"入力シート!E211&\"\"","v":""},{"$f":"IF(入力シート!F211=0,\"\",入力シート!F211)","v":""},{"$f":"入力シート!I211&\"\"","v":""},{"$f":"入力シート!J211&\"\"","v":""},{"$f":"入力シート!K211&\"\"","v":""},"・","現","帳"]
[{"$f":"入力シート!A212&\"\"","v":"192"},{"$f":"入力シート!B212&\"\"","v":"高松"},null,null,{"$f":"入力シート!C212&\"\"","v":""},null,null,{"$f":"入力シート!D212&\"\"","v":""},null,{"$f":"入力シート!E212&\"\"","v":""},{"$f":"IF(入力シート!F212=0,\"\",入力シート!F212)","v":""},{"$f":"入力シート!I212&\"\"","v":""},{"$f":"入力シート!J212&\"\"","v":""},{"$f":"入力シート!K212&\"\"","v":""},"・","現","帳"]
[{"$f":"入力シート!A213&\"\"","v":"193"},{"$f":"入力シート!B213&\"\"","v":"高松"},null,null,{"$f":"入力シート!C213&\"\"","v":""},null,null,{"$f":"入力シート!D213&\"\"","v":""},null,{"$f":"入力シート!E213&\"\"","v":""},{"$f":"IF(入力シート!F213=0,\"\",入力シート!F213)","v":""},{"$f":"入力シート!I213&\"\"","v":""},{"$f":"入力シート!J213&\"\"","v":""},{"$f":"入力シート!K213&\"\"","v":""},"・","現","帳"]
[{"$f":"入力シート!A214&\"\"","v":"194"},{"$f":"入力シート!B214&\"\"","v":"高松"},null,null,{"$f":"入力シート!C214&\"\"","v":""},null,null,{"$f":"入力シート!D214&\"\"","v":""},null,{"$f":"入力シート!E214&\"\"","v":""},{"$f":"IF(入力シート!F214=0,\"\",入力シート!F214)","v":""},{"$f":"入力シート!I214&\"\"","v":""},{"$f":"入力シート!J214&\"\"","v":""},{"$f":"入力シート!K214&\"\"","v":""},"・","現","帳"]
[{"$f":"入力シート!A215&\"\"","v":"195"},{"$f":"入力シート!B215&\"\"","v":"高松"},null,null,{"$f":"入力シート!C215&\"\"","v":""},null,null,{"$f":"入力シート!D215&\"\"","v":""},null,{"$f":"入力シート!E215&\"\"","v":""},{"$f":"IF(入力シート!F215=0,\"\",入力シート!F215)","v":""},{"$f":"入力シート!I215&\"\"","v":""},{"$f":"入力シート!J215&\"\"","v":""},{"$f":"入力シート!K215&\"\"","v":""},"・","現","帳"]
[{"$f":"入力シート!A216&\"\"","v":"196"},{"$f":"入力シート!B216&\"\"","v":"高松"},null,null,{"$f":"入力シート!C216&\"\"","v":""},null,null,{"$f":"入力シート!D216&\"\"","v":""},null,{"$f":"入力シート!E216&\"\"","v":""},{"$f":"IF(入力シート!F216=0,\"\",入力シート!F216)","v":""},{"$f":"入力シート!I216&\"\"","v":""},{"$f":"入力シート!J216&\"\"","v":""},{"$f":"入力シート!K216&\"\"","v":""},"・","現","帳"]
[{"$f":"入力シート!A217&\"\"","v":"197"},{"$f":"入力シート!B217&\"\"","v":"高松"},null,null,{"$f":"入力シート!C217&\"\"","v":""},null,null,{"$f":"入力シート!D217&\"\"","v":""},null,{"$f":"入力シート!E217&\"\"","v":""},{"$f":"IF(入力シート!F217=0,\"\",入力シート!F217)","v":""},{"$f":"入力シート!I217&\"\"","v":""},{"$f":"入力シート!J217&\"\"","v":""},{"$f":"入力シート!K217&\"\"","v":""},"・","現","帳"]
[{"$f":"入力シート!A218&\"\"","v":"198"},{"$f":"入力シート!B218&\"\"","v":"高松"},null,null,{"$f":"入力シート!C218&\"\"","v":""},null,null,{"$f":"入力シート!D218&\"\"","v":""},null,{"$f":"入力シート!E218&\"\"","v":""},{"$f":"IF(入力シート!F218=0,\"\",入力シート!F218)","v":""},{"$f":"入力シート!I218&\"\"","v":""},{"$f":"入力シート!J218&\"\"","v":""},{"$f":"入力シート!K218&\"\"","v":""},"・","現","帳"]
[{"$f":"入力シート!A219&\"\"","v":"199"},{"$f":"入力シート!B219&\"\"","v":"高松"},null,null,{"$f":"入力シート!C219&\"\"","v":""},null,null,{"$f":"入力シート!D219&\"\"","v":""},null,{"$f":"入力シート!E219&\"\"","v":""},{"$f":"IF(入力シート!F219=0,\"\",入力シート!F219)","v":""},{"$f":"入力シート!I219&\"\"","v":""},{"$f":"入力シート!J219&\"\"","v":""},{"$f":"入力シート!K219&\"\"","v":""},"・","現","帳"]
[{"$f":"入力シート!A220&\"\"","v":"200"},{"$f":"入力シート!B220&\"\"","v":"高松"},null,null,{"$f":"入力シート!C220&\"\"","v":""},null,null,{"$f":"入力シート!D220&\"\"","v":""},null,{"$f":"入力シート!E220&\"\"","v":""},{"$f":"IF(入力シート!F220=0,\"\",入力シート!F220)","v":""},{"$f":"入力シート!I220&\"\"","v":""},{"$f":"入力シート!J220&\"\"","v":""},{"$f":"入力シート!K220&\"\"","v":""},"・","現","帳"]
[{"$f":"入力シート!A221&\"\"","v":"201"},{"$f":"入力シート!B221&\"\"","v":"高松"},null,null,{"$f":"入力シート!C221&\"\"","v":""},null,null,{"$f":"入力シート!D221&\"\"","v":""},null,{"$f":"入力シート!E221&\"\"","v":""},{"$f":"IF(入力シート!F221=0,\"\",入力シート!F221)","v":""},{"$f":"入力シート!I221&\"\"","v":""},{"$f":"入力シート!J221&\"\"","v":""},{"$f":"入力シート!K221&\"\"","v":""},"・","現","帳"]
[{"$f":"入力シート!A222&\"\"","v":"202"},{"$f":"入力シート!B222&\"\"","v":"高松"},null,null,{"$f":"入力シート!C222&\"\"","v":""},null,null,{"$f":"入力シート!D222&\"\"","v":""},null,{"$f":"入力シート!E222&\"\"","v":""},{"$f":"IF(入力シート!F222=0,\"\",入力シート!F222)","v":""},{"$f":"入力シート!I222&\"\"","v":""},{"$f":"入力シート!J222&\"\"","v":""},{"$f":"入力シート!K222&\"\"","v":""},"・","現","帳"]
[{"$f":"入力シート!A223&\"\"","v":"203"},{"$f":"入力シート!B223&\"\"","v":"高松"},null,null,{"$f":"入力シート!C223&\"\"","v":""},null,null,{"$f":"入力シート!D223&\"\"","v":""},null,{"$f":"入力シート!E223&\"\"","v":""},{"$f":"IF(入力シート!F223=0,\"\",入力シート!F223)","v":""},{"$f":"入力シート!I223&\"\"","v":""},{"$f":"入力シート!J223&\"\"","v":""},{"$f":"入力シート!K223&\"\"","v":""},"・","現","帳"]
[{"$f":"入力シート!A224&\"\"","v":"204"},{"$f":"入力シート!B224&\"\"","v":"高松"},null,null,{"$f":"入力シート!C224&\"\"","v":""},null,null,{"$f":"入力シート!D224&\"\"","v":""},null,{"$f":"入力シート!E224&\"\"","v":""},{"$f":"IF(入力シート!F224=0,\"\",入力シート!F224)","v":""},{"$f":"入力シート!I224&\"\"","v":""},{"$f":"入力シート!J224&\"\"","v":""},{"$f":"入力シート!K224&\"\"","v":""},"・","現","帳"]
[{"$f":"入力シート!A225&\"\"","v":"205"},{"$f":"入力シート!B225&\"\"","v":"高松"},null,null,{"$f":"入力シート!C225&\"\"","v":""},null,null,{"$f":"入力シート!D225&\"\"","v":""},null,{"$f":"入力シート!E225&\"\"","v":""},{"$f":"IF(入力シート!F225=0,\"\",入力シート!F225)","v":""},{"$f":"入力シート!I225&\"\"","v":""},{"$f":"入力シート!J225&\"\"","v":""},{"$f":"入力シート!K225&\"\"","v":""},"・","現","帳"]
[{"$f":"入力シート!A226&\"\"","v":"206"},{"$f":"入力シート!B226&\"\"","v":"高松"},null,null,{"$f":"入力シート!C226&\"\"","v":""},null,null,{"$f":"入力シート!D226&\"\"","v":""},null,{"$f":"入力シート!E226&\"\"","v":""},{"$f":"IF(入力シート!F226=0,\"\",入力シート!F226)","v":""},{"$f":"入力シート!I226&\"\"","v":""},{"$f":"入力シート!J226&\"\"","v":""},{"$f":"入力シート!K226&\"\"","v":""},"・","現","帳"]
[{"$f":"入力シート!A227&\"\"","v":"207"},{"$f":"入力シート!B227&\"\"","v":"高松"},null,null,{"$f":"入力シート!C227&\"\"","v":""},null,null,{"$f":"入力シート!D227&\"\"","v":""},null,{"$f":"入力シート!E227&\"\"","v":""},{"$f":"IF(入力シート!F227=0,\"\",入力シート!F227)","v":""},{"$f":"入力シート!I227&\"\"","v":""},{"$f":"入力シート!J227&\"\"","v":""},{"$f":"入力シート!K227&\"\"","v":""},"・","現","帳"]
[{"$f":"入力シート!A228&\"\"","v":"208"},{"$f":"入力シート!B228&\"\"","v":"高松"},null,null,{"$f":"入力シート!C228&\"\"","v":""},null,null,{"$f":"入力シート!D228&\"\"","v":""},null,{"$f":"入力シート!E228&\"\"","v":""},{"$f":"IF(入力シート!F228=0,\"\",入力シート!F228)","v":""},{"$f":"入力シート!I228&\"\"","v":""},{"$f":"入力シート!J228&\"\"","v":""},{"$f":"入力シート!K228&\"\"","v":""},"・","現","帳"]
[{"$f":"入力シート!A229&\"\"","v":"209"},{"$f":"入力シート!B229&\"\"","v":"高松"},null,null,{"$f":"入力シート!C229&\"\"","v":""},null,null,{"$f":"入力シート!D229&\"\"","v":""},null,{"$f":"入力シート!E229&\"\"","v":""},{"$f":"IF(入力シート!F229=0,\"\",入力シート!F229)","v":""},{"$f":"入力シート!I229&\"\"","v":""},{"$f":"入力シート!J229&\"\"","v":""},{"$f":"入力シート!K229&\"\"","v":""},"・","現","帳"]
[{"$f":"入力シート!A230&\"\"","v":"210"},{"$f":"入力シート!B230&\"\"","v":"高松"},null,null,{"$f":"入力シート!C230&\"\"","v":""},null,null,{"$f":"入力シート!D230&\"\"","v":""},null,{"$f":"入力シート!E230&\"\"","v":""},{"$f":"IF(入力シート!F230=0,\"\",入力シート!F230)","v":""},{"$f":"入力シート!I230&\"\"","v":""},{"$f":"入力シート!J230&\"\"","v":""},{"$f":"入力シート!K230&\"\"","v":""},"・","現","帳"]
[{"$f":"入力シート!A231&\"\"","v":"211"},{"$f":"入力シート!B231&\"\"","v":"高松"},null,null,{"$f":"入力シート!C231&\"\"","v":""},null,null,{"$f":"入力シート!D231&\"\"","v":""},null,{"$f":"入力シート!E231&\"\"","v":""},{"$f":"IF(入力シート!F231=0,\"\",入力シート!F231)","v":""},{"$f":"入力シート!I231&\"\"","v":""},{"$f":"入力シート!J231&\"\"","v":""},{"$f":"入力シート!K231&\"\"","v":""},"・","現","帳"]
[{"$f":"入力シート!A232&\"\"","v":"212"},{"$f":"入力シート!B232&\"\"","v":"高松"},null,null,{"$f":"入力シート!C232&\"\"","v":""},null,null,{"$f":"入力シート!D232&\"\"","v":""},null,{"$f":"入力シート!E232&\"\"","v":""},{"$f":"IF(入力シート!F232=0,\"\",入力シート!F232)","v":""},{"$f":"入力シート!I232&\"\"","v":""},{"$f":"入力シート!J232&\"\"","v":""},{"$f":"入力シート!K232&\"\"","v":""},"・","現","帳"]
[{"$f":"入力シート!A233&\"\"","v":"213"},{"$f":"入力シート!B233&\"\"","v":"高松"},null,null,{"$f":"入力シート!C233&\"\"","v":""},null,null,{"$f":"入力シート!D233&\"\"","v":""},null,{"$f":"入力シート!E233&\"\"","v":""},{"$f":"IF(入力シート!F233=0,\"\",入力シート!F233)","v":""},{"$f":"入力シート!I233&\"\"","v":""},{"$f":"入力シート!J233&\"\"","v":""},{"$f":"入力シート!K233&\"\"","v":""},"・","現","帳"]
[{"$f":"入力シート!A234&\"\"","v":"214"},{"$f":"入力シート!B234&\"\"","v":"高松"},null,null,{"$f":"入力シート!C234&\"\"","v":""},null,null,{"$f":"入力シート!D234&\"\"","v":""},null,{"$f":"入力シート!E234&\"\"","v":""},{"$f":"IF(入力シート!F234=0,\"\",入力シート!F234)","v":""},{"$f":"入力シート!I234&\"\"","v":""},{"$f":"入力シート!J234&\"\"","v":""},{"$f":"入力シート!K234&\"\"","v":""},"・","現","帳"]
[{"$f":"入力シート!A235&\"\"","v":"215"},{"$f":"入力シート!B235&\"\"","v":"高松"},null,null,{"$f":"入力シート!C235&\"\"","v":""},null,null,{"$f":"入力シート!D235&\"\"","v":""},null,{"$f":"入力シート!E235&\"\"","v":""},{"$f":"IF(入力シート!F235=0,\"\",入力シート!F235)","v":""},{"$f":"入力シート!I235&\"\"","v":""},{"$f":"入力シート!J235&\"\"","v":""},{"$f":"入力シート!K235&\"\"","v":""},"・","現","帳"]
[{"$f":"入力シート!A236&\"\"","v":"216"},{"$f":"入力シート!B236&\"\"","v":"高松"},null,null,{"$f":"入力シート!C236&\"\"","v":""},null,null,{"$f":"入力シート!D236&\"\"","v":""},null,{"$f":"入力シート!E236&\"\"","v":""},{"$f":"IF(入力シート!F236=0,\"\",入力シート!F236)","v":""},{"$f":"入力シート!I236&\"\"","v":""},{"$f":"入力シート!J236&\"\"","v":""},{"$f":"入力シート!K236&\"\"","v":""},"・","現","帳"]
[{"$f":"入力シート!A237&\"\"","v":"217"},{"$f":"入力シート!B237&\"\"","v":"高松"},null,null,{"$f":"入力シート!C237&\"\"","v":""},null,null,{"$f":"入力シート!D237&\"\"","v":""},null,{"$f":"入力シート!E237&\"\"","v":""},{"$f":"IF(入力シート!F237=0,\"\",入力シート!F237)","v":""},{"$f":"入力シート!I237&\"\"","v":""},{"$f":"入力シート!J237&\"\"","v":""},{"$f":"入力シート!K237&\"\"","v":""},"・","現","帳"]
[{"$f":"入力シート!A238&\"\"","v":"218"},{"$f":"入力シート!B238&\"\"","v":"高松"},null,null,{"$f":"入力シート!C238&\"\"","v":""},null,null,{"$f":"入力シート!D238&\"\"","v":""},null,{"$f":"入力シート!E238&\"\"","v":""},{"$f":"IF(入力シート!F238=0,\"\",入力シート!F238)","v":""},{"$f":"入力シート!I238&\"\"","v":""},{"$f":"入力シート!J238&\"\"","v":""},{"$f":"入力シート!K238&\"\"","v":""},"・","現","帳"]
[{"$f":"入力シート!A239&\"\"","v":"219"},{"$f":"入力シート!B239&\"\"","v":"高松"},null,null,{"$f":"入力シート!C239&\"\"","v":""},null,null,{"$f":"入力シート!D239&\"\"","v":""},null,{"$f":"入力シート!E239&\"\"","v":""},{"$f":"IF(入力シート!F239=0,\"\",入力シート!F239)","v":""},{"$f":"入力シート!I239&\"\"","v":""},{"$f":"入力シート!J239&\"\"","v":""},{"$f":"入力シート!K239&\"\"","v":""},"・","現","帳"]
[{"$f":"入力シート!A240&\"\"","v":"220"},{"$f":"入力シート!B240&\"\"","v":"高松"},null,null,{"$f":"入力シート!C240&\"\"","v":""},null,null,{"$f":"入力シート!D240&\"\"","v":""},null,{"$f":"入力シート!E240&\"\"","v":""},{"$f":"IF(入力シート!F240=0,\"\",入力シート!F240)","v":""},{"$f":"入力シート!I240&\"\"","v":""},{"$f":"入力シート!J240&\"\"","v":""},{"$f":"入力シート!K240&\"\"","v":""},"・","現","帳"]
[{"$f":"入力シート!A241&\"\"","v":"221"},{"$f":"入力シート!B241&\"\"","v":"高松"},null,null,{"$f":"入力シート!C241&\"\"","v":""},null,null,{"$f":"入力シート!D241&\"\"","v":""},null,{"$f":"入力シート!E241&\"\"","v":""},{"$f":"IF(入力シート!F241=0,\"\",入力シート!F241)","v":""},{"$f":"入力シート!I241&\"\"","v":""},{"$f":"入力シート!J241&\"\"","v":""},{"$f":"入力シート!K241&\"\"","v":""},"・","現","帳"]
[{"$f":"入力シート!A242&\"\"","v":"222"},{"$f":"入力シート!B242&\"\"","v":"高松"},null,null,{"$f":"入力シート!C242&\"\"","v":""},null,null,{"$f":"入力シート!D242&\"\"","v":""},null,{"$f":"入力シート!E242&\"\"","v":""},{"$f":"IF(入力シート!F242=0,\"\",入力シート!F242)","v":""},{"$f":"入力シート!I242&\"\"","v":""},{"$f":"入力シート!J242&\"\"","v":""},{"$f":"入力シート!K242&\"\"","v":""},"・","現","帳"]
[{"$f":"入力シート!A243&\"\"","v":"223"},{"$f":"入力シート!B243&\"\"","v":"高松"},null,null,{"$f":"入力シート!C243&\"\"","v":""},null,null,{"$f":"入力シート!D243&\"\"","v":""},null,{"$f":"入力シート!E243&\"\"","v":""},{"$f":"IF(入力シート!F243=0,\"\",入力シート!F243)","v":""},{"$f":"入力シート!I243&\"\"","v":""},{"$f":"入力シート!J243&\"\"","v":""},{"$f":"入力シート!K243&\"\"","v":""},"・","現","帳"]
[{"$f":"入力シート!A244&\"\"","v":"224"},{"$f":"入力シート!B244&\"\"","v":"高松"},null,null,{"$f":"入力シート!C244&\"\"","v":""},null,null,{"$f":"入力シート!D244&\"\"","v":""},null,{"$f":"入力シート!E244&\"\"","v":""},{"$f":"IF(入力シート!F244=0,\"\",入力シート!F244)","v":""},{"$f":"入力シート!I244&\"\"","v":""},{"$f":"入力シート!J244&\"\"","v":""},{"$f":"入力シート!K244&\"\"","v":""},"・","現","帳"]
[{"$f":"入力シート!A245&\"\"","v":"225"},{"$f":"入力シート!B245&\"\"","v":"高松"},null,null,{"$f":"入力シート!C245&\"\"","v":""},null,null,{"$f":"入力シート!D245&\"\"","v":""},null,{"$f":"入力シート!E245&\"\"","v":""},{"$f":"IF(入力シート!F245=0,\"\",入力シート!F245)","v":""},{"$f":"入力シート!I245&\"\"","v":""},{"$f":"入力シート!J245&\"\"","v":""},{"$f":"入力シート!K245&\"\"","v":""},"・","現","帳"]
[{"$f":"入力シート!A246&\"\"","v":"226"},{"$f":"入力シート!B246&\"\"","v":"高松"},null,null,{"$f":"入力シート!C246&\"\"","v":""},null,null,{"$f":"入力シート!D246&\"\"","v":""},null,{"$f":"入力シート!E246&\"\"","v":""},{"$f":"IF(入力シート!F246=0,\"\",入力シート!F246)","v":""},{"$f":"入力シート!I246&\"\"","v":""},{"$f":"入力シート!J246&\"\"","v":""},{"$f":"入力シート!K246&\"\"","v":""},"・","現","帳"]
[{"$f":"入力シート!A247&\"\"","v":"227"},{"$f":"入力シート!B247&\"\"","v":"高松"},null,null,{"$f":"入力シート!C247&\"\"","v":""},null,null,{"$f":"入力シート!D247&\"\"","v":""},null,{"$f":"入力シート!E247&\"\"","v":""},{"$f":"IF(入力シート!F247=0,\"\",入力シート!F247)","v":""},{"$f":"入力シート!I247&\"\"","v":""},{"$f":"入力シート!J247&\"\"","v":""},{"$f":"入力シート!K247&\"\"","v":""},"・","現","帳"]
[{"$f":"入力シート!A248&\"\"","v":"228"},{"$f":"入力シート!B248&\"\"","v":"高松"},null,null,{"$f":"入力シート!C248&\"\"","v":""},null,null,{"$f":"入力シート!D248&\"\"","v":""},null,{"$f":"入力シート!E248&\"\"","v":""},{"$f":"IF(入力シート!F248=0,\"\",入力シート!F248)","v":""},{"$f":"入力シート!I248&\"\"","v":""},{"$f":"入力シート!J248&\"\"","v":""},{"$f":"入力シート!K248&\"\"","v":""},"・","現","帳"]
[{"$f":"入力シート!A249&\"\"","v":"229"},{"$f":"入力シート!B249&\"\"","v":"高松"},null,null,{"$f":"入力シート!C249&\"\"","v":""},null,null,{"$f":"入力シート!D249&\"\"","v":""},null,{"$f":"入力シート!E249&\"\"","v":""},{"$f":"IF(入力シート!F249=0,\"\",入力シート!F249)","v":""},{"$f":"入力シート!I249&\"\"","v":""},{"$f":"入力シート!J249&\"\"","v":""},{"$f":"入力シート!K249&\"\"","v":""},"・","現","帳"]
[{"$f":"入力シート!A250&\"\"","v":"230"},{"$f":"入力シート!B250&\"\"","v":"高松"},null,null,{"$f":"入力シート!C250&\"\"","v":""},null,null,{"$f":"入力シート!D250&\"\"","v":""},null,{"$f":"入力シート!E250&\"\"","v":""},{"$f":"IF(入力シート!F250=0,\"\",入力シート!F250)","v":""},{"$f":"入力シート!I250&\"\"","v":""},{"$f":"入力シート!J250&\"\"","v":""},{"$f":"入力シート!K250&\"\"","v":""},"・","現","帳"]
[{"$f":"入力シート!A251&\"\"","v":"231"},{"$f":"入力シート!B251&\"\"","v":"高松"},null,null,{"$f":"入力シート!C251&\"\"","v":""},null,null,{"$f":"入力シート!D251&\"\"","v":""},null,{"$f":"入力シート!E251&\"\"","v":""},{"$f":"IF(入力シート!F251=0,\"\",入力シート!F251)","v":""},{"$f":"入力シート!I251&\"\"","v":""},{"$f":"入力シート!J251&\"\"","v":""},{"$f":"入力シート!K251&\"\"","v":""},"・","現","帳"]
[{"$f":"入力シート!A252&\"\"","v":"232"},{"$f":"入力シート!B252&\"\"","v":"高松"},null,null,{"$f":"入力シート!C252&\"\"","v":""},null,null,{"$f":"入力シート!D252&\"\"","v":""},null,{"$f":"入力シート!E252&\"\"","v":""},{"$f":"IF(入力シート!F252=0,\"\",入力シート!F252)","v":""},{"$f":"入力シート!I252&\"\"","v":""},{"$f":"入力シート!J252&\"\"","v":""},{"$f":"入力シート!K252&\"\"","v":""},"・","現","帳"]
[{"$f":"入力シート!A253&\"\"","v":"233"},{"$f":"入力シート!B253&\"\"","v":"高松"},null,null,{"$f":"入力シート!C253&\"\"","v":""},null,null,{"$f":"入力シート!D253&\"\"","v":""},null,{"$f":"入力シート!E253&\"\"","v":""},{"$f":"IF(入力シート!F253=0,\"\",入力シート!F253)","v":""},{"$f":"入力シート!I253&\"\"","v":""},{"$f":"入力シート!J253&\"\"","v":""},{"$f":"入力シート!K253&\"\"","v":""},"・","現","帳"]
[{"$f":"入力シート!A254&\"\"","v":"234"},{"$f":"入力シート!B254&\"\"","v":"高松"},null,null,{"$f":"入力シート!C254&\"\"","v":""},null,null,{"$f":"入力シート!D254&\"\"","v":""},null,{"$f":"入力シート!E254&\"\"","v":""},{"$f":"IF(入力シート!F254=0,\"\",入力シート!F254)","v":""},{"$f":"入力シート!I254&\"\"","v":""},{"$f":"入力シート!J254&\"\"","v":""},{"$f":"入力シート!K254&\"\"","v":""},"・","現","帳"]
[{"$f":"入力シート!A255&\"\"","v":"235"},{"$f":"入力シート!B255&\"\"","v":"高松"},null,null,{"$f":"入力シート!C255&\"\"","v":""},null,null,{"$f":"入力シート!D255&\"\"","v":""},null,{"$f":"入力シート!E255&\"\"","v":""},{"$f":"IF(入力シート!F255=0,\"\",入力シート!F255)","v":""},{"$f":"入力シート!I255&\"\"","v":""},{"$f":"入力シート!J255&\"\"","v":""},{"$f":"入力シート!K255&\"\"","v":""},"・","現","帳"]
[{"$f":"入力シート!A256&\"\"","v":"236"},{"$f":"入力シート!B256&\"\"","v":"高松"},null,null,{"$f":"入力シート!C256&\"\"","v":""},null,null,{"$f":"入力シート!D256&\"\"","v":""},null,{"$f":"入力シート!E256&\"\"","v":""},{"$f":"IF(入力シート!F256=0,\"\",入力シート!F256)","v":""},{"$f":"入力シート!I256&\"\"","v":""},{"$f":"入力シート!J256&\"\"","v":""},{"$f":"入力シート!K256&\"\"","v":""},"・","現","帳"]
[{"$f":"入力シート!A257&\"\"","v":"237"},{"$f":"入力シート!B257&\"\"","v":"高松"},null,null,{"$f":"入力シート!C257&\"\"","v":""},null,null,{"$f":"入力シート!D257&\"\"","v":""},null,{"$f":"入力シート!E257&\"\"","v":""},{"$f":"IF(入力シート!F257=0,\"\",入力シート!F257)","v":""},{"$f":"入力シート!I257&\"\"","v":""},{"$f":"入力シート!J257&\"\"","v":""},{"$f":"入力シート!K257&\"\"","v":""},"・","現","帳"]
[{"$f":"入力シート!A258&\"\"","v":"238"},{"$f":"入力シート!B258&\"\"","v":"高松"},null,null,{"$f":"入力シート!C258&\"\"","v":""},null,null,{"$f":"入力シート!D258&\"\"","v":""},null,{"$f":"入力シート!E258&\"\"","v":""},{"$f":"IF(入力シート!F258=0,\"\",入力シート!F258)","v":""},{"$f":"入力シート!I258&\"\"","v":""},{"$f":"入力シート!J258&\"\"","v":""},{"$f":"入力シート!K258&\"\"","v":""},"・","現","帳"]
[{"$f":"入力シート!A259&\"\"","v":"239"},{"$f":"入力シート!B259&\"\"","v":"高松"},null,null,{"$f":"入力シート!C259&\"\"","v":""},null,null,{"$f":"入力シート!D259&\"\"","v":""},null,{"$f":"入力シート!E259&\"\"","v":""},{"$f":"IF(入力シート!F259=0,\"\",入力シート!F259)","v":""},{"$f":"入力シート!I259&\"\"","v":""},{"$f":"入力シート!J259&\"\"","v":""},{"$f":"入力シート!K259&\"\"","v":""},"・","現","帳"]
[{"$f":"入力シート!A260&\"\"","v":"240"},{"$f":"入力シート!B260&\"\"","v":"高松"},null,null,{"$f":"入力シート!C260&\"\"","v":""},null,null,{"$f":"入力シート!D260&\"\"","v":""},null,{"$f":"入力シート!E260&\"\"","v":""},{"$f":"IF(入力シート!F260=0,\"\",入力シート!F260)","v":""},{"$f":"入力シート!I260&\"\"","v":""},{"$f":"入力シート!J260&\"\"","v":""},{"$f":"入力シート!K260&\"\"","v":""},"・","現","帳"]
[{"$f":"入力シート!A261&\"\"","v":"241"},{"$f":"入力シート!B261&\"\"","v":"高松"},null,null,{"$f":"入力シート!C261&\"\"","v":""},null,null,{"$f":"入力シート!D261&\"\"","v":""},null,{"$f":"入力シート!E261&\"\"","v":""},{"$f":"IF(入力シート!F261=0,\"\",入力シート!F261)","v":""},{"$f":"入力シート!I261&\"\"","v":""},{"$f":"入力シート!J261&\"\"","v":""},{"$f":"入力シート!K261&\"\"","v":""},"・","現","帳"]
[{"$f":"入力シート!A262&\"\"","v":"242"},{"$f":"入力シート!B262&\"\"","v":"高松"},null,null,{"$f":"入力シート!C262&\"\"","v":""},null,null,{"$f":"入力シート!D262&\"\"","v":""},null,{"$f":"入力シート!E262&\"\"","v":""},{"$f":"IF(入力シート!F262=0,\"\",入力シート!F262)","v":""},{"$f":"入力シート!I262&\"\"","v":""},{"$f":"入力シート!J262&\"\"","v":""},{"$f":"入力シート!K262&\"\"","v":""},"・","現","帳"]
[{"$f":"入力シート!A263&\"\"","v":"243"},{"$f":"入力シート!B263&\"\"","v":"高松"},null,null,{"$f":"入力シート!C263&\"\"","v":""},null,null,{"$f":"入力シート!D263&\"\"","v":""},null,{"$f":"入力シート!E263&\"\"","v":""},{"$f":"IF(入力シート!F263=0,\"\",入力シート!F263)","v":""},{"$f":"入力シート!I263&\"\"","v":""},{"$f":"入力シート!J263&\"\"","v":""},{"$f":"入力シート!K263&\"\"","v":""},"・","現","帳"]
[{"$f":"入力シート!A264&\"\"","v":"244"},{"$f":"入力シート!B264&\"\"","v":"高松"},null,null,{"$f":"入力シート!C264&\"\"","v":""},null,null,{"$f":"入力シート!D264&\"\"","v":""},null,{"$f":"入力シート!E264&\"\"","v":""},{"$f":"IF(入力シート!F264=0,\"\",入力シート!F264)","v":""},{"$f":"入力シート!I264&\"\"","v":""},{"$f":"入力シート!J264&\"\"","v":""},{"$f":"入力シート!K264&\"\"","v":""},"・","現","帳"]
[{"$f":"入力シート!A265&\"\"","v":"245"},{"$f":"入力シート!B265&\"\"","v":"高松"},null,null,{"$f":"入力シート!C265&\"\"","v":""},null,null,{"$f":"入力シート!D265&\"\"","v":""},null,{"$f":"入力シート!E265&\"\"","v":""},{"$f":"IF(入力シート!F265=0,\"\",入力シート!F265)","v":""},{"$f":"入力シート!I265&\"\"","v":""},{"$f":"入力シート!J265&\"\"","v":""},{"$f":"入力シート!K265&\"\"","v":""},"・","現","帳"]
[{"$f":"入力シート!A266&\"\"","v":"246"},{"$f":"入力シート!B266&\"\"","v":"高松"},null,null,{"$f":"入力シート!C266&\"\"","v":""},null,null,{"$f":"入力シート!D266&\"\"","v":""},null,{"$f":"入力シート!E266&\"\"","v":""},{"$f":"IF(入力シート!F266=0,\"\",入力シート!F266)","v":""},{"$f":"入力シート!I266&\"\"","v":""},{"$f":"入力シート!J266&\"\"","v":""},{"$f":"入力シート!K266&\"\"","v":""},"・","現","帳"]
[{"$f":"入力シート!A267&\"\"","v":"247"},{"$f":"入力シート!B267&\"\"","v":"高松"},null,null,{"$f":"入力シート!C267&\"\"","v":""},null,null,{"$f":"入力シート!D267&\"\"","v":""},null,{"$f":"入力シート!E267&\"\"","v":""},{"$f":"IF(入力シート!F267=0,\"\",入力シート!F267)","v":""},{"$f":"入力シート!I267&\"\"","v":""},{"$f":"入力シート!J267&\"\"","v":""},{"$f":"入力シート!K267&\"\"","v":""},"・","現","帳"]
[{"$f":"入力シート!A268&\"\"","v":"248"},{"$f":"入力シート!B268&\"\"","v":"高松"},null,null,{"$f":"入力シート!C268&\"\"","v":""},null,null,{"$f":"入力シート!D268&\"\"","v":""},null,{"$f":"入力シート!E268&\"\"","v":""},{"$f":"IF(入力シート!F268=0,\"\",入力シート!F268)","v":""},{"$f":"入力シート!I268&\"\"","v":""},{"$f":"入力シート!J268&\"\"","v":""},{"$f":"入力シート!K268&\"\"","v":""},"・","現","帳"]
[{"$f":"入力シート!A269&\"\"","v":"249"},{"$f":"入力シート!B269&\"\"","v":"高松"},null,null,{"$f":"入力シート!C269&\"\"","v":""},null,null,{"$f":"入力シート!D269&\"\"","v":""},null,{"$f":"入力シート!E269&\"\"","v":""},{"$f":"IF(入力シート!F269=0,\"\",入力シート!F269)","v":""},{"$f":"入力シート!I269&\"\"","v":""},{"$f":"入力シート!J269&\"\"","v":""},{"$f":"入力シート!K269&\"\"","v":""},"・","現","帳"]
[{"$f":"入力シート!A270&\"\"","v":"250"},{"$f":"入力シート!B270&\"\"","v":"高松"},null,null,{"$f":"入力シート!C270&\"\"","v":""},null,null,{"$f":"入力シート!D270&\"\"","v":""},null,{"$f":"入力シート!E270&\"\"","v":""},{"$f":"IF(入力シート!F270=0,\"\",入力シート!F270)","v":""},{"$f":"入力シート!I270&\"\"","v":""},{"$f":"入力シート!J270&\"\"","v":""},{"$f":"入力シート!K270&\"\"","v":""},"・","現","帳"]
[{"$f":"入力シート!A271&\"\"","v":"251"},{"$f":"入力シート!B271&\"\"","v":"高松"},null,null,{"$f":"入力シート!C271&\"\"","v":""},null,null,{"$f":"入力シート!D271&\"\"","v":""},null,{"$f":"入力シート!E271&\"\"","v":""},{"$f":"IF(入力シート!F271=0,\"\",入力シート!F271)","v":""},{"$f":"入力シート!I271&\"\"","v":""},{"$f":"入力シート!J271&\"\"","v":""},{"$f":"入力シート!K271&\"\"","v":""},"・","現","帳"]
[{"$f":"入力シート!A272&\"\"","v":"252"},{"$f":"入力シート!B272&\"\"","v":"高松"},null,null,{"$f":"入力シート!C272&\"\"","v":""},null,null,{"$f":"入力シート!D272&\"\"","v":""},null,{"$f":"入力シート!E272&\"\"","v":""},{"$f":"IF(入力シート!F272=0,\"\",入力シート!F272)","v":""},{"$f":"入力シート!I272&\"\"","v":""},{"$f":"入力シート!J272&\"\"","v":""},{"$f":"入力シート!K272&\"\"","v":""},"・","現","帳"]
[{"$f":"入力シート!A273&\"\"","v":"253"},{"$f":"入力シート!B273&\"\"","v":"高松"},null,null,{"$f":"入力シート!C273&\"\"","v":""},null,null,{"$f":"入力シート!D273&\"\"","v":""},null,{"$f":"入力シート!E273&\"\"","v":""},{"$f":"IF(入力シート!F273=0,\"\",入力シート!F273)","v":""},{"$f":"入力シート!I273&\"\"","v":""},{"$f":"入力シート!J273&\"\"","v":""},{"$f":"入力シート!K273&\"\"","v":""},"・","現","帳"]
[{"$f":"入力シート!A274&\"\"","v":"254"},{"$f":"入力シート!B274&\"\"","v":"高松"},null,null,{"$f":"入力シート!C274&\"\"","v":""},null,null,{"$f":"入力シート!D274&\"\"","v":""},null,{"$f":"入力シート!E274&\"\"","v":""},{"$f":"IF(入力シート!F274=0,\"\",入力シート!F274)","v":""},{"$f":"入力シート!I274&\"\"","v":""},{"$f":"入力シート!J274&\"\"","v":""},{"$f":"入力シート!K274&\"\"","v":""},"・","現","帳"]
[{"$f":"入力シート!A275&\"\"","v":"255"},{"$f":"入力シート!B275&\"\"","v":"高松"},null,null,{"$f":"入力シート!C275&\"\"","v":""},null,null,{"$f":"入力シート!D275&\"\"","v":""},null,{"$f":"入力シート!E275&\"\"","v":""},{"$f":"IF(入力シート!F275=0,\"\",入力シート!F275)","v":""},{"$f":"入力シート!I275&\"\"","v":""},{"$f":"入力シート!J275&\"\"","v":""},{"$f":"入力シート!K275&\"\"","v":""},"・","現","帳"]
[{"$f":"入力シート!A276&\"\"","v":"256"},{"$f":"入力シート!B276&\"\"","v":"高松"},null,null,{"$f":"入力シート!C276&\"\"","v":""},null,null,{"$f":"入力シート!D276&\"\"","v":""},null,{"$f":"入力シート!E276&\"\"","v":""},{"$f":"IF(入力シート!F276=0,\"\",入力シート!F276)","v":""},{"$f":"入力シート!I276&\"\"","v":""},{"$f":"入力シート!J276&\"\"","v":""},{"$f":"入力シート!K276&\"\"","v":""},"・","現","帳"]
[{"$f":"入力シート!A277&\"\"","v":"257"},{"$f":"入力シート!B277&\"\"","v":"高松"},null,null,{"$f":"入力シート!C277&\"\"","v":""},null,null,{"$f":"入力シート!D277&\"\"","v":""},null,{"$f":"入力シート!E277&\"\"","v":""},{"$f":"IF(入力シート!F277=0,\"\",入力シート!F277)","v":""},{"$f":"入力シート!I277&\"\"","v":""},{"$f":"入力シート!J277&\"\"","v":""},{"$f":"入力シート!K277&\"\"","v":""},"・","現","帳"]
[{"$f":"入力シート!A278&\"\"","v":"258"},{"$f":"入力シート!B278&\"\"","v":"高松"},null,null,{"$f":"入力シート!C278&\"\"","v":""},null,null,{"$f":"入力シート!D278&\"\"","v":""},null,{"$f":"入力シート!E278&\"\"","v":""},{"$f":"IF(入力シート!F278=0,\"\",入力シート!F278)","v":""},{"$f":"入力シート!I278&\"\"","v":""},{"$f":"入力シート!J278&\"\"","v":""},{"$f":"入力シート!K278&\"\"","v":""},"・","現","帳"]
[{"$f":"入力シート!A279&\"\"","v":"259"},{"$f":"入力シート!B279&\"\"","v":"高松"},null,null,{"$f":"入力シート!C279&\"\"","v":""},null,null,{"$f":"入力シート!D279&\"\"","v":""},null,{"$f":"入力シート!E279&\"\"","v":""},{"$f":"IF(入力シート!F279=0,\"\",入力シート!F279)","v":""},{"$f":"入力シート!I279&\"\"","v":""},{"$f":"入力シート!J279&\"\"","v":""},{"$f":"入力シート!K279&\"\"","v":""},"・","現","帳"]
[{"$f":"入力シート!A280&\"\"","v":"260"},{"$f":"入力シート!B280&\"\"","v":"高松"},null,null,{"$f":"入力シート!C280&\"\"","v":""},null,null,{"$f":"入力シート!D280&\"\"","v":""},null,{"$f":"入力シート!E280&\"\"","v":""},{"$f":"IF(入力シート!F280=0,\"\",入力シート!F280)","v":""},{"$f":"入力シート!I280&\"\"","v":""},{"$f":"入力シート!J280&\"\"","v":""},{"$f":"入力シート!K280&\"\"","v":""},"・","現","帳"]
[{"$f":"入力シート!A281&\"\"","v":"261"},{"$f":"入力シート!B281&\"\"","v":"高松"},null,null,{"$f":"入力シート!C281&\"\"","v":""},null,null,{"$f":"入力シート!D281&\"\"","v":""},null,{"$f":"入力シート!E281&\"\"","v":""},{"$f":"IF(入力シート!F281=0,\"\",入力シート!F281)","v":""},{"$f":"入力シート!I281&\"\"","v":""},{"$f":"入力シート!J281&\"\"","v":""},{"$f":"入力シート!K281&\"\"","v":""},"・","現","帳"]
[{"$f":"入力シート!A282&\"\"","v":"262"},{"$f":"入力シート!B282&\"\"","v":"高松"},null,null,{"$f":"入力シート!C282&\"\"","v":""},null,null,{"$f":"入力シート!D282&\"\"","v":""},null,{"$f":"入力シート!E282&\"\"","v":""},{"$f":"IF(入力シート!F282=0,\"\",入力シート!F282)","v":""},{"$f":"入力シート!I282&\"\"","v":""},{"$f":"入力シート!J282&\"\"","v":""},{"$f":"入力シート!K282&\"\"","v":""},"・","現","帳"]
[{"$f":"入力シート!A283&\"\"","v":"263"},{"$f":"入力シート!B283&\"\"","v":"高松"},null,null,{"$f":"入力シート!C283&\"\"","v":""},null,null,{"$f":"入力シート!D283&\"\"","v":""},null,{"$f":"入力シート!E283&\"\"","v":""},{"$f":"IF(入力シート!F283=0,\"\",入力シート!F283)","v":""},{"$f":"入力シート!I283&\"\"","v":""},{"$f":"入力シート!J283&\"\"","v":""},{"$f":"入力シート!K283&\"\"","v":""},"・","現","帳"]
[{"$f":"入力シート!A284&\"\"","v":"264"},{"$f":"入力シート!B284&\"\"","v":"高松"},null,null,{"$f":"入力シート!C284&\"\"","v":""},null,null,{"$f":"入力シート!D284&\"\"","v":""},null,{"$f":"入力シート!E284&\"\"","v":""},{"$f":"IF(入力シート!F284=0,\"\",入力シート!F284)","v":""},{"$f":"入力シート!I284&\"\"","v":""},{"$f":"入力シート!J284&\"\"","v":""},{"$f":"入力シート!K284&\"\"","v":""},"・","現","帳"]
[{"$f":"入力シート!A285&\"\"","v":"265"},{"$f":"入力シート!B285&\"\"","v":"高松"},null,null,{"$f":"入力シート!C285&\"\"","v":""},null,null,{"$f":"入力シート!D285&\"\"","v":""},null,{"$f":"入力シート!E285&\"\"","v":""},{"$f":"IF(入力シート!F285=0,\"\",入力シート!F285)","v":""},{"$f":"入力シート!I285&\"\"","v":""},{"$f":"入力シート!J285&\"\"","v":""},{"$f":"入力シート!K285&\"\"","v":""},"・","現","帳"]
[{"$f":"入力シート!A286&\"\"","v":"266"},{"$f":"入力シート!B286&\"\"","v":"高松"},null,null,{"$f":"入力シート!C286&\"\"","v":""},null,null,{"$f":"入力シート!D286&\"\"","v":""},null,{"$f":"入力シート!E286&\"\"","v":""},{"$f":"IF(入力シート!F286=0,\"\",入力シート!F286)","v":""},{"$f":"入力シート!I286&\"\"","v":""},{"$f":"入力シート!J286&\"\"","v":""},{"$f":"入力シート!K286&\"\"","v":""},"・","現","帳"]
[{"$f":"入力シート!A287&\"\"","v":"267"},{"$f":"入力シート!B287&\"\"","v":"高松"},null,null,{"$f":"入力シート!C287&\"\"","v":""},null,null,{"$f":"入力シート!D287&\"\"","v":""},null,{"$f":"入力シート!E287&\"\"","v":""},{"$f":"IF(入力シート!F287=0,\"\",入力シート!F287)","v":""},{"$f":"入力シート!I287&\"\"","v":""},{"$f":"入力シート!J287&\"\"","v":""},{"$f":"入力シート!K287&\"\"","v":""},"・","現","帳"]
[{"$f":"入力シート!A288&\"\"","v":"268"},{"$f":"入力シート!B288&\"\"","v":"高松"},null,null,{"$f":"入力シート!C288&\"\"","v":""},null,null,{"$f":"入力シート!D288&\"\"","v":""},null,{"$f":"入力シート!E288&\"\"","v":""},{"$f":"IF(入力シート!F288=0,\"\",入力シート!F288)","v":""},{"$f":"入力シート!I288&\"\"","v":""},{"$f":"入力シート!J288&\"\"","v":""},{"$f":"入力シート!K288&\"\"","v":""},"・","現","帳"]
[{"$f":"入力シート!A289&\"\"","v":"269"},{"$f":"入力シート!B289&\"\"","v":"高松"},null,null,{"$f":"入力シート!C289&\"\"","v":""},null,null,{"$f":"入力シート!D289&\"\"","v":""},null,{"$f":"入力シート!E289&\"\"","v":""},{"$f":"IF(入力シート!F289=0,\"\",入力シート!F289)","v":""},{"$f":"入力シート!I289&\"\"","v":""},{"$f":"入力シート!J289&\"\"","v":""},{"$f":"入力シート!K289&\"\"","v":""},"・","現","帳"]
[{"$f":"入力シート!A290&\"\"","v":"270"},{"$f":"入力シート!B290&\"\"","v":"高松"},null,null,{"$f":"入力シート!C290&\"\"","v":""},null,null,{"$f":"入力シート!D290&\"\"","v":""},null,{"$f":"入力シート!E290&\"\"","v":""},{"$f":"IF(入力シート!F290=0,\"\",入力シート!F290)","v":""},{"$f":"入力シート!I290&\"\"","v":""},{"$f":"入力シート!J290&\"\"","v":""},{"$f":"入力シート!K290&\"\"","v":""},"・","現","帳"]
[{"$f":"入力シート!A291&\"\"","v":"271"},{"$f":"入力シート!B291&\"\"","v":"高松"},null,null,{"$f":"入力シート!C291&\"\"","v":""},null,null,{"$f":"入力シート!D291&\"\"","v":""},null,{"$f":"入力シート!E291&\"\"","v":""},{"$f":"IF(入力シート!F291=0,\"\",入力シート!F291)","v":""},{"$f":"入力シート!I291&\"\"","v":""},{"$f":"入力シート!J291&\"\"","v":""},{"$f":"入力シート!K291&\"\"","v":""},"・","現","帳"]
[{"$f":"入力シート!A292&\"\"","v":"272"},{"$f":"入力シート!B292&\"\"","v":"高松"},null,null,{"$f":"入力シート!C292&\"\"","v":""},null,null,{"$f":"入力シート!D292&\"\"","v":""},null,{"$f":"入力シート!E292&\"\"","v":""},{"$f":"IF(入力シート!F292=0,\"\",入力シート!F292)","v":""},{"$f":"入力シート!I292&\"\"","v":""},{"$f":"入力シート!J292&\"\"","v":""},{"$f":"入力シート!K292&\"\"","v":""},"・","現","帳"]
[{"$f":"入力シート!A293&\"\"","v":"273"},{"$f":"入力シート!B293&\"\"","v":"高松"},null,null,{"$f":"入力シート!C293&\"\"","v":""},null,null,{"$f":"入力シート!D293&\"\"","v":""},null,{"$f":"入力シート!E293&\"\"","v":""},{"$f":"IF(入力シート!F293=0,\"\",入力シート!F293)","v":""},{"$f":"入力シート!I293&\"\"","v":""},{"$f":"入力シート!J293&\"\"","v":""},{"$f":"入力シート!K293&\"\"","v":""},"・","現","帳"]
[{"$f":"入力シート!A294&\"\"","v":"274"},{"$f":"入力シート!B294&\"\"","v":"高松"},null,null,{"$f":"入力シート!C294&\"\"","v":""},null,null,{"$f":"入力シート!D294&\"\"","v":""},null,{"$f":"入力シート!E294&\"\"","v":""},{"$f":"IF(入力シート!F294=0,\"\",入力シート!F294)","v":""},{"$f":"入力シート!I294&\"\"","v":""},{"$f":"入力シート!J294&\"\"","v":""},{"$f":"入力シート!K294&\"\"","v":""},"・","現","帳"]
[{"$f":"入力シート!A295&\"\"","v":"275"},{"$f":"入力シート!B295&\"\"","v":"高松"},null,null,{"$f":"入力シート!C295&\"\"","v":""},null,null,{"$f":"入力シート!D295&\"\"","v":""},null,{"$f":"入力シート!E295&\"\"","v":""},{"$f":"IF(入力シート!F295=0,\"\",入力シート!F295)","v":""},{"$f":"入力シート!I295&\"\"","v":""},{"$f":"入力シート!J295&\"\"","v":""},{"$f":"入力シート!K295&\"\"","v":""},"・","現","帳"]
[{"$f":"入力シート!A296&\"\"","v":"276"},{"$f":"入力シート!B296&\"\"","v":"高松"},null,null,{"$f":"入力シート!C296&\"\"","v":""},null,null,{"$f":"入力シート!D296&\"\"","v":""},null,{"$f":"入力シート!E296&\"\"","v":""},{"$f":"IF(入力シート!F296=0,\"\",入力シート!F296)","v":""},{"$f":"入力シート!I296&\"\"","v":""},{"$f":"入力シート!J296&\"\"","v":""},{"$f":"入力シート!K296&\"\"","v":""},"・","現","帳"]
[{"$f":"入力シート!A297&\"\"","v":"277"},{"$f":"入力シート!B297&\"\"","v":"高松"},null,null,{"$f":"入力シート!C297&\"\"","v":""},null,null,{"$f":"入力シート!D297&\"\"","v":""},null,{"$f":"入力シート!E297&\"\"","v":""},{"$f":"IF(入力シート!F297=0,\"\",入力シート!F297)","v":""},{"$f":"入力シート!I297&\"\"","v":""},{"$f":"入力シート!J297&\"\"","v":""},{"$f":"入力シート!K297&\"\"","v":""},"・","現","帳"]
[{"$f":"入力シート!A298&\"\"","v":"278"},{"$f":"入力シート!B298&\"\"","v":"高松"},null,null,{"$f":"入力シート!C298&\"\"","v":""},null,null,{"$f":"入力シート!D298&\"\"","v":""},null,{"$f":"入力シート!E298&\"\"","v":""},{"$f":"IF(入力シート!F298=0,\"\",入力シート!F298)","v":""},{"$f":"入力シート!I298&\"\"","v":""},{"$f":"入力シート!J298&\"\"","v":""},{"$f":"入力シート!K298&\"\"","v":""},"・","現","帳"]
[{"$f":"入力シート!A299&\"\"","v":"279"},{"$f":"入力シート!B299&\"\"","v":"高松"},null,null,{"$f":"入力シート!C299&\"\"","v":""},null,null,{"$f":"入力シート!D299&\"\"","v":""},null,{"$f":"入力シート!E299&\"\"","v":""},{"$f":"IF(入力シート!F299=0,\"\",入力シート!F299)","v":""},{"$f":"入力シート!I299&\"\"","v":""},{"$f":"入力シート!J299&\"\"","v":""},{"$f":"入力シート!K299&\"\"","v":""},"・","現","帳"]
[{"$f":"入力シート!A300&\"\"","v":"280"},{"$f":"入力シート!B300&\"\"","v":"高松"},null,null,{"$f":"入力シート!C300&\"\"","v":""},null,null,{"$f":"入力シート!D300&\"\"","v":""},null,{"$f":"入力シート!E300&\"\"","v":""},{"$f":"IF(入力シート!F300=0,\"\",入力シート!F300)","v":""},{"$f":"入力シート!I300&\"\"","v":""},{"$f":"入力シート!J300&\"\"","v":""},{"$f":"入力シート!K300&\"\"","v":""},"・","現","帳"]
[{"$f":"入力シート!A301&\"\"","v":"281"},{"$f":"入力シート!B301&\"\"","v":"高松"},null,null,{"$f":"入力シート!C301&\"\"","v":""},null,null,{"$f":"入力シート!D301&\"\"","v":""},null,{"$f":"入力シート!E301&\"\"","v":""},{"$f":"IF(入力シート!F301=0,\"\",入力シート!F301)","v":""},{"$f":"入力シート!I301&\"\"","v":""},{"$f":"入力シート!J301&\"\"","v":""},{"$f":"入力シート!K301&\"\"","v":""},"・","現","帳"]
[{"$f":"入力シート!A302&\"\"","v":"282"},{"$f":"入力シート!B302&\"\"","v":"高松"},null,null,{"$f":"入力シート!C302&\"\"","v":""},null,null,{"$f":"入力シート!D302&\"\"","v":""},null,{"$f":"入力シート!E302&\"\"","v":""},{"$f":"IF(入力シート!F302=0,\"\",入力シート!F302)","v":""},{"$f":"入力シート!I302&\"\"","v":""},{"$f":"入力シート!J302&\"\"","v":""},{"$f":"入力シート!K302&\"\"","v":""},"・","現","帳"]
[{"$f":"入力シート!A303&\"\"","v":"283"},{"$f":"入力シート!B303&\"\"","v":"高松"},null,null,{"$f":"入力シート!C303&\"\"","v":""},null,null,{"$f":"入力シート!D303&\"\"","v":""},null,{"$f":"入力シート!E303&\"\"","v":""},{"$f":"IF(入力シート!F303=0,\"\",入力シート!F303)","v":""},{"$f":"入力シート!I303&\"\"","v":""},{"$f":"入力シート!J303&\"\"","v":""},{"$f":"入力シート!K303&\"\"","v":""},"・","現","帳"]
[{"$f":"入力シート!A304&\"\"","v":"284"},{"$f":"入力シート!B304&\"\"","v":"高松"},null,null,{"$f":"入力シート!C304&\"\"","v":""},null,null,{"$f":"入力シート!D304&\"\"","v":""},null,{"$f":"入力シート!E304&\"\"","v":""},{"$f":"IF(入力シート!F304=0,\"\",入力シート!F304)","v":""},{"$f":"入力シート!I304&\"\"","v":""},{"$f":"入力シート!J304&\"\"","v":""},{"$f":"入力シート!K304&\"\"","v":""},"・","現","帳"]
[{"$f":"入力シート!A305&\"\"","v":"285"},{"$f":"入力シート!B305&\"\"","v":"高松"},null,null,{"$f":"入力シート!C305&\"\"","v":""},null,null,{"$f":"入力シート!D305&\"\"","v":""},null,{"$f":"入力シート!E305&\"\"","v":""},{"$f":"IF(入力シート!F305=0,\"\",入力シート!F305)","v":""},{"$f":"入力シート!I305&\"\"","v":""},{"$f":"入力シート!J305&\"\"","v":""},{"$f":"入力シート!K305&\"\"","v":""},"・","現","帳"]
[{"$f":"入力シート!A306&\"\"","v":"286"},{"$f":"入力シート!B306&\"\"","v":"高松"},null,null,{"$f":"入力シート!C306&\"\"","v":""},null,null,{"$f":"入力シート!D306&\"\"","v":""},null,{"$f":"入力シート!E306&\"\"","v":""},{"$f":"IF(入力シート!F306=0,\"\",入力シート!F306)","v":""},{"$f":"入力シート!I306&\"\"","v":""},{"$f":"入力シート!J306&\"\"","v":""},{"$f":"入力シート!K306&\"\"","v":""},"・","現","帳"]
[{"$f":"入力シート!A307&\"\"","v":"287"},{"$f":"入力シート!B307&\"\"","v":"高松"},null,null,{"$f":"入力シート!C307&\"\"","v":""},null,null,{"$f":"入力シート!D307&\"\"","v":""},null,{"$f":"入力シート!E307&\"\"","v":""},{"$f":"IF(入力シート!F307=0,\"\",入力シート!F307)","v":""},{"$f":"入力シート!I307&\"\"","v":""},{"$f":"入力シート!J307&\"\"","v":""},{"$f":"入力シート!K307&\"\"","v":""},"・","現","帳"]
[{"$f":"入力シート!A308&\"\"","v":"288"},{"$f":"入力シート!B308&\"\"","v":"高松"},null,null,{"$f":"入力シート!C308&\"\"","v":""},null,null,{"$f":"入力シート!D308&\"\"","v":""},null,{"$f":"入力シート!E308&\"\"","v":""},{"$f":"IF(入力シート!F308=0,\"\",入力シート!F308)","v":""},{"$f":"入力シート!I308&\"\"","v":""},{"$f":"入力シート!J308&\"\"","v":""},{"$f":"入力シート!K308&\"\"","v":""},"・","現","帳"]
[{"$f":"入力シート!A309&\"\"","v":"289"},{"$f":"入力シート!B309&\"\"","v":"高松"},null,null,{"$f":"入力シート!C309&\"\"","v":""},null,null,{"$f":"入力シート!D309&\"\"","v":""},null,{"$f":"入力シート!E309&\"\"","v":""},{"$f":"IF(入力シート!F309=0,\"\",入力シート!F309)","v":""},{"$f":"入力シート!I309&\"\"","v":""},{"$f":"入力シート!J309&\"\"","v":""},{"$f":"入力シート!K309&\"\"","v":""},"・","現","帳"]
[{"$f":"入力シート!A310&\"\"","v":"290"},{"$f":"入力シート!B310&\"\"","v":"高松"},null,null,{"$f":"入力シート!C310&\"\"","v":""},null,null,{"$f":"入力シート!D310&\"\"","v":""},null,{"$f":"入力シート!E310&\"\"","v":""},{"$f":"IF(入力シート!F310=0,\"\",入力シート!F310)","v":""},{"$f":"入力シート!I310&\"\"","v":""},{"$f":"入力シート!J310&\"\"","v":""},{"$f":"入力シート!K310&\"\"","v":""},"・","現","帳"]
[{"$f":"入力シート!A311&\"\"","v":"291"},{"$f":"入力シート!B311&\"\"","v":"高松"},null,null,{"$f":"入力シート!C311&\"\"","v":""},null,null,{"$f":"入力シート!D311&\"\"","v":""},null,{"$f":"入力シート!E311&\"\"","v":""},{"$f":"IF(入力シート!F311=0,\"\",入力シート!F311)","v":""},{"$f":"入力シート!I311&\"\"","v":""},{"$f":"入力シート!J311&\"\"","v":""},{"$f":"入力シート!K311&\"\"","v":""},"・","現","帳"]
[{"$f":"入力シート!A312&\"\"","v":"292"},{"$f":"入力シート!B312&\"\"","v":"高松"},null,null,{"$f":"入力シート!C312&\"\"","v":""},null,null,{"$f":"入力シート!D312&\"\"","v":""},null,{"$f":"入力シート!E312&\"\"","v":""},{"$f":"IF(入力シート!F312=0,\"\",入力シート!F312)","v":""},{"$f":"入力シート!I312&\"\"","v":""},{"$f":"入力シート!J312&\"\"","v":""},{"$f":"入力シート!K312&\"\"","v":""},"・","現","帳"]
[{"$f":"入力シート!A313&\"\"","v":"293"},{"$f":"入力シート!B313&\"\"","v":"高松"},null,null,{"$f":"入力シート!C313&\"\"","v":""},null,null,{"$f":"入力シート!D313&\"\"","v":""},null,{"$f":"入力シート!E313&\"\"","v":""},{"$f":"IF(入力シート!F313=0,\"\",入力シート!F313)","v":""},{"$f":"入力シート!I313&\"\"","v":""},{"$f":"入力シート!J313&\"\"","v":""},{"$f":"入力シート!K313&\"\"","v":""},"・","現","帳"]
[{"$f":"入力シート!A314&\"\"","v":"294"},{"$f":"入力シート!B314&\"\"","v":"高松"},null,null,{"$f":"入力シート!C314&\"\"","v":""},null,null,{"$f":"入力シート!D314&\"\"","v":""},null,{"$f":"入力シート!E314&\"\"","v":""},{"$f":"IF(入力シート!F314=0,\"\",入力シート!F314)","v":""},{"$f":"入力シート!I314&\"\"","v":""},{"$f":"入力シート!J314&\"\"","v":""},{"$f":"入力シート!K314&\"\"","v":""},"・","現","帳"]
[{"$f":"入力シート!A315&\"\"","v":"295"},{"$f":"入力シート!B315&\"\"","v":"高松"},null,null,{"$f":"入力シート!C315&\"\"","v":""},null,null,{"$f":"入力シート!D315&\"\"","v":""},null,{"$f":"入力シート!E315&\"\"","v":""},{"$f":"IF(入力シート!F315=0,\"\",入力シート!F315)","v":""},{"$f":"入力シート!I315&\"\"","v":""},{"$f":"入力シート!J315&\"\"","v":""},{"$f":"入力シート!K315&\"\"","v":""},"・","現","帳"]
[{"$f":"入力シート!A316&\"\"","v":"296"},{"$f":"入力シート!B316&\"\"","v":"高松"},null,null,{"$f":"入力シート!C316&\"\"","v":""},null,null,{"$f":"入力シート!D316&\"\"","v":""},null,{"$f":"入力シート!E316&\"\"","v":""},{"$f":"IF(入力シート!F316=0,\"\",入力シート!F316)","v":""},{"$f":"入力シート!I316&\"\"","v":""},{"$f":"入力シート!J316&\"\"","v":""},{"$f":"入力シート!K316&\"\"","v":""},"・","現","帳"]
[{"$f":"入力シート!A317&\"\"","v":"297"},{"$f":"入力シート!B317&\"\"","v":"高松"},null,null,{"$f":"入力シート!C317&\"\"","v":""},null,null,{"$f":"入力シート!D317&\"\"","v":""},null,{"$f":"入力シート!E317&\"\"","v":""},{"$f":"IF(入力シート!F317=0,\"\",入力シート!F317)","v":""},{"$f":"入力シート!I317&\"\"","v":""},{"$f":"入力シート!J317&\"\"","v":""},{"$f":"入力シート!K317&\"\"","v":""},"・","現","帳"]
[{"$f":"入力シート!A318&\"\"","v":"298"},{"$f":"入力シート!B318&\"\"","v":"高松"},null,null,{"$f":"入力シート!C318&\"\"","v":""},null,null,{"$f":"入力シート!D318&\"\"","v":""},null,{"$f":"入力シート!E318&\"\"","v":""},{"$f":"IF(入力シート!F318=0,\"\",入力シート!F318)","v":""},{"$f":"入力シート!I318&\"\"","v":""},{"$f":"入力シート!J318&\"\"","v":""},{"$f":"入力シート!K318&\"\"","v":""},"・","現","帳"]
[{"$f":"入力シート!A319&\"\"","v":"299"},{"$f":"入力シート!B319&\"\"","v":"高松"},null,null,{"$f":"入力シート!C319&\"\"","v":""},null,null,{"$f":"入力シート!D319&\"\"","v":""},null,{"$f":"入力シート!E319&\"\"","v":""},{"$f":"IF(入力シート!F319=0,\"\",入力シート!F319)","v":""},{"$f":"入力シート!I319&\"\"","v":""},{"$f":"入力シート!J319&\"\"","v":""},{"$f":"入力シート!K319&\"\"","v":""},"・","現","帳"]
[{"$f":"入力シート!A320&\"\"","v":"300"},{"$f":"入力シート!B320&\"\"","v":"高松"},null,null,{"$f":"入力シート!C320&\"\"","v":""},null,null,{"$f":"入力シート!D320&\"\"","v":""},null,{"$f":"入力シート!E320&\"\"","v":""},{"$f":"IF(入力シート!F320=0,\"\",入力シート!F320)","v":""},{"$f":"入力シート!I320&\"\"","v":""},{"$f":"入力シート!J320&\"\"","v":""},{"$f":"入力シート!K320&\"\"","v":""},"・","現","帳"]
[{"$f":"入力シート!A321&\"\"","v":"301"},{"$f":"入力シート!B321&\"\"","v":"高松"},null,null,{"$f":"入力シート!C321&\"\"","v":""},null,null,{"$f":"入力シート!D321&\"\"","v":""},null,{"$f":"入力シート!E321&\"\"","v":""},{"$f":"IF(入力シート!F321=0,\"\",入力シート!F321)","v":""},{"$f":"入力シート!I321&\"\"","v":""},{"$f":"入力シート!J321&\"\"","v":""},{"$f":"入力シート!K321&\"\"","v":""},"・","現","帳"]
[{"$f":"入力シート!A322&\"\"","v":""},{"$f":"入力シート!B322&\"\"","v":""},null,null,{"$f":"入力シート!C322&\"\"","v":""},null,null,{"$f":"入力シート!D322&\"\"","v":""},null,{"$f":"入力シート!E322&\"\"","v":""},{"$f":"IF(入力シート!F322=0,\"\",入力シート!F322)","v":""},{"$f":"入力シート!I322&\"\"","v":""},{"$f":"入力シート!J322&\"\"","v":""},{"$f":"入力シート!K322&\"\"","v":""},"・","現","帳"]
[{"$f":"入力シート!A323&\"\"","v":""},{"$f":"入力シート!B323&\"\"","v":""},null,null,{"$f":"入力シート!C323&\"\"","v":""},null,null,{"$f":"入力シート!D323&\"\"","v":""},null,{"$f":"入力シート!E323&\"\"","v":""},{"$f":"IF(入力シート!F323=0,\"\",入力シート!F323)","v":""},{"$f":"入力シート!I323&\"\"","v":""},{"$f":"入力シート!J323&\"\"","v":""},{"$f":"入力シート!K323&\"\"","v":""},"・","現","帳"]
[{"$f":"入力シート!A324&\"\"","v":""},{"$f":"入力シート!B324&\"\"","v":""},null,null,{"$f":"入力シート!C324&\"\"","v":""},null,null,{"$f":"入力シート!D324&\"\"","v":""},null,{"$f":"入力シート!E324&\"\"","v":""},{"$f":"IF(入力シート!F324=0,\"\",入力シート!F324)","v":""},{"$f":"入力シート!I324&\"\"","v":""},{"$f":"入力シート!J324&\"\"","v":""},{"$f":"入力シート!K324&\"\"","v":""},"・","現","帳"]
[{"$f":"入力シート!A325&\"\"","v":""},{"$f":"入力シート!B325&\"\"","v":""},null,null,{"$f":"入力シート!C325&\"\"","v":""},null,null,{"$f":"入力シート!D325&\"\"","v":""},null,{"$f":"入力シート!E325&\"\"","v":""},{"$f":"IF(入力シート!F325=0,\"\",入力シート!F325)","v":""},{"$f":"入力シート!I325&\"\"","v":""},{"$f":"入力シート!J325&\"\"","v":""},{"$f":"入力シート!K325&\"\"","v":""},"・","現","帳"]
[{"$f":"入力シート!A326&\"\"","v":""},{"$f":"入力シート!B326&\"\"","v":""},null,null,{"$f":"入力シート!C326&\"\"","v":""},null,null,{"$f":"入力シート!D326&\"\"","v":""},null,{"$f":"入力シート!E326&\"\"","v":""},{"$f":"IF(入力シート!F326=0,\"\",入力シート!F326)","v":""},{"$f":"入力シート!I326&\"\"","v":""},{"$f":"入力シート!J326&\"\"","v":""},{"$f":"入力シート!K326&\"\"","v":""},"・","現","帳"]
[{"$f":"入力シート!A327&\"\"","v":""},{"$f":"入力シート!B327&\"\"","v":""},null,null,{"$f":"入力シート!C327&\"\"","v":""},null,null,{"$f":"入力シート!D327&\"\"","v":""},null,{"$f":"入力シート!E327&\"\"","v":""},{"$f":"IF(入力シート!F327=0,\"\",入力シート!F327)","v":""},{"$f":"入力シート!I327&\"\"","v":""},{"$f":"入力シート!J327&\"\"","v":""},{"$f":"入力シート!K327&\"\"","v":""},"・","現","帳"]
[{"$f":"入力シート!A328&\"\"","v":""},{"$f":"入力シート!B328&\"\"","v":""},null,null,{"$f":"入力シート!C328&\"\"","v":""},null,null,{"$f":"入力シート!D328&\"\"","v":""},null,{"$f":"入力シート!E328&\"\"","v":""},{"$f":"IF(入力シート!F328=0,\"\",入力シート!F328)","v":""},{"$f":"入力シート!I328&\"\"","v":""},{"$f":"入力シート!J328&\"\"","v":""},{"$f":"入力シート!K328&\"\"","v":""},"・","現","帳"]
[{"$f":"入力シート!A329&\"\"","v":""},{"$f":"入力シート!B329&\"\"","v":""},null,null,{"$f":"入力シート!C329&\"\"","v":""},null,null,{"$f":"入力シート!D329&\"\"","v":""},null,{"$f":"入力シート!E329&\"\"","v":""},{"$f":"IF(入力シート!F329=0,\"\",入力シート!F329)","v":""},{"$f":"入力シート!I329&\"\"","v":""},{"$f":"入力シート!J329&\"\"","v":""},{"$f":"入力シート!K329&\"\"","v":""},"・","現","帳"]
[{"$f":"入力シート!A330&\"\"","v":""},{"$f":"入力シート!B330&\"\"","v":""},null,null,{"$f":"入力シート!C330&\"\"","v":""},null,null,{"$f":"入力シート!D330&\"\"","v":""},null,{"$f":"入力シート!E330&\"\"","v":""},{"$f":"IF(入力シート!F330=0,\"\",入力シート!F330)","v":""},{"$f":"入力シート!I330&\"\"","v":""},{"$f":"入力シート!J330&\"\"","v":""},{"$f":"入力シート!K330&\"\"","v":""},"・","現","帳"]
[{"$f":"入力シート!A331&\"\"","v":""},{"$f":"入力シート!B331&\"\"","v":""},null,null,{"$f":"入力シート!C331&\"\"","v":""},null,null,{"$f":"入力シート!D331&\"\"","v":""},null,{"$f":"入力シート!E331&\"\"","v":""},{"$f":"IF(入力シート!F331=0,\"\",入力シート!F331)","v":""},{"$f":"入力シート!I331&\"\"","v":""},{"$f":"入力シート!J331&\"\"","v":""},{"$f":"入力シート!K331&\"\"","v":""},"・","現","帳"]
[{"$f":"入力シート!A332&\"\"","v":""},{"$f":"入力シート!B332&\"\"","v":""},null,null,{"$f":"入力シート!C332&\"\"","v":""},null,null,{"$f":"入力シート!D332&\"\"","v":""},null,{"$f":"入力シート!E332&\"\"","v":""},{"$f":"IF(入力シート!F332=0,\"\",入力シート!F332)","v":""},{"$f":"入力シート!I332&\"\"","v":""},{"$f":"入力シート!J332&\"\"","v":""},{"$f":"入力シート!K332&\"\"","v":""},"・","現","帳"]
[{"$f":"入力シート!A333&\"\"","v":""},{"$f":"入力シート!B333&\"\"","v":""},null,null,{"$f":"入力シート!C333&\"\"","v":""},null,null,{"$f":"入力シート!D333&\"\"","v":""},null,{"$f":"入力シート!E333&\"\"","v":""},{"$f":"IF(入力シート!F333=0,\"\",入力シート!F333)","v":""},{"$f":"入力シート!I333&\"\"","v":""},{"$f":"入力シート!J333&\"\"","v":""},{"$f":"入力シート!K333&\"\"","v":""},"・","現","帳"]
[{"$f":"入力シート!A334&\"\"","v":""},{"$f":"入力シート!B334&\"\"","v":""},null,null,{"$f":"入力シート!C334&\"\"","v":""},null,null,{"$f":"入力シート!D334&\"\"","v":""},null,{"$f":"入力シート!E334&\"\"","v":""},{"$f":"IF(入力シート!F334=0,\"\",入力シート!F334)","v":""},{"$f":"入力シート!I334&\"\"","v":""},{"$f":"入力シート!J334&\"\"","v":""},{"$f":"入力シート!K334&\"\"","v":""},"・","現","帳"]
[{"$f":"入力シート!A335&\"\"","v":""},{"$f":"入力シート!B335&\"\"","v":""},null,null,{"$f":"入力シート!C335&\"\"","v":""},null,null,{"$f":"入力シート!D335&\"\"","v":""},null,{"$f":"入力シート!E335&\"\"","v":""},{"$f":"IF(入力シート!F335=0,\"\",入力シート!F335)","v":""},{"$f":"入力シート!I335&\"\"","v":""},{"$f":"入力シート!J335&\"\"","v":""},{"$f":"入力シート!K335&\"\"","v":""},"・","現","帳"]
[{"$f":"入力シート!A336&\"\"","v":""},{"$f":"入力シート!B336&\"\"","v":""},null,null,{"$f":"入力シート!C336&\"\"","v":""},null,null,{"$f":"入力シート!D336&\"\"","v":""},null,{"$f":"入力シート!E336&\"\"","v":""},{"$f":"IF(入力シート!F336=0,\"\",入力シート!F336)","v":""},{"$f":"入力シート!I336&\"\"","v":""},{"$f":"入力シート!J336&\"\"","v":""},{"$f":"入力シート!K336&\"\"","v":""},"・","現","帳"]
[{"$f":"入力シート!A337&\"\"","v":""},{"$f":"入力シート!B337&\"\"","v":""},null,null,{"$f":"入力シート!C337&\"\"","v":""},null,null,{"$f":"入力シート!D337&\"\"","v":""},null,{"$f":"入力シート!E337&\"\"","v":""},{"$f":"IF(入力シート!F337=0,\"\",入力シート!F337)","v":""},{"$f":"入力シート!I337&\"\"","v":""},{"$f":"入力シート!J337&\"\"","v":""},{"$f":"入力シート!K337&\"\"","v":""},"・","現","帳"]
[{"$f":"入力シート!A338&\"\"","v":""},{"$f":"入力シート!B338&\"\"","v":""},null,null,{"$f":"入力シート!C338&\"\"","v":""},null,null,{"$f":"入力シート!D338&\"\"","v":""},null,{"$f":"入力シート!E338&\"\"","v":""},{"$f":"IF(入力シート!F338=0,\"\",入力シート!F338)","v":""},{"$f":"入力シート!I338&\"\"","v":""},{"$f":"入力シート!J338&\"\"","v":""},{"$f":"入力シート!K338&\"\"","v":""},"・","現","帳"]
[{"$f":"入力シート!A339&\"\"","v":""},{"$f":"入力シート!B339&\"\"","v":""},null,null,{"$f":"入力シート!C339&\"\"","v":""},null,null,{"$f":"入力シート!D339&\"\"","v":""},null,{"$f":"入力シート!E339&\"\"","v":""},{"$f":"IF(入力シート!F339=0,\"\",入力シート!F339)","v":""},{"$f":"入力シート!I339&\"\"","v":""},{"$f":"入力シート!J339&\"\"","v":""},{"$f":"入力シート!K339&\"\"","v":""},"・","現","帳"]
[{"$f":"入力シート!A340&\"\"","v":""},{"$f":"入力シート!B340&\"\"","v":""},null,null,{"$f":"入力シート!C340&\"\"","v":""},null,null,{"$f":"入力シート!D340&\"\"","v":""},null,{"$f":"入力シート!E340&\"\"","v":""},{"$f":"IF(入力シート!F340=0,\"\",入力シート!F340)","v":""},{"$f":"入力シート!I340&\"\"","v":""},{"$f":"入力シート!J340&\"\"","v":""},{"$f":"入力シート!K340&\"\"","v":""},"・","現","帳"]
[{"$f":"入力シート!A341&\"\"","v":""},{"$f":"入力シート!B341&\"\"","v":""},null,null,{"$f":"入力シート!C341&\"\"","v":""},null,null,{"$f":"入力シート!D341&\"\"","v":""},null,{"$f":"入力シート!E341&\"\"","v":""},{"$f":"IF(入力シート!F341=0,\"\",入力シート!F341)","v":""},{"$f":"入力シート!I341&\"\"","v":""},{"$f":"入力シート!J341&\"\"","v":""},{"$f":"入力シート!K341&\"\"","v":""},"・","現","帳"]
[{"$f":"入力シート!A342&\"\"","v":""},{"$f":"入力シート!B342&\"\"","v":""},null,null,{"$f":"入力シート!C342&\"\"","v":""},null,null,{"$f":"入力シート!D342&\"\"","v":""},null,{"$f":"入力シート!E342&\"\"","v":""},{"$f":"IF(入力シート!F342=0,\"\",入力シート!F342)","v":""},{"$f":"入力シート!I342&\"\"","v":""},{"$f":"入力シート!J342&\"\"","v":""},{"$f":"入力シート!K342&\"\"","v":""},"・","現","帳"]
[{"$f":"入力シート!A343&\"\"","v":""},{"$f":"入力シート!B343&\"\"","v":""},null,null,{"$f":"入力シート!C343&\"\"","v":""},null,null,{"$f":"入力シート!D343&\"\"","v":""},null,{"$f":"入力シート!E343&\"\"","v":""},{"$f":"IF(入力シート!F343=0,\"\",入力シート!F343)","v":""},{"$f":"入力シート!I343&\"\"","v":""},{"$f":"入力シート!J343&\"\"","v":""},{"$f":"入力シート!K343&\"\"","v":""},"・","現","帳"]
[{"$f":"入力シート!A344&\"\"","v":""},{"$f":"入力シート!B344&\"\"","v":""},null,null,{"$f":"入力シート!C344&\"\"","v":""},null,null,{"$f":"入力シート!D344&\"\"","v":""},null,{"$f":"入力シート!E344&\"\"","v":""},{"$f":"IF(入力シート!F344=0,\"\",入力シート!F344)","v":""},{"$f":"入力シート!I344&\"\"","v":""},{"$f":"入力シート!J344&\"\"","v":""},{"$f":"入力シート!K344&\"\"","v":""},"・","現","帳"]
[{"$f":"入力シート!A345&\"\"","v":""},{"$f":"入力シート!B345&\"\"","v":""},null,null,{"$f":"入力シート!C345&\"\"","v":""},null,null,{"$f":"入力シート!D345&\"\"","v":""},null,{"$f":"入力シート!E345&\"\"","v":""},{"$f":"IF(入力シート!F345=0,\"\",入力シート!F345)","v":""},{"$f":"入力シート!I345&\"\"","v":""},{"$f":"入力シート!J345&\"\"","v":""},{"$f":"入力シート!K345&\"\"","v":""},"・","現","帳"]
[{"$f":"入力シート!A346&\"\"","v":""},{"$f":"入力シート!B346&\"\"","v":""},null,null,{"$f":"入力シート!C346&\"\"","v":""},null,null,{"$f":"入力シート!D346&\"\"","v":""},null,{"$f":"入力シート!E346&\"\"","v":""},{"$f":"IF(入力シート!F346=0,\"\",入力シート!F346)","v":""},{"$f":"入力シート!I346&\"\"","v":""},{"$f":"入力シート!J346&\"\"","v":""},{"$f":"入力シート!K346&\"\"","v":""},"・","現","帳"]
[{"$f":"入力シート!A347&\"\"","v":""},{"$f":"入力シート!B347&\"\"","v":""},null,null,{"$f":"入力シート!C347&\"\"","v":""},null,null,{"$f":"入力シート!D347&\"\"","v":""},null,{"$f":"入力シート!E347&\"\"","v":""},{"$f":"IF(入力シート!F347=0,\"\",入力シート!F347)","v":""},{"$f":"入力シート!I347&\"\"","v":""},{"$f":"入力シート!J347&\"\"","v":""},{"$f":"入力シート!K347&\"\"","v":""},"・","現","帳"]
[{"$f":"入力シート!A348&\"\"","v":""},{"$f":"入力シート!B348&\"\"","v":""},null,null,{"$f":"入力シート!C348&\"\"","v":""},null,null,{"$f":"入力シート!D348&\"\"","v":""},null,{"$f":"入力シート!E348&\"\"","v":""},{"$f":"IF(入力シート!F348=0,\"\",入力シート!F348)","v":""},{"$f":"入力シート!I348&\"\"","v":""},{"$f":"入力シート!J348&\"\"","v":""},{"$f":"入力シート!K348&\"\"","v":""},"・","現","帳"]

{"sheet":"④軽減申請書","index":5,"n_rows":365,"n_cols":17,"rows_kept":365,"cut":false,"hidden":false,"merged":[[9,13,10,16],[3,0,3,16],[41,0,43,11],[18,14,18,16],[40,13,40,16],[41,13,41,16],[42,13,42,16],[43,13,43,16],[44,13,44,16],[46,14,46,15],[47,14,48,15],[47,16,48,16],[49,1,49,16],[50,1,50,16],[7,13,7,16],[11,13,11,16],[13,13,13,16],[20,1,20,3],[20,4,20,6],[20,7,20,8],[21,1,21,3],[21,4,21,6],[21,7,21,8],[39,12,39,13],[32,12,32,13],[33,12,33,13],[34,12,34,13],[35,12,35,13],[36,12,36,13],[37,12,37,13],[26,12,26,13],[24,12,24,13],[361,12,361,13],[362,12,362,13],[363,12,363,13],[364,12,364,13],[350,12,350,13],[351,12,351,13],[352,12,352,13],[353,12,353,13],[354,12,354,13],[355,12,355,13],[344,12,344,13],[345,12,345,13],[346,12,346,13],[347,12,347,13],[348,12,348,13],[349,12,349,13],[333,12,333,13],[334,12,334,13],[335,12,335,13],[336,12,336,13],[337,12,337,13],[338,12,338,13],[339,12,339,13],[340,12,340,13],[341,12,341,13],[342,12,342,13],[356,12,356,13],[357,12,357,13],[358,12,358,13],[359,12,359,13],[360,12,360,13],[327,12,327,13],[328,12,328,13],[329,12,329,13],[330,12,330,13],[331,12,331,13],[332,12,332,13],[321,12,321,13],[322,12,322,13],[323,12,323,13],[324,12,324,13],[325,12,325,13],[326,12,326,13],[310,12,310,13],[311,12,311,13],[312,12,312,13],[313,12,313,13],[314,12,314,13],[315,12,315,13],[317,12,317,13],[318,12,318,13],[319,12,319,13],[304,12,304,13],[305,12,305,13],[306,12,306,13],[307,12,307,13],[308,12,308,13],[309,12,309,13],[293,12,293,13],[294,12,294,13],[295,12,295,13],[296,12,296,13],[297,12,297,13],[298,12,298,13],[287,12,287,13],[288,12,288,13],[289,12,289,13],[290,12,290,13],[291,12,291,13],[292,12,292,13],[281,12,281,13],[282,12,282,13],[283,12,283,13],[284,12,284,13],[285,12,285,13],[286,12,286,13],[270,12,270,13],[271,12,271,13],[272,12,272,13],[273,12,273,13],[274,12,274,13],[275,12,275,13],[264,12,264,13],[265,12,265,13],[266,12,266,13],[267,12,267,13],[268,12,268,13],[269,12,269,13],[223,12,223,13],[224,12,224,13],[225,12,225,13],[226,12,226,13],[227,12,227,13],[258,12,258,13],[259,12,259,13],[260,12,260,13],[261,12,261,13],[262,12,262,13],[263,12,263,13],[251,12,251,13],[252,12,252,13],[253,12,253,13],[254,12,254,13],[255,12,255,13],[256,12,256,13],[245,12,245,13],[246,12,246,13],[247,12,247,13],[248,12,248,13],[249,12,249,13],[250,12,250,13],[211,12,211,13],[212,12,212,13],[213,12,213,13],[214,12,214,13],[215,12,215,13],[216,12,216,13],[205,12,205,13],[206,12,206,13],[207,12,207,13],[208,12,208,13],[209,12,209,13],[210,12,210,13],[190,12,190,13],[191,12,191,13],[192,12,192,13],[193,12,193,13],[194,12,194,13],[195,12,195,13],[200,12,200,13],[201,12,201,13],[202,12,202,13],[203,12,203,13],[184,12,184,13],[185,12,185,13],[186,12,186,13],[187,12,187,13],[188,12,188,13],[189,12,189,13],[173,12,173,13],[174,12,174,13],[175,12,175,13],[176,12,176,13],[177,12,177,13],[178,12,178,13],[167,12,167,13],[168,12,168,13],[169,12,169,13],[170,12,170,13],[171,12,171,13],[172,12,172,13],[161,12,161,13],[162,12,162,13],[163,12,163,13],[164,12,164,13],[165,12,165,13],[166,12,166,13],[150,12,150,13],[151,12,151,13],[152,12,152,13],[153,12,153,13],[154,12,154,13],[155,12,155,13],[144,12,144,13],[145,12,145,13],[146,12,146,13],[147,12,147,13],[148,12,148,13],[149,12,149,13],[139,12,139,13],[140,12,140,13],[141,12,141,13],[142,12,142,13],[143,12,143,13],[131,12,131,13],[132,12,132,13],[133,12,133,13],[134,12,134,13],[135,12,135,13],[136,12,136,13],[125,12,125,13],[126,12,126,13],[127,12,127,13],[128,12,128,13],[129,12,129,13],[130,12,130,13],[121,12,121,13],[122,12,122,13],[123,12,123,13],[124,12,124,13],[113,12,113,13],[114,12,114,13],[115,12,115,13],[116,12,116,13],[117,12,117,13],[118,12,118,13],[107,12,107,13],[108,12,108,13],[109,12,109,13],[110,12,110,13],[111,12,111,13],[112,12,112,13],[138,12,138,13],[105,1,105,3],[105,4,105,6],[105,7,105,8],[102,1,102,3],[102,4,102,6],[102,7,102,8],[103,1,103,3],[103,4,103,6],[103,7,103,8],[100,1,100,3],[100,4,100,6],[100,7,100,8],[101,1,101,3],[101,4,101,6],[101,7,101,8],[98,1,98,3],[98,4,98,6],[98,7,98,8],[99,1,99,3],[99,4,99,6],[99,7,99,8],[79,1,79,3],[79,4,79,6],[79,7,79,8],[75,12,75,13],[76,12,76,13],[77,12,77,13],[78,12,78,13],[79,12,79,13],[80,12,80,13],[104,1,104,3],[104,4,104,6],[104,7,104,8],[96,1,96,3],[96,4,96,6],[101,12,101,13],[102,12,102,13],[103,12,103,13],[104,12,104,13],[91,12,91,13],[92,12,92,13],[93,12,93,13],[94,12,94,13],[95,12,95,13],[96,12,96,13],[87,12,87,13],[88,12,88,13],[89,12,89,13],[80,1,80,3],[80,4,80,6],[80,7,80,8],[77,1,77,3],[77,4,77,6],[95,4,95,6],[95,7,95,8],[91,1,91,3],[91,4,91,6],[91,7,91,8],[92,1,92,3],[92,4,92,6],[92,7,92,8],[83,1,83,3],[83,4,83,6],[83,7,83,8],[84,1,84,3],[84,4,84,6],[84,7,84,8],[81,1,81,3],[81,4,81,6],[81,7,81,8],[82,1,82,3],[82,4,82,6],[82,7,82,8],[69,12,69,13],[70,12,70,13],[63,12,63,13],[64,12,64,13],[65,12,65,13],[66,12,66,13],[67,12,67,13],[68,12,68,13],[57,12,57,13],[58,12,58,13],[59,12,59,13],[60,12,60,13],[61,12,61,13],[62,12,62,13],[51,12,51,13],[52,12,52,13],[53,12,53,13],[54,12,54,13],[55,12,55,13],[56,12,56,13],[25,12,25,13],[36,1,36,3],[36,4,36,6],[36,7,36,8],[37,1,37,3],[37,4,37,6],[37,7,37,8],[34,1,34,3],[34,4,34,6],[34,7,34,8],[35,1,35,3],[35,4,35,6],[35,7,35,8],[32,1,32,3],[32,4,32,6],[23,4,23,6],[23,7,23,8],[27,12,27,13],[28,12,28,13],[29,12,29,13],[30,12,30,13],[31,12,31,13],[32,7,32,8],[33,1,33,3],[33,4,33,6],[33,7,33,8],[30,1,30,3],[30,4,30,6],[30,7,30,8],[31,1,31,3],[31,4,31,6],[71,12,71,13],[72,12,72,13],[73,12,73,13],[74,12,74,13],[97,12,97,13],[98,12,98,13],[99,12,99,13],[100,12,100,13],[196,12,196,13],[197,12,197,13],[198,12,198,13],[199,12,199,13],[156,12,156,13],[157,12,157,13],[158,12,158,13],[159,12,159,13],[179,12,179,13],[180,12,180,13],[181,12,181,13],[182,12,182,13],[183,12,183,13],[105,12,105,13],[106,12,106,13],[90,12,90,13],[81,12,81,13],[82,12,82,13],[83,12,83,13],[84,12,84,13],[85,12,85,13],[86,12,86,13],[119,12,119,13],[120,12,120,13],[217,12,217,13],[218,12,218,13],[219,12,219,13],[220,12,220,13],[240,12,240,13],[241,12,241,13],[242,12,242,13],[243,12,243,13],[276,12,276,13],[277,12,277,13],[278,12,278,13],[279,12,279,13],[299,12,299,13],[300,12,300,13],[301,12,301,13],[302,12,302,13],[316,12,316,13],[303,12,303,13],[244,12,244,13],[234,12,234,13],[235,12,235,13],[236,12,236,13],[237,12,237,13],[238,12,238,13],[239,12,239,13],[228,12,228,13],[229,12,229,13],[230,12,230,13],[231,12,231,13],[232,12,232,13],[233,12,233,13],[222,12,222,13],[363,1,363,3],[363,4,363,6],[363,7,363,8],[364,1,364,3],[364,4,364,6],[364,7,364,8],[361,1,361,3],[361,4,361,6],[361,7,361,8],[362,1,362,3],[362,4,362,6],[362,7,362,8],[359,1,359,3],[359,4,359,6],[359,7,359,8],[360,1,360,3],[360,4,360,6],[360,7,360,8],[357,1,357,3],[357,4,357,6],[357,7,357,8],[358,1,358,3],[358,4,358,6],[358,7,358,8],[355,1,355,3],[355,4,355,6],[355,7,355,8],[356,1,356,3],[356,4,356,6],[356,7,356,8],[353,1,353,3],[353,4,353,6],[353,7,353,8],[354,1,354,3],[354,4,354,6],[354,7,354,8],[351,1,351,3],[351,4,351,6],[351,7,351,8],[352,1,352,3],[352,4,352,6],[352,7,352,8],[349,1,349,3],[349,4,349,6],[349,7,349,8],[350,1,350,3],[350,4,350,6],[350,7,350,8],[347,1,347,3],[347,4,347,6],[347,7,347,8],[348,1,348,3],[348,4,348,6],[348,7,348,8],[345,1,345,3],[345,4,345,6],[345,7,345,8],[346,1,346,3],[346,4,346,6],[346,7,346,8],[343,1,343,3],[343,4,343,6],[343,7,343,8],[344,1,344,3],[344,4,344,6],[344,7,344,8],[341,1,341,3],[341,4,341,6],[341,7,341,8],[342,1,342,3],[342,4,342,6],[342,7,342,8],[329,4,329,6],[329,7,329,8],[330,1,330,3],[330,4,330,6],[330,7,330,8],[339,1,339,3],[339,4,339,6],[339,7,339,8],[340,1,340,3],[340,4,340,6],[340,7,340,8],[337,1,337,3],[337,4,337,6],[337,7,337,8],[338,1,338,3],[338,4,338,6],[338,7,338,8],[335,1,335,3],[335,4,335,6],[335,7,335,8],[336,1,336,3],[336,4,336,6],[336,7,336,8],[327,1,327,3],[327,4,327,6],[327,7,327,8],[328,1,328,3],[328,4,328,6],[328,7,328,8],[343,12,343,13],[325,1,325,3],[325,4,325,6],[325,7,325,8],[326,1,326,3],[326,4,326,6],[326,7,326,8],[323,1,323,3],[323,4,323,6],[323,7,323,8],[324,1,324,3],[324,4,324,6],[324,7,324,8],[333,1,333,3],[333,4,333,6],[333,7,333,8],[334,1,334,3],[334,4,334,6],[334,7,334,8],[331,1,331,3],[331,4,331,6],[331,7,331,8],[332,1,332,3],[332,4,332,6],[332,7,332,8],[329,1,329,3],[311,4,311,6],[311,7,311,8],[312,1,312,3],[312,4,312,6],[312,7,312,8],[321,1,321,3],[321,4,321,6],[321,7,321,8],[322,1,322,3],[322,4,322,6],[322,7,322,8],[319,1,319,3],[319,4,319,6],[319,7,319,8],[320,1,320,3],[320,4,320,6],[320,7,320,8],[317,1,317,3],[317,4,317,6],[317,7,317,8],[318,1,318,3],[318,4,318,6],[318,7,318,8],[309,1,309,3],[309,4,309,6],[309,7,309,8],[310,1,310,3],[310,4,310,6],[310,7,310,8],[307,1,307,3],[307,4,307,6],[307,7,307,8],[308,1,308,3],[308,4,308,6],[308,7,308,8],[320,12,320,13],[305,1,305,3],[305,4,305,6],[305,7,305,8],[306,1,306,3],[306,4,306,6],[306,7,306,8],[315,1,315,3],[315,4,315,6],[315,7,315,8],[316,1,316,3],[316,4,316,6],[316,7,316,8],[313,1,313,3],[313,4,313,6],[313,7,313,8],[314,1,314,3],[314,4,314,6],[314,7,314,8],[311,1,311,3],[303,1,303,3],[303,4,303,6],[303,7,303,8],[304,1,304,3],[304,4,304,6],[304,7,304,8],[301,1,301,3],[301,4,301,6],[301,7,301,8],[302,1,302,3],[302,4,302,6],[302,7,302,8],[299,1,299,3],[299,4,299,6],[299,7,299,8],[300,1,300,3],[300,4,300,6],[300,7,300,8],[297,1,297,3],[297,4,297,6],[297,7,297,8],[298,1,298,3],[298,4,298,6],[298,7,298,8],[295,1,295,3],[295,4,295,6],[295,7,295,8],[296,1,296,3],[296,4,296,6],[296,7,296,8],[293,1,293,3],[293,4,293,6],[293,7,293,8],[294,1,294,3],[294,4,294,6],[294,7,294,8],[291,1,291,3],[291,4,291,6],[291,7,291,8],[292,1,292,3],[292,4,292,6],[292,7,292,8],[289,1,289,3],[289,4,289,6],[289,7,289,8],[290,1,290,3],[290,4,290,6],[290,7,290,8],[287,1,287,3],[287,4,287,6],[287,7,287,8],[288,1,288,3],[288,4,288,6],[288,7,288,8],[285,1,285,3],[285,4,285,6],[285,7,285,8],[286,1,286,3],[286,4,286,6],[286,7,286,8],[283,1,283,3],[283,4,283,6],[283,7,283,8],[284,1,284,3],[284,4,284,6],[284,7,284,8],[281,1,281,3],[281,4,281,6],[281,7,281,8],[282,1,282,3],[282,4,282,6],[282,7,282,8],[269,4,269,6],[269,7,269,8],[270,1,270,3],[270,4,270,6],[270,7,270,8],[279,1,279,3],[279,4,279,6],[279,7,279,8],[280,1,280,3],[280,4,280,6],[280,7,280,8],[277,1,277,3],[277,4,277,6],[277,7,277,8],[278,1,278,3],[278,4,278,6],[278,7,278,8],[275,1,275,3],[275,4,275,6],[275,7,275,8],[276,1,276,3],[276,4,276,6],[276,7,276,8],[267,1,267,3],[267,4,267,6],[267,7,267,8],[268,1,268,3],[268,4,268,6],[268,7,268,8],[280,12,280,13],[265,1,265,3],[265,4,265,6],[265,7,265,8],[266,1,266,3],[266,4,266,6],[266,7,266,8],[263,1,263,3],[263,4,263,6],[263,7,263,8],[264,1,264,3],[264,4,264,6],[264,7,264,8],[273,1,273,3],[273,4,273,6],[273,7,273,8],[274,1,274,3],[274,4,274,6],[274,7,274,8],[271,1,271,3],[271,4,271,6],[271,7,271,8],[272,1,272,3],[272,4,272,6],[272,7,272,8],[269,1,269,3],[251,4,251,6],[251,7,251,8],[252,1,252,3],[252,4,252,6],[252,7,252,8],[261,1,261,3],[261,4,261,6],[261,7,261,8],[262,1,262,3],[262,4,262,6],[262,7,262,8],[259,1,259,3],[259,4,259,6],[259,7,259,8],[260,1,260,3],[260,4,260,6],[260,7,260,8],[257,1,257,3],[257,4,257,6],[257,7,257,8],[258,1,258,3],[258,4,258,6],[258,7,258,8],[249,1,249,3],[249,4,249,6],[249,7,249,8],[250,1,250,3],[250,4,250,6],[250,7,250,8],[247,1,247,3],[247,4,247,6],[247,7,247,8],[248,1,248,3],[248,4,248,6],[248,7,248,8],[257,12,257,13],[245,1,245,3],[245,4,245,6],[245,7,245,8],[246,1,246,3],[246,4,246,6],[246,7,246,8],[255,1,255,3],[255,4,255,6],[255,7,255,8],[256,1,256,3],[256,4,256,6],[256,7,256,8],[253,1,253,3],[253,4,253,6],[253,7,253,8],[254,1,254,3],[254,4,254,6],[254,7,254,8],[251,1,251,3],[243,1,243,3],[243,4,243,6],[243,7,243,8],[244,1,244,3],[244,4,244,6],[244,7,244,8],[241,1,241,3],[241,4,241,6],[241,7,241,8],[242,1,242,3],[242,4,242,6],[242,7,242,8],[239,1,239,3],[239,4,239,6],[239,7,239,8],[240,1,240,3],[240,4,240,6],[240,7,240,8],[237,1,237,3],[237,4,237,6],[237,7,237,8],[238,1,238,3],[238,4,238,6],[238,7,238,8],[235,1,235,3],[235,4,235,6],[235,7,235,8],[236,1,236,3],[236,4,236,6],[236,7,236,8],[233,1,233,3],[233,4,233,6],[233,7,233,8],[234,1,234,3],[234,4,234,6],[234,7,234,8],[231,1,231,3],[231,4,231,6],[231,7,231,8],[232,1,232,3],[232,4,232,6],[232,7,232,8],[229,1,229,3],[229,4,229,6],[229,7,229,8],[230,1,230,3],[230,4,230,6],[230,7,230,8],[227,1,227,3],[227,4,227,6],[227,7,227,8],[228,1,228,3],[228,4,228,6],[228,7,228,8],[225,1,225,3],[225,4,225,6],[225,7,225,8],[226,1,226,3],[226,4,226,6],[226,7,226,8],[223,1,223,3],[223,4,223,6],[223,7,223,8],[224,1,224,3],[224,4,224,6],[224,7,224,8],[221,1,221,3],[221,4,221,6],[221,7,221,8],[222,1,222,3],[222,4,222,6],[222,7,222,8],[209,4,209,6],[209,7,209,8],[210,1,210,3],[210,4,210,6],[210,7,210,8],[219,1,219,3],[219,4,219,6],[219,7,219,8],[220,1,220,3],[220,4,220,6],[220,7,220,8],[217,1,217,3],[217,4,217,6],[217,7,217,8],[218,1,218,3],[218,4,218,6],[218,7,218,8],[215,1,215,3],[215,4,215,6],[215,7,215,8],[216,1,216,3],[216,4,216,6],[216,7,216,8],[207,1,207,3],[207,4,207,6],[207,7,207,8],[208,1,208,3],[208,4,208,6],[208,7,208,8],[221,12,221,13],[205,1,205,3],[205,4,205,6],[205,7,205,8],[206,1,206,3],[206,4,206,6],[206,7,206,8],[203,1,203,3],[203,4,203,6],[203,7,203,8],[204,1,204,3],[204,4,204,6],[204,7,204,8],[213,1,213,3],[213,4,213,6],[213,7,213,8],[214,1,214,3],[214,4,214,6],[214,7,214,8],[211,1,211,3],[211,4,211,6],[211,7,211,8],[212,1,212,3],[212,4,212,6],[212,7,212,8],[209,1,209,3],[191,4,191,6],[191,7,191,8],[192,1,192,3],[192,4,192,6],[192,7,192,8],[201,1,201,3],[201,4,201,6],[201,7,201,8],[202,1,202,3],[202,4,202,6],[202,7,202,8],[199,1,199,3],[199,4,199,6],[199,7,199,8],[200,1,200,3],[200,4,200,6],[200,7,200,8],[197,1,197,3],[197,4,197,6],[197,7,197,8],[198,1,198,3],[198,4,198,6],[198,7,198,8],[189,1,189,3],[189,4,189,6],[189,7,189,8],[190,1,190,3],[190,4,190,6],[190,7,190,8],[187,1,187,3],[187,4,187,6],[187,7,187,8],[188,1,188,3],[188,4,188,6],[188,7,188,8],[204,12,204,13],[185,1,185,3],[185,4,185,6],[185,7,185,8],[186,1,186,3],[186,4,186,6],[186,7,186,8],[195,1,195,3],[195,4,195,6],[195,7,195,8],[196,1,196,3],[196,4,196,6],[196,7,196,8],[193,1,193,3],[193,4,193,6],[193,7,193,8],[194,1,194,3],[194,4,194,6],[194,7,194,8],[191,1,191,3],[183,1,183,3],[183,4,183,6],[183,7,183,8],[184,1,184,3],[184,4,184,6],[184,7,184,8],[181,1,181,3],[181,4,181,6],[181,7,181,8],[182,1,182,3],[182,4,182,6],[182,7,182,8],[179,1,179,3],[179,4,179,6],[179,7,179,8],[180,1,180,3],[180,4,180,6],[180,7,180,8],[177,1,177,3],[177,4,177,6],[177,7,177,8],[178,1,178,3],[178,4,178,6],[178,7,178,8],[175,1,175,3],[175,4,175,6],[175,7,175,8],[176,1,176,3],[176,4,176,6],[176,7,176,8],[173,1,173,3]],"merged_total":1360,"flags":["merged_cut"]}
["様式１"]
[]
[]
["商品中古自動車に対する自動車税（種別割）軽減申請書"]
[]
[null,null,null,null,null,null,null,null,null,null,null,null,null,null,null,null,"令和　　　年　　　　月　　　　日　"]
["香川県県税事務所長　殿"]
[null,null,null,null,null,null,null,null,null,null,null,"申請者","住所",{"$f":"入力シート!$C$6&\"\"","v":"高松市番町４－１－１０"}]
[]
[null,null,null,null,null,null,null,null,null,null,null,null,"氏名又は名称",{"$f":"入力シート!$C$7&\"\"","v":"株式会社香川県庁自動車"}]
[]
[null,null,null,null,null,null,null,null,null,null,null,null,"電話番号",{"$f":"入力シート!$C$9&\"\"","v":"087-１１1-1111"}]
[]
[null,null,null,null,null,null,null,null,null,null,null,null,"古物商許可番号",{"$f":"入力シート!$C$10&\"\"","v":"12345678"}]
[]
[null,"香川県税条例第91条の2の規定により、次の自動車に対する"]
[null,"令和",null,null,{"$f":"入力シート!D5&\"\"","v":"6"},null,"年度自動車税（種別割）の軽減を申請します。"]
[]
["№","登録番号",null,null,null,null,null,null,null,null,"種　別","用　途","主たる定置場",null,"４月1日後の異動"]
[null,null,null,null,null,null,null,null,null,null,null,null,null,null,"月","日","内容"]
[{"$f":"入力シート!A21","v":1},{"$f":"入力シート!B21&\"\"","v":"香"},null,null,{"$f":"入力シート!C21&\"\"","v":"501"},null,null,{"$f":"入力シート!D21&\"\"","v":"あ"},null,{"$f":"入力シート!E21&\"\"","v":"2"},{"$f":"入力シート!G21&\"\"","v":"小型"},{"$f":"入力シート!H21&\"\"","v":"乗用"},{"$f":"入力シート!K21&\"\"","v":"県税支店"}]
[{"$f":"入力シート!A22","v":2},{"$f":"入力シート!B22&\"\"","v":"香"},null,null,{"$f":"入力シート!C22&\"\"","v":"501"},null,null,{"$f":"入力シート!D22&\"\"","v":"く"},null,{"$f":"入力シート!E22&\"\"","v":"555"},{"$f":"入力シート!G22&\"\"","v":"小型"},{"$f":"入力シート!H22&\"\"","v":"乗用"},{"$f":"入力シート!K22&\"\"","v":"西讃支店"}]
[{"$f":"入力シート!A23","v":3},{"$f":"入力シート!B23&\"\"","v":"香"},null,null,{"$f":"入力シート!C23&\"\"","v":"506"},null,null,{"$f":"入力シート!D23&\"\"","v":"く"},null,{"$f":"入力シート!E23&\"\"","v":"212"},{"$f":"入力シート!G23&\"\"","v":"小型"},{"$f":"入力シート!H23&\"\"","v":"乗用"},{"$f":"入力シート!K23&\"\"","v":"東讃支店"}]
[{"$f":"入力シート!A24","v":4},{"$f":"入力シート!B24&\"\"","v":"香"},null,null,{"$f":"入力シート!C24&\"\"","v":"522"},null,null,{"$f":"入力シート!D24&\"\"","v":"く"},null,{"$f":"入力シート!E24&\"\"","v":"41"},{"$f":"入力シート!G24&\"\"","v":"小型"},{"$f":"入力シート!H24&\"\"","v":"乗用"},{"$f":"入力シート!K24&\"\"","v":"県税支店"}]
[{"$f":"入力シート!A25","v":5},{"$f":"入力シート!B25&\"\"","v":"香"},null,null,{"$f":"入力シート!C25&\"\"","v":"555"},null,null,{"$f":"入力シート!D25&\"\"","v":"く"},null,{"$f":"入力シート!E25&\"\"","v":"7655"},{"$f":"入力シート!G25&\"\"","v":"小型"},{"$f":"入力シート!H25&\"\"","v":"乗用"},{"$f":"入力シート!K25&\"\"","v":"小豆支店"}]
[{"$f":"入力シート!A26","v":6},{"$f":"入力シート!B26&\"\"","v":"香川"},null,null,{"$f":"入力シート!C26&\"\"","v":"111"},null,null,{"$f":"入力シート!D26&\"\"","v":"く"},null,{"$f":"入力シート!E26&\"\"","v":"3"},{"$f":"入力シート!G26&\"\"","v":"小型"},{"$f":"入力シート!H26&\"\"","v":"乗用"},{"$f":"入力シート!K26&\"\"","v":"東讃支店"}]
[{"$f":"入力シート!A27","v":7},{"$f":"入力シート!B27&\"\"","v":"香川"},null,null,{"$f":"入力シート!C27&\"\"","v":"300"},null,null,{"$f":"入力シート!D27&\"\"","v":"き"},null,{"$f":"入力シート!E27&\"\"","v":"4562"},{"$f":"入力シート!G27&\"\"","v":"普通"},{"$f":"入力シート!H27&\"\"","v":"乗用"},{"$f":"入力シート!K27&\"\"","v":"県税支店"}]
[{"$f":"入力シート!A28","v":8},{"$f":"入力シート!B28&\"\"","v":"香川"},null,null,{"$f":"入力シート!C28&\"\"","v":"300"},null,null,{"$f":"入力シート!D28&\"\"","v":"く"},null,{"$f":"入力シート!E28&\"\"","v":"7525"},{"$f":"入力シート!G28&\"\"","v":"普通"},{"$f":"入力シート!H28&\"\"","v":"乗用"},{"$f":"入力シート!K28&\"\"","v":"小豆支店"}]
[{"$f":"入力シート!A29","v":9},{"$f":"入力シート!B29&\"\"","v":"香川"},null,null,{"$f":"入力シート!C29&\"\"","v":"300"},null,null,{"$f":"入力シート!D29&\"\"","v":"こ"},null,{"$f":"入力シート!E29&\"\"","v":"1"},{"$f":"入力シート!G29&\"\"","v":"普通"},{"$f":"入力シート!H29&\"\"","v":"乗用"},{"$f":"入力シート!K29&\"\"","v":"本店"}]
[{"$f":"入力シート!A30","v":10},{"$f":"入力シート!B30&\"\"","v":"香川"},null,null,{"$f":"入力シート!C30&\"\"","v":"325"},null,null,{"$f":"入力シート!D30&\"\"","v":"く"},null,{"$f":"入力シート!E30&\"\"","v":"21"},{"$f":"入力シート!G30&\"\"","v":"小型"},{"$f":"入力シート!H30&\"\"","v":"乗用"},{"$f":"入力シート!K30&\"\"","v":"西讃支店"}]
[{"$f":"入力シート!A31","v":11},{"$f":"入力シート!B31&\"\"","v":"香川"},null,null,{"$f":"入力シート!C31&\"\"","v":"333"},null,null,{"$f":"入力シート!D31&\"\"","v":"く"},null,{"$f":"入力シート!E31&\"\"","v":"7569"},{"$f":"入力シート!G31&\"\"","v":"小型"},{"$f":"入力シート!H31&\"\"","v":"乗用"},{"$f":"入力シート!K31&\"\"","v":"県税支店"}]
[{"$f":"入力シート!A32","v":12},{"$f":"入力シート!B32&\"\"","v":"香川"},null,null,{"$f":"入力シート!C32&\"\"","v":"500"},null,null,{"$f":"入力シート!D32&\"\"","v":"か"},null,{"$f":"入力シート!E32&\"\"","v":"4489"},{"$f":"入力シート!G32&\"\"","v":"小型"},{"$f":"入力シート!H32&\"\"","v":"乗用"},{"$f":"入力シート!K32&\"\"","v":"西讃支店"}]
[{"$f":"入力シート!A33","v":13},{"$f":"入力シート!B33&\"\"","v":"香川"},null,null,{"$f":"入力シート!C33&\"\"","v":"500"},null,null,{"$f":"入力シート!D33&\"\"","v":"け"},null,{"$f":"入力シート!E33&\"\"","v":"7375"},{"$f":"入力シート!G33&\"\"","v":"小型"},{"$f":"入力シート!H33&\"\"","v":"乗用"},{"$f":"入力シート!K33&\"\"","v":"中讃支店"}]
[{"$f":"入力シート!A34","v":14},{"$f":"入力シート!B34&\"\"","v":"香川"},null,null,{"$f":"入力シート!C34&\"\"","v":"500"},null,null,{"$f":"入力シート!D34&\"\"","v":"こ"},null,{"$f":"入力シート!E34&\"\"","v":"1569"},{"$f":"入力シート!G34&\"\"","v":"小型"},{"$f":"入力シート!H34&\"\"","v":"乗用"},{"$f":"入力シート!K34&\"\"","v":"東讃支店"}]
[{"$f":"入力シート!A35","v":15},{"$f":"入力シート!B35&\"\"","v":"香川"},null,null,{"$f":"入力シート!C35&\"\"","v":"504"},null,null,{"$f":"入力シート!D35&\"\"","v":"い"},null,{"$f":"入力シート!E35&\"\"","v":"42"},{"$f":"入力シート!G35&\"\"","v":"小型"},{"$f":"入力シート!H35&\"\"","v":"乗用"},{"$f":"入力シート!K35&\"\"","v":"西讃支店"}]
[{"$f":"入力シート!A36","v":16},{"$f":"入力シート!B36&\"\"","v":"香川"},null,null,{"$f":"入力シート!C36&\"\"","v":"505"},null,null,{"$f":"入力シート!D36&\"\"","v":"り"},null,{"$f":"入力シート!E36&\"\"","v":"985"},{"$f":"入力シート!G36&\"\"","v":"小型"},{"$f":"入力シート!H36&\"\"","v":"乗用"},{"$f":"入力シート!K36&\"\"","v":"東讃支店"}]
[{"$f":"入力シート!A37","v":17},{"$f":"入力シート!B37&\"\"","v":"香川"},null,null,{"$f":"入力シート!C37&\"\"","v":"566"},null,null,{"$f":"入力シート!D37&\"\"","v":"く"},null,{"$f":"入力シート!E37&\"\"","v":"4777"},{"$f":"入力シート!G37&\"\"","v":"小型"},{"$f":"入力シート!H37&\"\"","v":"乗用"},{"$f":"入力シート!K37&\"\"","v":"中讃支店"}]
[{"$f":"入力シート!A38","v":18},{"$f":"入力シート!B38&\"\"","v":"香川"},null,null,{"$f":"入力シート!C38&\"\"","v":"800"},null,null,{"$f":"入力シート!D38&\"\"","v":"く"},null,{"$f":"入力シート!E38&\"\"","v":"4563"},{"$f":"入力シート!G38&\"\"","v":"小型"},{"$f":"入力シート!H38&\"\"","v":"乗用"},{"$f":"入力シート!K38&\"\"","v":"東讃支店"}]
[{"$f":"入力シート!A39","v":19},{"$f":"入力シート!B39&\"\"","v":"高松"},null,null,{"$f":"入力シート!C39&\"\"","v":"100"},null,null,{"$f":"入力シート!D39&\"\"","v":"く"},null,{"$f":"入力シート!E39&\"\"","v":"123"},{"$f":"入力シート!G39&\"\"","v":"小型"},{"$f":"入力シート!H39&\"\"","v":"乗用"},{"$f":"入力シート!K39&\"\"","v":"県税支店"}]
[{"$f":"入力シート!A40","v":20},{"$f":"入力シート!B40&\"\"","v":"高松"},null,null,{"$f":"入力シート!C40&\"\"","v":"100"},null,null,{"$f":"入力シート!D40&\"\"","v":"く"},null,{"$f":"入力シート!E40&\"\"","v":"144"},{"$f":"入力シート!G40&\"\"","v":"小型"},{"$f":"入力シート!H40&\"\"","v":"乗用"},{"$f":"入力シート!K40&\"\"","v":"中讃支店"}]
[null,null,null,null,null,null,null,null,null,null,null,null,"金融機関名",{"$f":"入力シート!C11&\"\"","v":"●▼◇銀行"}]
["軽減が決定されたときの\n還付を受けようとする金融機関及び支払方法",null,null,null,null,null,null,null,null,null,null,null,"店舗名",{"$f":"入力シート!C12&\"\"","v":"県税支店"}]
[null,null,null,null,null,null,null,null,null,null,null,null,"種目",{"$f":"入力シート!C13&\"\"","v":"普通"}]
[null,null,null,null,null,null,null,null,null,null,null,null,"口座番号",{"$f":"入力シート!C14&\"\"","v":"1111111"}]
[null,null,null,null,null,null,null,null,null,null,null,null,"口座名義\n（カ　ナ）",{"$f":"入力シート!C15&\"\"","v":"カ）カガワケンチョウジドウシャ"}]
["※以下は、記入しないでください。"]
["確\n認\n欄","1　添付書類",null,null,null,null,null,null,null,null,null,null,null,"２ 納税状況","担当者印",null,"審査者印"]
[null,"　　□　一般財団法人日本自動車査定協会の証明書",null,null,null,null,null,null,null,null,null,null,null,"　　□　過年度課税分"]
[null,"　　□　古物商許可証の写し",null,null,null,null,null,null,null,null,null,null,null,"　　□　現年度課税分"]
["※\n","新規登録車（自動車の取得の際に新規登録又は中古新規登録された自動車）は、軽減の対象になりません。\nまた、申請者が使用している自動車、試乗車、代車等も軽減の対象になりません。"]
["※\n\n","商品中古自動車に対する自動車税（種別割）の軽減を受けるためには、軽減を申請する自動車のみならず、申請者に課税される全ての自動車の自動車税（種別割）について、軽減の申請期限において滞納がなく、かつ、申請年度に係る自動車税（種別割）を納期限内に納付していることが必要です。"]
[{"$f":"入力シート!A41&\"\"","v":"21"},{"$f":"入力シート!B41&\"\"","v":"高松"},null,null,{"$f":"入力シート!C41&\"\"","v":"121"},null,null,{"$f":"入力シート!D41&\"\"","v":"く"},null,{"$f":"入力シート!E41&\"\"","v":"97"},{"$f":"入力シート!G41&\"\"","v":"小型"},{"$f":"入力シート!H41&\"\"","v":"乗用"},{"$f":"入力シート!K41&\"\"","v":"小豆支店"}]
[{"$f":"入力シート!A42&\"\"","v":"22"},{"$f":"入力シート!B42&\"\"","v":"高松"},null,null,{"$f":"入力シート!C42&\"\"","v":"333"},null,null,{"$f":"入力シート!D42&\"\"","v":"く"},null,{"$f":"入力シート!E42&\"\"","v":"506"},{"$f":"入力シート!G42&\"\"","v":"小型"},{"$f":"入力シート!H42&\"\"","v":"乗用"},{"$f":"入力シート!K42&\"\"","v":"東讃支店"}]
[{"$f":"入力シート!A43&\"\"","v":"23"},{"$f":"入力シート!B43&\"\"","v":"高松"},null,null,{"$f":"入力シート!C43&\"\"","v":"502"},null,null,{"$f":"入力シート!D43&\"\"","v":"わ"},null,{"$f":"入力シート!E43&\"\"","v":"1"},{"$f":"入力シート!G43&\"\"","v":"小型"},{"$f":"入力シート!H43&\"\"","v":"乗用"},{"$f":"入力シート!K43&\"\"","v":"小豆支店"}]
[{"$f":"入力シート!A44&\"\"","v":"24"},{"$f":"入力シート!B44&\"\"","v":"高松"},null,null,{"$f":"入力シート!C44&\"\"","v":"503"},null,null,{"$f":"入力シート!D44&\"\"","v":"ら"},null,{"$f":"入力シート!E44&\"\"","v":"45"},{"$f":"入力シート!G44&\"\"","v":"小型"},{"$f":"入力シート!H44&\"\"","v":"乗用"},{"$f":"入力シート!K44&\"\"","v":"中讃支店"}]
[{"$f":"入力シート!A45&\"\"","v":"25"},{"$f":"入力シート!B45&\"\"","v":"高松"},null,null,{"$f":"入力シート!C45&\"\"","v":"541"},null,null,{"$f":"入力シート!D45&\"\"","v":"く"},null,{"$f":"入力シート!E45&\"\"","v":"87"},{"$f":"入力シート!G45&\"\"","v":"小型"},{"$f":"入力シート!H45&\"\"","v":"乗用"},{"$f":"入力シート!K45&\"\"","v":"東讃支店"}]
[{"$f":"入力シート!A46&\"\"","v":"26"},{"$f":"入力シート!B46&\"\"","v":"高松"},null,null,{"$f":"入力シート!C46&\"\"","v":"542"},null,null,{"$f":"入力シート!D46&\"\"","v":"く"},null,{"$f":"入力シート!E46&\"\"","v":"87"},{"$f":"入力シート!G46&\"\"","v":"小型"},{"$f":"入力シート!H46&\"\"","v":"乗用"},{"$f":"入力シート!K46&\"\"","v":"東讃支店"}]
[{"$f":"入力シート!A47&\"\"","v":"27"},{"$f":"入力シート!B47&\"\"","v":"高松"},null,null,{"$f":"入力シート!C47&\"\"","v":"543"},null,null,{"$f":"入力シート!D47&\"\"","v":"く"},null,{"$f":"入力シート!E47&\"\"","v":"87"},{"$f":"入力シート!G47&\"\"","v":"小型"},{"$f":"入力シート!H47&\"\"","v":"乗用"},{"$f":"入力シート!K47&\"\"","v":"東讃支店"}]
[{"$f":"入力シート!A48&\"\"","v":"28"},{"$f":"入力シート!B48&\"\"","v":"高松"},null,null,{"$f":"入力シート!C48&\"\"","v":"544"},null,null,{"$f":"入力シート!D48&\"\"","v":"く"},null,{"$f":"入力シート!E48&\"\"","v":"87"},{"$f":"入力シート!G48&\"\"","v":"小型"},{"$f":"入力シート!H48&\"\"","v":"乗用"},{"$f":"入力シート!K48&\"\"","v":"東讃支店"}]
[{"$f":"入力シート!A49&\"\"","v":"29"},{"$f":"入力シート!B49&\"\"","v":"高松"},null,null,{"$f":"入力シート!C49&\"\"","v":"545"},null,null,{"$f":"入力シート!D49&\"\"","v":"く"},null,{"$f":"入力シート!E49&\"\"","v":"87"},{"$f":"入力シート!G49&\"\"","v":"小型"},{"$f":"入力シート!H49&\"\"","v":"乗用"},{"$f":"入力シート!K49&\"\"","v":"東讃支店"}]
[{"$f":"入力シート!A50&\"\"","v":"30"},{"$f":"入力シート!B50&\"\"","v":"高松"},null,null,{"$f":"入力シート!C50&\"\"","v":"546"},null,null,{"$f":"入力シート!D50&\"\"","v":"く"},null,{"$f":"入力シート!E50&\"\"","v":"87"},{"$f":"入力シート!G50&\"\"","v":"小型"},{"$f":"入力シート!H50&\"\"","v":"乗用"},{"$f":"入力シート!K50&\"\"","v":"東讃支店"}]
[{"$f":"入力シート!A51&\"\"","v":"31"},{"$f":"入力シート!B51&\"\"","v":"高松"},null,null,{"$f":"入力シート!C51&\"\"","v":"547"},null,null,{"$f":"入力シート!D51&\"\"","v":"く"},null,{"$f":"入力シート!E51&\"\"","v":"87"},{"$f":"入力シート!G51&\"\"","v":"小型"},{"$f":"入力シート!H51&\"\"","v":"乗用"},{"$f":"入力シート!K51&\"\"","v":"東讃支店"}]
[{"$f":"入力シート!A52&\"\"","v":"32"},{"$f":"入力シート!B52&\"\"","v":"高松"},null,null,{"$f":"入力シート!C52&\"\"","v":"548"},null,null,{"$f":"入力シート!D52&\"\"","v":"く"},null,{"$f":"入力シート!E52&\"\"","v":"87"},{"$f":"入力シート!G52&\"\"","v":"小型"},{"$f":"入力シート!H52&\"\"","v":"乗用"},{"$f":"入力シート!K52&\"\"","v":"東讃支店"}]
[{"$f":"入力シート!A53&\"\"","v":"33"},{"$f":"入力シート!B53&\"\"","v":"高松"},null,null,{"$f":"入力シート!C53&\"\"","v":"549"},null,null,{"$f":"入力シート!D53&\"\"","v":"く"},null,{"$f":"入力シート!E53&\"\"","v":"87"},{"$f":"入力シート!G53&\"\"","v":"小型"},{"$f":"入力シート!H53&\"\"","v":"乗用"},{"$f":"入力シート!K53&\"\"","v":"東讃支店"}]
[{"$f":"入力シート!A54&\"\"","v":"34"},{"$f":"入力シート!B54&\"\"","v":"高松"},null,null,{"$f":"入力シート!C54&\"\"","v":"550"},null,null,{"$f":"入力シート!D54&\"\"","v":"く"},null,{"$f":"入力シート!E54&\"\"","v":"87"},{"$f":"入力シート!G54&\"\"","v":"小型"},{"$f":"入力シート!H54&\"\"","v":"乗用"},{"$f":"入力シート!K54&\"\"","v":"東讃支店"}]
[{"$f":"入力シート!A55&\"\"","v":"35"},{"$f":"入力シート!B55&\"\"","v":"高松"},null,null,{"$f":"入力シート!C55&\"\"","v":"551"},null,null,{"$f":"入力シート!D55&\"\"","v":"く"},null,{"$f":"入力シート!E55&\"\"","v":"87"},{"$f":"入力シート!G55&\"\"","v":"小型"},{"$f":"入力シート!H55&\"\"","v":"乗用"},{"$f":"入力シート!K55&\"\"","v":"東讃支店"}]
[{"$f":"入力シート!A56&\"\"","v":"36"},{"$f":"入力シート!B56&\"\"","v":"高松"},null,null,{"$f":"入力シート!C56&\"\"","v":"552"},null,null,{"$f":"入力シート!D56&\"\"","v":"く"},null,{"$f":"入力シート!E56&\"\"","v":"87"},{"$f":"入力シート!G56&\"\"","v":"小型"},{"$f":"入力シート!H56&\"\"","v":"乗用"},{"$f":"入力シート!K56&\"\"","v":"東讃支店"}]
[{"$f":"入力シート!A57&\"\"","v":"37"},{"$f":"入力シート!B57&\"\"","v":"高松"},null,null,{"$f":"入力シート!C57&\"\"","v":"553"},null,null,{"$f":"入力シート!D57&\"\"","v":"く"},null,{"$f":"入力シート!E57&\"\"","v":"87"},{"$f":"入力シート!G57&\"\"","v":"小型"},{"$f":"入力シート!H57&\"\"","v":"乗用"},{"$f":"入力シート!K57&\"\"","v":"東讃支店"}]
[{"$f":"入力シート!A58&\"\"","v":"38"},{"$f":"入力シート!B58&\"\"","v":"高松"},null,null,{"$f":"入力シート!C58&\"\"","v":"554"},null,null,{"$f":"入力シート!D58&\"\"","v":"く"},null,{"$f":"入力シート!E58&\"\"","v":"87"},{"$f":"入力シート!G58&\"\"","v":"小型"},{"$f":"入力シート!H58&\"\"","v":"乗用"},{"$f":"入力シート!K58&\"\"","v":"東讃支店"}]
[{"$f":"入力シート!A59&\"\"","v":"39"},{"$f":"入力シート!B59&\"\"","v":"高松"},null,null,{"$f":"入力シート!C59&\"\"","v":"555"},null,null,{"$f":"入力シート!D59&\"\"","v":"く"},null,{"$f":"入力シート!E59&\"\"","v":"87"},{"$f":"入力シート!G59&\"\"","v":"小型"},{"$f":"入力シート!H59&\"\"","v":"乗用"},{"$f":"入力シート!K59&\"\"","v":"東讃支店"}]
[{"$f":"入力シート!A60&\"\"","v":"40"},{"$f":"入力シート!B60&\"\"","v":"高松"},null,null,{"$f":"入力シート!C60&\"\"","v":"556"},null,null,{"$f":"入力シート!D60&\"\"","v":"く"},null,{"$f":"入力シート!E60&\"\"","v":"87"},{"$f":"入力シート!G60&\"\"","v":"小型"},{"$f":"入力シート!H60&\"\"","v":"乗用"},{"$f":"入力シート!K60&\"\"","v":"東讃支店"}]
[{"$f":"入力シート!A61&\"\"","v":"41"},{"$f":"入力シート!B61&\"\"","v":"高松"},null,null,{"$f":"入力シート!C61&\"\"","v":"557"},null,null,{"$f":"入力シート!D61&\"\"","v":"く"},null,{"$f":"入力シート!E61&\"\"","v":"87"},{"$f":"入力シート!G61&\"\"","v":"小型"},{"$f":"入力シート!H61&\"\"","v":"乗用"},{"$f":"入力シート!K61&\"\"","v":"東讃支店"}]
[{"$f":"入力シート!A62&\"\"","v":"42"},{"$f":"入力シート!B62&\"\"","v":"高松"},null,null,{"$f":"入力シート!C62&\"\"","v":"558"},null,null,{"$f":"入力シート!D62&\"\"","v":"く"},null,{"$f":"入力シート!E62&\"\"","v":"87"},{"$f":"入力シート!G62&\"\"","v":"小型"},{"$f":"入力シート!H62&\"\"","v":"乗用"},{"$f":"入力シート!K62&\"\"","v":"東讃支店"}]
[{"$f":"入力シート!A63&\"\"","v":"43"},{"$f":"入力シート!B63&\"\"","v":"高松"},null,null,{"$f":"入力シート!C63&\"\"","v":""},null,null,{"$f":"入力シート!D63&\"\"","v":""},null,{"$f":"入力シート!E63&\"\"","v":""},{"$f":"入力シート!G63&\"\"","v":""},{"$f":"入力シート!H63&\"\"","v":""},{"$f":"入力シート!K63&\"\"","v":""}]
[{"$f":"入力シート!A64&\"\"","v":"44"},{"$f":"入力シート!B64&\"\"","v":"高松"},null,null,{"$f":"入力シート!C64&\"\"","v":""},null,null,{"$f":"入力シート!D64&\"\"","v":""},null,{"$f":"入力シート!E64&\"\"","v":""},{"$f":"入力シート!G64&\"\"","v":""},{"$f":"入力シート!H64&\"\"","v":""},{"$f":"入力シート!K64&\"\"","v":""}]
[{"$f":"入力シート!A65&\"\"","v":"45"},{"$f":"入力シート!B65&\"\"","v":"高松"},null,null,{"$f":"入力シート!C65&\"\"","v":""},null,null,{"$f":"入力シート!D65&\"\"","v":""},null,{"$f":"入力シート!E65&\"\"","v":""},{"$f":"入力シート!G65&\"\"","v":""},{"$f":"入力シート!H65&\"\"","v":""},{"$f":"入力シート!K65&\"\"","v":""}]
[{"$f":"入力シート!A66&\"\"","v":"46"},{"$f":"入力シート!B66&\"\"","v":"高松"},null,null,{"$f":"入力シート!C66&\"\"","v":""},null,null,{"$f":"入力シート!D66&\"\"","v":""},null,{"$f":"入力シート!E66&\"\"","v":""},{"$f":"入力シート!G66&\"\"","v":""},{"$f":"入力シート!H66&\"\"","v":""},{"$f":"入力シート!K66&\"\"","v":""}]
[{"$f":"入力シート!A67&\"\"","v":"47"},{"$f":"入力シート!B67&\"\"","v":"高松"},null,null,{"$f":"入力シート!C67&\"\"","v":""},null,null,{"$f":"入力シート!D67&\"\"","v":""},null,{"$f":"入力シート!E67&\"\"","v":""},{"$f":"入力シート!G67&\"\"","v":""},{"$f":"入力シート!H67&\"\"","v":""},{"$f":"入力シート!K67&\"\"","v":""}]
[{"$f":"入力シート!A68&\"\"","v":"48"},{"$f":"入力シート!B68&\"\"","v":"高松"},null,null,{"$f":"入力シート!C68&\"\"","v":""},null,null,{"$f":"入力シート!D68&\"\"","v":""},null,{"$f":"入力シート!E68&\"\"","v":""},{"$f":"入力シート!G68&\"\"","v":""},{"$f":"入力シート!H68&\"\"","v":""},{"$f":"入力シート!K68&\"\"","v":""}]
[{"$f":"入力シート!A69&\"\"","v":"49"},{"$f":"入力シート!B69&\"\"","v":"高松"},null,null,{"$f":"入力シート!C69&\"\"","v":""},null,null,{"$f":"入力シート!D69&\"\"","v":""},null,{"$f":"入力シート!E69&\"\"","v":""},{"$f":"入力シート!G69&\"\"","v":""},{"$f":"入力シート!H69&\"\"","v":""},{"$f":"入力シート!K69&\"\"","v":""}]
[{"$f":"入力シート!A70&\"\"","v":"50"},{"$f":"入力シート!B70&\"\"","v":"高松"},null,null,{"$f":"入力シート!C70&\"\"","v":""},null,null,{"$f":"入力シート!D70&\"\"","v":""},null,{"$f":"入力シート!E70&\"\"","v":""},{"$f":"入力シート!G70&\"\"","v":""},{"$f":"入力シート!H70&\"\"","v":""},{"$f":"入力シート!K70&\"\"","v":""}]
[{"$f":"入力シート!A71&\"\"","v":"51"},{"$f":"入力シート!B71&\"\"","v":"高松"},null,null,{"$f":"入力シート!C71&\"\"","v":""},null,null,{"$f":"入力シート!D71&\"\"","v":""},null,{"$f":"入力シート!E71&\"\"","v":""},{"$f":"入力シート!G71&\"\"","v":""},{"$f":"入力シート!H71&\"\"","v":""},{"$f":"入力シート!K71&\"\"","v":""}]
[{"$f":"入力シート!A72&\"\"","v":"52"},{"$f":"入力シート!B72&\"\"","v":"高松"},null,null,{"$f":"入力シート!C72&\"\"","v":""},null,null,{"$f":"入力シート!D72&\"\"","v":""},null,{"$f":"入力シート!E72&\"\"","v":""},{"$f":"入力シート!G72&\"\"","v":""},{"$f":"入力シート!H72&\"\"","v":""},{"$f":"入力シート!K72&\"\"","v":""}]
[{"$f":"入力シート!A73&\"\"","v":"53"},{"$f":"入力シート!B73&\"\"","v":"高松"},null,null,{"$f":"入力シート!C73&\"\"","v":""},null,null,{"$f":"入力シート!D73&\"\"","v":""},null,{"$f":"入力シート!E73&\"\"","v":""},{"$f":"入力シート!G73&\"\"","v":""},{"$f":"入力シート!H73&\"\"","v":""},{"$f":"入力シート!K73&\"\"","v":""}]
[{"$f":"入力シート!A74&\"\"","v":"54"},{"$f":"入力シート!B74&\"\"","v":"高松"},null,null,{"$f":"入力シート!C74&\"\"","v":""},null,null,{"$f":"入力シート!D74&\"\"","v":""},null,{"$f":"入力シート!E74&\"\"","v":""},{"$f":"入力シート!G74&\"\"","v":""},{"$f":"入力シート!H74&\"\"","v":""},{"$f":"入力シート!K74&\"\"","v":""}]
[{"$f":"入力シート!A75&\"\"","v":"55"},{"$f":"入力シート!B75&\"\"","v":"高松"},null,null,{"$f":"入力シート!C75&\"\"","v":""},null,null,{"$f":"入力シート!D75&\"\"","v":""},null,{"$f":"入力シート!E75&\"\"","v":""},{"$f":"入力シート!G75&\"\"","v":""},{"$f":"入力シート!H75&\"\"","v":""},{"$f":"入力シート!K75&\"\"","v":""}]
[{"$f":"入力シート!A76&\"\"","v":"56"},{"$f":"入力シート!B76&\"\"","v":"高松"},null,null,{"$f":"入力シート!C76&\"\"","v":""},null,null,{"$f":"入力シート!D76&\"\"","v":""},null,{"$f":"入力シート!E76&\"\"","v":""},{"$f":"入力シート!G76&\"\"","v":""},{"$f":"入力シート!H76&\"\"","v":""},{"$f":"入力シート!K76&\"\"","v":""}]
[{"$f":"入力シート!A77&\"\"","v":"57"},{"$f":"入力シート!B77&\"\"","v":"高松"},null,null,{"$f":"入力シート!C77&\"\"","v":""},null,null,{"$f":"入力シート!D77&\"\"","v":""},null,{"$f":"入力シート!E77&\"\"","v":""},{"$f":"入力シート!G77&\"\"","v":""},{"$f":"入力シート!H77&\"\"","v":""},{"$f":"入力シート!K77&\"\"","v":""}]
[{"$f":"入力シート!A78&\"\"","v":"58"},{"$f":"入力シート!B78&\"\"","v":"高松"},null,null,{"$f":"入力シート!C78&\"\"","v":""},null,null,{"$f":"入力シート!D78&\"\"","v":""},null,{"$f":"入力シート!E78&\"\"","v":""},{"$f":"入力シート!G78&\"\"","v":""},{"$f":"入力シート!H78&\"\"","v":""},{"$f":"入力シート!K78&\"\"","v":""}]
[{"$f":"入力シート!A79&\"\"","v":"59"},{"$f":"入力シート!B79&\"\"","v":"高松"},null,null,{"$f":"入力シート!C79&\"\"","v":""},null,null,{"$f":"入力シート!D79&\"\"","v":""},null,{"$f":"入力シート!E79&\"\"","v":""},{"$f":"入力シート!G79&\"\"","v":""},{"$f":"入力シート!H79&\"\"","v":""},{"$f":"入力シート!K79&\"\"","v":""}]
[{"$f":"入力シート!A80&\"\"","v":"60"},{"$f":"入力シート!B80&\"\"","v":"高松"},null,null,{"$f":"入力シート!C80&\"\"","v":""},null,null,{"$f":"入力シート!D80&\"\"","v":""},null,{"$f":"入力シート!E80&\"\"","v":""},{"$f":"入力シート!G80&\"\"","v":""},{"$f":"入力シート!H80&\"\"","v":""},{"$f":"入力シート!K80&\"\"","v":""}]
[{"$f":"入力シート!A81&\"\"","v":"61"},{"$f":"入力シート!B81&\"\"","v":"高松"},null,null,{"$f":"入力シート!C81&\"\"","v":""},null,null,{"$f":"入力シート!D81&\"\"","v":""},null,{"$f":"入力シート!E81&\"\"","v":""},{"$f":"入力シート!G81&\"\"","v":""},{"$f":"入力シート!H81&\"\"","v":""},{"$f":"入力シート!K81&\"\"","v":""}]
[{"$f":"入力シート!A82&\"\"","v":"62"},{"$f":"入力シート!B82&\"\"","v":"高松"},null,null,{"$f":"入力シート!C82&\"\"","v":""},null,null,{"$f":"入力シート!D82&\"\"","v":""},null,{"$f":"入力シート!E82&\"\"","v":""},{"$f":"入力シート!G82&\"\"","v":""},{"$f":"入力シート!H82&\"\"","v":""},{"$f":"入力シート!K82&\"\"","v":""}]
[{"$f":"入力シート!A83&\"\"","v":"63"},{"$f":"入力シート!B83&\"\"","v":"高松"},null,null,{"$f":"入力シート!C83&\"\"","v":""},null,null,{"$f":"入力シート!D83&\"\"","v":""},null,{"$f":"入力シート!E83&\"\"","v":""},{"$f":"入力シート!G83&\"\"","v":""},{"$f":"入力シート!H83&\"\"","v":""},{"$f":"入力シート!K83&\"\"","v":""}]
[{"$f":"入力シート!A84&\"\"","v":"64"},{"$f":"入力シート!B84&\"\"","v":"高松"},null,null,{"$f":"入力シート!C84&\"\"","v":""},null,null,{"$f":"入力シート!D84&\"\"","v":""},null,{"$f":"入力シート!E84&\"\"","v":""},{"$f":"入力シート!G84&\"\"","v":""},{"$f":"入力シート!H84&\"\"","v":""},{"$f":"入力シート!K84&\"\"","v":""}]
[{"$f":"入力シート!A85&\"\"","v":"65"},{"$f":"入力シート!B85&\"\"","v":"高松"},null,null,{"$f":"入力シート!C85&\"\"","v":""},null,null,{"$f":"入力シート!D85&\"\"","v":""},null,{"$f":"入力シート!E85&\"\"","v":""},{"$f":"入力シート!G85&\"\"","v":""},{"$f":"入力シート!H85&\"\"","v":""},{"$f":"入力シート!K85&\"\"","v":""}]
[{"$f":"入力シート!A86&\"\"","v":"66"},{"$f":"入力シート!B86&\"\"","v":"高松"},null,null,{"$f":"入力シート!C86&\"\"","v":""},null,null,{"$f":"入力シート!D86&\"\"","v":""},null,{"$f":"入力シート!E86&\"\"","v":""},{"$f":"入力シート!G86&\"\"","v":""},{"$f":"入力シート!H86&\"\"","v":""},{"$f":"入力シート!K86&\"\"","v":""}]
[{"$f":"入力シート!A87&\"\"","v":"67"},{"$f":"入力シート!B87&\"\"","v":"高松"},null,null,{"$f":"入力シート!C87&\"\"","v":""},null,null,{"$f":"入力シート!D87&\"\"","v":""},null,{"$f":"入力シート!E87&\"\"","v":""},{"$f":"入力シート!G87&\"\"","v":""},{"$f":"入力シート!H87&\"\"","v":""},{"$f":"入力シート!K87&\"\"","v":""}]
[{"$f":"入力シート!A88&\"\"","v":"68"},{"$f":"入力シート!B88&\"\"","v":"高松"},null,null,{"$f":"入力シート!C88&\"\"","v":""},null,null,{"$f":"入力シート!D88&\"\"","v":""},null,{"$f":"入力シート!E88&\"\"","v":""},{"$f":"入力シート!G88&\"\"","v":""},{"$f":"入力シート!H88&\"\"","v":""},{"$f":"入力シート!K88&\"\"","v":""}]
[{"$f":"入力シート!A89&\"\"","v":"69"},{"$f":"入力シート!B89&\"\"","v":"高松"},null,null,{"$f":"入力シート!C89&\"\"","v":""},null,null,{"$f":"入力シート!D89&\"\"","v":""},null,{"$f":"入力シート!E89&\"\"","v":""},{"$f":"入力シート!G89&\"\"","v":""},{"$f":"入力シート!H89&\"\"","v":""},{"$f":"入力シート!K89&\"\"","v":""}]
[{"$f":"入力シート!A90&\"\"","v":"70"},{"$f":"入力シート!B90&\"\"","v":"高松"},null,null,{"$f":"入力シート!C90&\"\"","v":""},null,null,{"$f":"入力シート!D90&\"\"","v":""},null,{"$f":"入力シート!E90&\"\"","v":""},{"$f":"入力シート!G90&\"\"","v":""},{"$f":"入力シート!H90&\"\"","v":""},{"$f":"入力シート!K90&\"\"","v":""}]
[{"$f":"入力シート!A91&\"\"","v":"71"},{"$f":"入力シート!B91&\"\"","v":"高松"},null,null,{"$f":"入力シート!C91&\"\"","v":""},null,null,{"$f":"入力シート!D91&\"\"","v":""},null,{"$f":"入力シート!E91&\"\"","v":""},{"$f":"入力シート!G91&\"\"","v":""},{"$f":"入力シート!H91&\"\"","v":""},{"$f":"入力シート!K91&\"\"","v":""}]
[{"$f":"入力シート!A92&\"\"","v":"72"},{"$f":"入力シート!B92&\"\"","v":"高松"},null,null,{"$f":"入力シート!C92&\"\"","v":""},null,null,{"$f":"入力シート!D92&\"\"","v":""},null,{"$f":"入力シート!E92&\"\"","v":""},{"$f":"入力シート!G92&\"\"","v":""},{"$f":"入力シート!H92&\"\"","v":""},{"$f":"入力シート!K92&\"\"","v":""}]
[{"$f":"入力シート!A93&\"\"","v":"73"},{"$f":"入力シート!B93&\"\"","v":"高松"},null,null,{"$f":"入力シート!C93&\"\"","v":""},null,null,{"$f":"入力シート!D93&\"\"","v":""},null,{"$f":"入力シート!E93&\"\"","v":""},{"$f":"入力シート!G93&\"\"","v":""},{"$f":"入力シート!H93&\"\"","v":""},{"$f":"入力シート!K93&\"\"","v":""}]
[{"$f":"入力シート!A94&\"\"","v":"74"},{"$f":"入力シート!B94&\"\"","v":"高松"},null,null,{"$f":"入力シート!C94&\"\"","v":""},null,null,{"$f":"入力シート!D94&\"\"","v":""},null,{"$f":"入力シート!E94&\"\"","v":""},{"$f":"入力シート!G94&\"\"","v":""},{"$f":"入力シート!H94&\"\"","v":""},{"$f":"入力シート!K94&\"\"","v":""}]
[{"$f":"入力シート!A95&\"\"","v":"75"},{"$f":"入力シート!B95&\"\"","v":"高松"},null,null,{"$f":"入力シート!C95&\"\"","v":""},null,null,{"$f":"入力シート!D95&\"\"","v":""},null,{"$f":"入力シート!E95&\"\"","v":""},{"$f":"入力シート!G95&\"\"","v":""},{"$f":"入力シート!H95&\"\"","v":""},{"$f":"入力シート!K95&\"\"","v":""}]
[{"$f":"入力シート!A96&\"\"","v":"76"},{"$f":"入力シート!B96&\"\"","v":"高松"},null,null,{"$f":"入力シート!C96&\"\"","v":""},null,null,{"$f":"入力シート!D96&\"\"","v":""},null,{"$f":"入力シート!E96&\"\"","v":""},{"$f":"入力シート!G96&\"\"","v":""},{"$f":"入力シート!H96&\"\"","v":""},{"$f":"入力シート!K96&\"\"","v":""}]
[{"$f":"入力シート!A97&\"\"","v":"77"},{"$f":"入力シート!B97&\"\"","v":"高松"},null,null,{"$f":"入力シート!C97&\"\"","v":""},null,null,{"$f":"入力シート!D97&\"\"","v":""},null,{"$f":"入力シート!E97&\"\"","v":""},{"$f":"入力シート!G97&\"\"","v":""},{"$f":"入力シート!H97&\"\"","v":""},{"$f":"入力シート!K97&\"\"","v":""}]
[{"$f":"入力シート!A98&\"\"","v":"78"},{"$f":"入力シート!B98&\"\"","v":"高松"},null,null,{"$f":"入力シート!C98&\"\"","v":""},null,null,{"$f":"入力シート!D98&\"\"","v":""},null,{"$f":"入力シート!E98&\"\"","v":""},{"$f":"入力シート!G98&\"\"","v":""},{"$f":"入力シート!H98&\"\"","v":""},{"$f":"入力シート!K98&\"\"","v":""}]
[{"$f":"入力シート!A99&\"\"","v":"79"},{"$f":"入力シート!B99&\"\"","v":"高松"},null,null,{"$f":"入力シート!C99&\"\"","v":""},null,null,{"$f":"入力シート!D99&\"\"","v":""},null,{"$f":"入力シート!E99&\"\"","v":""},{"$f":"入力シート!G99&\"\"","v":""},{"$f":"入力シート!H99&\"\"","v":""},{"$f":"入力シート!K99&\"\"","v":""}]
[{"$f":"入力シート!A100&\"\"","v":"80"},{"$f":"入力シート!B100&\"\"","v":"高松"},null,null,{"$f":"入力シート!C100&\"\"","v":""},null,null,{"$f":"入力シート!D100&\"\"","v":""},null,{"$f":"入力シート!E100&\"\"","v":""},{"$f":"入力シート!G100&\"\"","v":""},{"$f":"入力シート!H100&\"\"","v":""},{"$f":"入力シート!K100&\"\"","v":""}]
[{"$f":"入力シート!A101&\"\"","v":"81"},{"$f":"入力シート!B101&\"\"","v":"高松"},null,null,{"$f":"入力シート!C101&\"\"","v":""},null,null,{"$f":"入力シート!D101&\"\"","v":""},null,{"$f":"入力シート!E101&\"\"","v":""},{"$f":"入力シート!G101&\"\"","v":""},{"$f":"入力シート!H101&\"\"","v":""},{"$f":"入力シート!K101&\"\"","v":""}]
[{"$f":"入力シート!A102&\"\"","v":"82"},{"$f":"入力シート!B102&\"\"","v":"高松"},null,null,{"$f":"入力シート!C102&\"\"","v":""},null,null,{"$f":"入力シート!D102&\"\"","v":""},null,{"$f":"入力シート!E102&\"\"","v":""},{"$f":"入力シート!G102&\"\"","v":""},{"$f":"入力シート!H102&\"\"","v":""},{"$f":"入力シート!K102&\"\"","v":""}]
[{"$f":"入力シート!A103&\"\"","v":"83"},{"$f":"入力シート!B103&\"\"","v":"高松"},null,null,{"$f":"入力シート!C103&\"\"","v":""},null,null,{"$f":"入力シート!D103&\"\"","v":""},null,{"$f":"入力シート!E103&\"\"","v":""},{"$f":"入力シート!G103&\"\"","v":""},{"$f":"入力シート!H103&\"\"","v":""},{"$f":"入力シート!K103&\"\"","v":""}]
[{"$f":"入力シート!A104&\"\"","v":"84"},{"$f":"入力シート!B104&\"\"","v":"高松"},null,null,{"$f":"入力シート!C104&\"\"","v":""},null,null,{"$f":"入力シート!D104&\"\"","v":""},null,{"$f":"入力シート!E104&\"\"","v":""},{"$f":"入力シート!G104&\"\"","v":""},{"$f":"入力シート!H104&\"\"","v":""},{"$f":"入力シート!K104&\"\"","v":""}]
[{"$f":"入力シート!A105&\"\"","v":"85"},{"$f":"入力シート!B105&\"\"","v":"高松"},null,null,{"$f":"入力シート!C105&\"\"","v":""},null,null,{"$f":"入力シート!D105&\"\"","v":""},null,{"$f":"入力シート!E105&\"\"","v":""},{"$f":"入力シート!G105&\"\"","v":""},{"$f":"入力シート!H105&\"\"","v":""},{"$f":"入力シート!K105&\"\"","v":""}]
[{"$f":"入力シート!A106&\"\"","v":"86"},{"$f":"入力シート!B106&\"\"","v":"高松"},null,null,{"$f":"入力シート!C106&\"\"","v":""},null,null,{"$f":"入力シート!D106&\"\"","v":""},null,{"$f":"入力シート!E106&\"\"","v":""},{"$f":"入力シート!G106&\"\"","v":""},{"$f":"入力シート!H106&\"\"","v":""},{"$f":"入力シート!K106&\"\"","v":""}]
[{"$f":"入力シート!A107&\"\"","v":"87"},{"$f":"入力シート!B107&\"\"","v":"高松"},null,null,{"$f":"入力シート!C107&\"\"","v":""},null,null,{"$f":"入力シート!D107&\"\"","v":""},null,{"$f":"入力シート!E107&\"\"","v":""},{"$f":"入力シート!G107&\"\"","v":""},{"$f":"入力シート!H107&\"\"","v":""},{"$f":"入力シート!K107&\"\"","v":""}]
[{"$f":"入力シート!A108&\"\"","v":"88"},{"$f":"入力シート!B108&\"\"","v":"高松"},null,null,{"$f":"入力シート!C108&\"\"","v":""},null,null,{"$f":"入力シート!D108&\"\"","v":""},null,{"$f":"入力シート!E108&\"\"","v":""},{"$f":"入力シート!G108&\"\"","v":""},{"$f":"入力シート!H108&\"\"","v":""},{"$f":"入力シート!K108&\"\"","v":""}]
[{"$f":"入力シート!A109&\"\"","v":"89"},{"$f":"入力シート!B109&\"\"","v":"高松"},null,null,{"$f":"入力シート!C109&\"\"","v":""},null,null,{"$f":"入力シート!D109&\"\"","v":""},null,{"$f":"入力シート!E109&\"\"","v":""},{"$f":"入力シート!G109&\"\"","v":""},{"$f":"入力シート!H109&\"\"","v":""},{"$f":"入力シート!K109&\"\"","v":""}]
[{"$f":"入力シート!A110&\"\"","v":"90"},{"$f":"入力シート!B110&\"\"","v":"高松"},null,null,{"$f":"入力シート!C110&\"\"","v":""},null,null,{"$f":"入力シート!D110&\"\"","v":""},null,{"$f":"入力シート!E110&\"\"","v":""},{"$f":"入力シート!G110&\"\"","v":""},{"$f":"入力シート!H110&\"\"","v":""},{"$f":"入力シート!K110&\"\"","v":""}]
[{"$f":"入力シート!A111&\"\"","v":"91"},{"$f":"入力シート!B111&\"\"","v":"高松"},null,null,{"$f":"入力シート!C111&\"\"","v":""},null,null,{"$f":"入力シート!D111&\"\"","v":""},null,{"$f":"入力シート!E111&\"\"","v":""},{"$f":"入力シート!G111&\"\"","v":""},{"$f":"入力シート!H111&\"\"","v":""},{"$f":"入力シート!K111&\"\"","v":""}]
[{"$f":"入力シート!A112&\"\"","v":"92"},{"$f":"入力シート!B112&\"\"","v":"高松"},null,null,{"$f":"入力シート!C112&\"\"","v":""},null,null,{"$f":"入力シート!D112&\"\"","v":""},null,{"$f":"入力シート!E112&\"\"","v":""},{"$f":"入力シート!G112&\"\"","v":""},{"$f":"入力シート!H112&\"\"","v":""},{"$f":"入力シート!K112&\"\"","v":""}]
[{"$f":"入力シート!A113&\"\"","v":"93"},{"$f":"入力シート!B113&\"\"","v":"高松"},null,null,{"$f":"入力シート!C113&\"\"","v":""},null,null,{"$f":"入力シート!D113&\"\"","v":""},null,{"$f":"入力シート!E113&\"\"","v":""},{"$f":"入力シート!G113&\"\"","v":""},{"$f":"入力シート!H113&\"\"","v":""},{"$f":"入力シート!K113&\"\"","v":""}]
[{"$f":"入力シート!A114&\"\"","v":"94"},{"$f":"入力シート!B114&\"\"","v":"高松"},null,null,{"$f":"入力シート!C114&\"\"","v":""},null,null,{"$f":"入力シート!D114&\"\"","v":""},null,{"$f":"入力シート!E114&\"\"","v":""},{"$f":"入力シート!G114&\"\"","v":""},{"$f":"入力シート!H114&\"\"","v":""},{"$f":"入力シート!K114&\"\"","v":""}]
[{"$f":"入力シート!A115&\"\"","v":"95"},{"$f":"入力シート!B115&\"\"","v":"高松"},null,null,{"$f":"入力シート!C115&\"\"","v":""},null,null,{"$f":"入力シート!D115&\"\"","v":""},null,{"$f":"入力シート!E115&\"\"","v":""},{"$f":"入力シート!G115&\"\"","v":""},{"$f":"入力シート!H115&\"\"","v":""},{"$f":"入力シート!K115&\"\"","v":""}]
[{"$f":"入力シート!A116&\"\"","v":"96"},{"$f":"入力シート!B116&\"\"","v":"高松"},null,null,{"$f":"入力シート!C116&\"\"","v":""},null,null,{"$f":"入力シート!D116&\"\"","v":""},null,{"$f":"入力シート!E116&\"\"","v":""},{"$f":"入力シート!G116&\"\"","v":""},{"$f":"入力シート!H116&\"\"","v":""},{"$f":"入力シート!K116&\"\"","v":""}]
[{"$f":"入力シート!A117&\"\"","v":"97"},{"$f":"入力シート!B117&\"\"","v":"高松"},null,null,{"$f":"入力シート!C117&\"\"","v":""},null,null,{"$f":"入力シート!D117&\"\"","v":""},null,{"$f":"入力シート!E117&\"\"","v":""},{"$f":"入力シート!G117&\"\"","v":""},{"$f":"入力シート!H117&\"\"","v":""},{"$f":"入力シート!K117&\"\"","v":""}]
[{"$f":"入力シート!A118&\"\"","v":"98"},{"$f":"入力シート!B118&\"\"","v":"高松"},null,null,{"$f":"入力シート!C118&\"\"","v":""},null,null,{"$f":"入力シート!D118&\"\"","v":""},null,{"$f":"入力シート!E118&\"\"","v":""},{"$f":"入力シート!G118&\"\"","v":""},{"$f":"入力シート!H118&\"\"","v":""},{"$f":"入力シート!K118&\"\"","v":""}]
[{"$f":"入力シート!A119&\"\"","v":"99"},{"$f":"入力シート!B119&\"\"","v":"高松"},null,null,{"$f":"入力シート!C119&\"\"","v":""},null,null,{"$f":"入力シート!D119&\"\"","v":""},null,{"$f":"入力シート!E119&\"\"","v":""},{"$f":"入力シート!G119&\"\"","v":""},{"$f":"入力シート!H119&\"\"","v":""},{"$f":"入力シート!K119&\"\"","v":""}]
[{"$f":"入力シート!A120&\"\"","v":"100"},{"$f":"入力シート!B120&\"\"","v":"高松"},null,null,{"$f":"入力シート!C120&\"\"","v":""},null,null,{"$f":"入力シート!D120&\"\"","v":""},null,{"$f":"入力シート!E120&\"\"","v":""},{"$f":"入力シート!G120&\"\"","v":""},{"$f":"入力シート!H120&\"\"","v":""},{"$f":"入力シート!K120&\"\"","v":""}]
[{"$f":"入力シート!A121&\"\"","v":"101"},{"$f":"入力シート!B121&\"\"","v":"高松"},null,null,{"$f":"入力シート!C121&\"\"","v":""},null,null,{"$f":"入力シート!D121&\"\"","v":""},null,{"$f":"入力シート!E121&\"\"","v":""},{"$f":"入力シート!G121&\"\"","v":""},{"$f":"入力シート!H121&\"\"","v":""},{"$f":"入力シート!K121&\"\"","v":""}]
[{"$f":"入力シート!A122&\"\"","v":"102"},{"$f":"入力シート!B122&\"\"","v":"高松"},null,null,{"$f":"入力シート!C122&\"\"","v":""},null,null,{"$f":"入力シート!D122&\"\"","v":""},null,{"$f":"入力シート!E122&\"\"","v":""},{"$f":"入力シート!G122&\"\"","v":""},{"$f":"入力シート!H122&\"\"","v":""},{"$f":"入力シート!K122&\"\"","v":""}]
[{"$f":"入力シート!A123&\"\"","v":"103"},{"$f":"入力シート!B123&\"\"","v":"高松"},null,null,{"$f":"入力シート!C123&\"\"","v":""},null,null,{"$f":"入力シート!D123&\"\"","v":""},null,{"$f":"入力シート!E123&\"\"","v":""},{"$f":"入力シート!G123&\"\"","v":""},{"$f":"入力シート!H123&\"\"","v":""},{"$f":"入力シート!K123&\"\"","v":""}]
[{"$f":"入力シート!A124&\"\"","v":"104"},{"$f":"入力シート!B124&\"\"","v":"高松"},null,null,{"$f":"入力シート!C124&\"\"","v":""},null,null,{"$f":"入力シート!D124&\"\"","v":""},null,{"$f":"入力シート!E124&\"\"","v":""},{"$f":"入力シート!G124&\"\"","v":""},{"$f":"入力シート!H124&\"\"","v":""},{"$f":"入力シート!K124&\"\"","v":""}]
[{"$f":"入力シート!A125&\"\"","v":"105"},{"$f":"入力シート!B125&\"\"","v":"高松"},null,null,{"$f":"入力シート!C125&\"\"","v":""},null,null,{"$f":"入力シート!D125&\"\"","v":""},null,{"$f":"入力シート!E125&\"\"","v":""},{"$f":"入力シート!G125&\"\"","v":""},{"$f":"入力シート!H125&\"\"","v":""},{"$f":"入力シート!K125&\"\"","v":""}]
[{"$f":"入力シート!A126&\"\"","v":"106"},{"$f":"入力シート!B126&\"\"","v":"高松"},null,null,{"$f":"入力シート!C126&\"\"","v":""},null,null,{"$f":"入力シート!D126&\"\"","v":""},null,{"$f":"入力シート!E126&\"\"","v":""},{"$f":"入力シート!G126&\"\"","v":""},{"$f":"入力シート!H126&\"\"","v":""},{"$f":"入力シート!K126&\"\"","v":""}]
[{"$f":"入力シート!A127&\"\"","v":"107"},{"$f":"入力シート!B127&\"\"","v":"高松"},null,null,{"$f":"入力シート!C127&\"\"","v":""},null,null,{"$f":"入力シート!D127&\"\"","v":""},null,{"$f":"入力シート!E127&\"\"","v":""},{"$f":"入力シート!G127&\"\"","v":""},{"$f":"入力シート!H127&\"\"","v":""},{"$f":"入力シート!K127&\"\"","v":""}]
[{"$f":"入力シート!A128&\"\"","v":"108"},{"$f":"入力シート!B128&\"\"","v":"高松"},null,null,{"$f":"入力シート!C128&\"\"","v":""},null,null,{"$f":"入力シート!D128&\"\"","v":""},null,{"$f":"入力シート!E128&\"\"","v":""},{"$f":"入力シート!G128&\"\"","v":""},{"$f":"入力シート!H128&\"\"","v":""},{"$f":"入力シート!K128&\"\"","v":""}]
[{"$f":"入力シート!A129&\"\"","v":"109"},{"$f":"入力シート!B129&\"\"","v":"高松"},null,null,{"$f":"入力シート!C129&\"\"","v":""},null,null,{"$f":"入力シート!D129&\"\"","v":""},null,{"$f":"入力シート!E129&\"\"","v":""},{"$f":"入力シート!G129&\"\"","v":""},{"$f":"入力シート!H129&\"\"","v":""},{"$f":"入力シート!K129&\"\"","v":""}]
[{"$f":"入力シート!A130&\"\"","v":"110"},{"$f":"入力シート!B130&\"\"","v":"高松"},null,null,{"$f":"入力シート!C130&\"\"","v":""},null,null,{"$f":"入力シート!D130&\"\"","v":""},null,{"$f":"入力シート!E130&\"\"","v":""},{"$f":"入力シート!G130&\"\"","v":""},{"$f":"入力シート!H130&\"\"","v":""},{"$f":"入力シート!K130&\"\"","v":""}]
[{"$f":"入力シート!A131&\"\"","v":"111"},{"$f":"入力シート!B131&\"\"","v":"高松"},null,null,{"$f":"入力シート!C131&\"\"","v":""},null,null,{"$f":"入力シート!D131&\"\"","v":""},null,{"$f":"入力シート!E131&\"\"","v":""},{"$f":"入力シート!G131&\"\"","v":""},{"$f":"入力シート!H131&\"\"","v":""},{"$f":"入力シート!K131&\"\"","v":""}]
[{"$f":"入力シート!A132&\"\"","v":"112"},{"$f":"入力シート!B132&\"\"","v":"高松"},null,null,{"$f":"入力シート!C132&\"\"","v":""},null,null,{"$f":"入力シート!D132&\"\"","v":""},null,{"$f":"入力シート!E132&\"\"","v":""},{"$f":"入力シート!G132&\"\"","v":""},{"$f":"入力シート!H132&\"\"","v":""},{"$f":"入力シート!K132&\"\"","v":""}]
[{"$f":"入力シート!A133&\"\"","v":"113"},{"$f":"入力シート!B133&\"\"","v":"高松"},null,null,{"$f":"入力シート!C133&\"\"","v":""},null,null,{"$f":"入力シート!D133&\"\"","v":""},null,{"$f":"入力シート!E133&\"\"","v":""},{"$f":"入力シート!G133&\"\"","v":""},{"$f":"入力シート!H133&\"\"","v":""},{"$f":"入力シート!K133&\"\"","v":""}]
[{"$f":"入力シート!A134&\"\"","v":"114"},{"$f":"入力シート!B134&\"\"","v":"高松"},null,null,{"$f":"入力シート!C134&\"\"","v":""},null,null,{"$f":"入力シート!D134&\"\"","v":""},null,{"$f":"入力シート!E134&\"\"","v":""},{"$f":"入力シート!G134&\"\"","v":""},{"$f":"入力シート!H134&\"\"","v":""},{"$f":"入力シート!K134&\"\"","v":""}]
[{"$f":"入力シート!A135&\"\"","v":"115"},{"$f":"入力シート!B135&\"\"","v":"高松"},null,null,{"$f":"入力シート!C135&\"\"","v":""},null,null,{"$f":"入力シート!D135&\"\"","v":""},null,{"$f":"入力シート!E135&\"\"","v":""},{"$f":"入力シート!G135&\"\"","v":""},{"$f":"入力シート!H135&\"\"","v":""},{"$f":"入力シート!K135&\"\"","v":""}]
[{"$f":"入力シート!A136&\"\"","v":"116"},{"$f":"入力シート!B136&\"\"","v":"高松"},null,null,{"$f":"入力シート!C136&\"\"","v":""},null,null,{"$f":"入力シート!D136&\"\"","v":""},null,{"$f":"入力シート!E136&\"\"","v":""},{"$f":"入力シート!G136&\"\"","v":""},{"$f":"入力シート!H136&\"\"","v":""},{"$f":"入力シート!K136&\"\"","v":""}]
[{"$f":"入力シート!A137&\"\"","v":"117"},{"$f":"入力シート!B137&\"\"","v":"高松"},null,null,{"$f":"入力シート!C137&\"\"","v":""},null,null,{"$f":"入力シート!D137&\"\"","v":""},null,{"$f":"入力シート!E137&\"\"","v":""},{"$f":"入力シート!G137&\"\"","v":""},{"$f":"入力シート!H137&\"\"","v":""},{"$f":"入力シート!K137&\"\"","v":""}]
[{"$f":"入力シート!A138&\"\"","v":"118"},{"$f":"入力シート!B138&\"\"","v":"高松"},null,null,{"$f":"入力シート!C138&\"\"","v":""},null,null,{"$f":"入力シート!D138&\"\"","v":""},null,{"$f":"入力シート!E138&\"\"","v":""},{"$f":"入力シート!G138&\"\"","v":""},{"$f":"入力シート!H138&\"\"","v":""},{"$f":"入力シート!K138&\"\"","v":""}]
[{"$f":"入力シート!A139&\"\"","v":"119"},{"$f":"入力シート!B139&\"\"","v":"高松"},null,null,{"$f":"入力シート!C139&\"\"","v":""},null,null,{"$f":"入力シート!D139&\"\"","v":""},null,{"$f":"入力シート!E139&\"\"","v":""},{"$f":"入力シート!G139&\"\"","v":""},{"$f":"入力シート!H139&\"\"","v":""},{"$f":"入力シート!K139&\"\"","v":""}]
[{"$f":"入力シート!A140&\"\"","v":"120"},{"$f":"入力シート!B140&\"\"","v":"高松"},null,null,{"$f":"入力シート!C140&\"\"","v":""},null,null,{"$f":"入力シート!D140&\"\"","v":""},null,{"$f":"入力シート!E140&\"\"","v":""},{"$f":"入力シート!G140&\"\"","v":""},{"$f":"入力シート!H140&\"\"","v":""},{"$f":"入力シート!K140&\"\"","v":""}]
[{"$f":"入力シート!A141&\"\"","v":"121"},{"$f":"入力シート!B141&\"\"","v":"高松"},null,null,{"$f":"入力シート!C141&\"\"","v":""},null,null,{"$f":"入力シート!D141&\"\"","v":""},null,{"$f":"入力シート!E141&\"\"","v":""},{"$f":"入力シート!G141&\"\"","v":""},{"$f":"入力シート!H141&\"\"","v":""},{"$f":"入力シート!K141&\"\"","v":""}]
[{"$f":"入力シート!A142&\"\"","v":"122"},{"$f":"入力シート!B142&\"\"","v":"高松"},null,null,{"$f":"入力シート!C142&\"\"","v":""},null,null,{"$f":"入力シート!D142&\"\"","v":""},null,{"$f":"入力シート!E142&\"\"","v":""},{"$f":"入力シート!G142&\"\"","v":""},{"$f":"入力シート!H142&\"\"","v":""},{"$f":"入力シート!K142&\"\"","v":""}]
[{"$f":"入力シート!A143&\"\"","v":"123"},{"$f":"入力シート!B143&\"\"","v":"高松"},null,null,{"$f":"入力シート!C143&\"\"","v":""},null,null,{"$f":"入力シート!D143&\"\"","v":""},null,{"$f":"入力シート!E143&\"\"","v":""},{"$f":"入力シート!G143&\"\"","v":""},{"$f":"入力シート!H143&\"\"","v":""},{"$f":"入力シート!K143&\"\"","v":""}]
[{"$f":"入力シート!A144&\"\"","v":"124"},{"$f":"入力シート!B144&\"\"","v":"高松"},null,null,{"$f":"入力シート!C144&\"\"","v":""},null,null,{"$f":"入力シート!D144&\"\"","v":""},null,{"$f":"入力シート!E144&\"\"","v":""},{"$f":"入力シート!G144&\"\"","v":""},{"$f":"入力シート!H144&\"\"","v":""},{"$f":"入力シート!K144&\"\"","v":""}]
[{"$f":"入力シート!A145&\"\"","v":"125"},{"$f":"入力シート!B145&\"\"","v":"高松"},null,null,{"$f":"入力シート!C145&\"\"","v":""},null,null,{"$f":"入力シート!D145&\"\"","v":""},null,{"$f":"入力シート!E145&\"\"","v":""},{"$f":"入力シート!G145&\"\"","v":""},{"$f":"入力シート!H145&\"\"","v":""},{"$f":"入力シート!K145&\"\"","v":""}]
[{"$f":"入力シート!A146&\"\"","v":"126"},{"$f":"入力シート!B146&\"\"","v":"高松"},null,null,{"$f":"入力シート!C146&\"\"","v":""},null,null,{"$f":"入力シート!D146&\"\"","v":""},null,{"$f":"入力シート!E146&\"\"","v":""},{"$f":"入力シート!G146&\"\"","v":""},{"$f":"入力シート!H146&\"\"","v":""},{"$f":"入力シート!K146&\"\"","v":""}]
[{"$f":"入力シート!A147&\"\"","v":"127"},{"$f":"入力シート!B147&\"\"","v":"高松"},null,null,{"$f":"入力シート!C147&\"\"","v":""},null,null,{"$f":"入力シート!D147&\"\"","v":""},null,{"$f":"入力シート!E147&\"\"","v":""},{"$f":"入力シート!G147&\"\"","v":""},{"$f":"入力シート!H147&\"\"","v":""},{"$f":"入力シート!K147&\"\"","v":""}]
[{"$f":"入力シート!A148&\"\"","v":"128"},{"$f":"入力シート!B148&\"\"","v":"高松"},null,null,{"$f":"入力シート!C148&\"\"","v":""},null,null,{"$f":"入力シート!D148&\"\"","v":""},null,{"$f":"入力シート!E148&\"\"","v":""},{"$f":"入力シート!G148&\"\"","v":""},{"$f":"入力シート!H148&\"\"","v":""},{"$f":"入力シート!K148&\"\"","v":""}]
[{"$f":"入力シート!A149&\"\"","v":"129"},{"$f":"入力シート!B149&\"\"","v":"高松"},null,null,{"$f":"入力シート!C149&\"\"","v":""},null,null,{"$f":"入力シート!D149&\"\"","v":""},null,{"$f":"入力シート!E149&\"\"","v":""},{"$f":"入力シート!G149&\"\"","v":""},{"$f":"入力シート!H149&\"\"","v":""},{"$f":"入力シート!K149&\"\"","v":""}]
[{"$f":"入力シート!A150&\"\"","v":"130"},{"$f":"入力シート!B150&\"\"","v":"高松"},null,null,{"$f":"入力シート!C150&\"\"","v":""},null,null,{"$f":"入力シート!D150&\"\"","v":""},null,{"$f":"入力シート!E150&\"\"","v":""},{"$f":"入力シート!G150&\"\"","v":""},{"$f":"入力シート!H150&\"\"","v":""},{"$f":"入力シート!K150&\"\"","v":""}]
[{"$f":"入力シート!A151&\"\"","v":"131"},{"$f":"入力シート!B151&\"\"","v":"高松"},null,null,{"$f":"入力シート!C151&\"\"","v":""},null,null,{"$f":"入力シート!D151&\"\"","v":""},null,{"$f":"入力シート!E151&\"\"","v":""},{"$f":"入力シート!G151&\"\"","v":""},{"$f":"入力シート!H151&\"\"","v":""},{"$f":"入力シート!K151&\"\"","v":""}]
[{"$f":"入力シート!A152&\"\"","v":"132"},{"$f":"入力シート!B152&\"\"","v":"高松"},null,null,{"$f":"入力シート!C152&\"\"","v":""},null,null,{"$f":"入力シート!D152&\"\"","v":""},null,{"$f":"入力シート!E152&\"\"","v":""},{"$f":"入力シート!G152&\"\"","v":""},{"$f":"入力シート!H152&\"\"","v":""},{"$f":"入力シート!K152&\"\"","v":""}]
[{"$f":"入力シート!A153&\"\"","v":"133"},{"$f":"入力シート!B153&\"\"","v":"高松"},null,null,{"$f":"入力シート!C153&\"\"","v":""},null,null,{"$f":"入力シート!D153&\"\"","v":""},null,{"$f":"入力シート!E153&\"\"","v":""},{"$f":"入力シート!G153&\"\"","v":""},{"$f":"入力シート!H153&\"\"","v":""},{"$f":"入力シート!K153&\"\"","v":""}]
[{"$f":"入力シート!A154&\"\"","v":"134"},{"$f":"入力シート!B154&\"\"","v":"高松"},null,null,{"$f":"入力シート!C154&\"\"","v":""},null,null,{"$f":"入力シート!D154&\"\"","v":""},null,{"$f":"入力シート!E154&\"\"","v":""},{"$f":"入力シート!G154&\"\"","v":""},{"$f":"入力シート!H154&\"\"","v":""},{"$f":"入力シート!K154&\"\"","v":""}]
[{"$f":"入力シート!A155&\"\"","v":"135"},{"$f":"入力シート!B155&\"\"","v":"高松"},null,null,{"$f":"入力シート!C155&\"\"","v":""},null,null,{"$f":"入力シート!D155&\"\"","v":""},null,{"$f":"入力シート!E155&\"\"","v":""},{"$f":"入力シート!G155&\"\"","v":""},{"$f":"入力シート!H155&\"\"","v":""},{"$f":"入力シート!K155&\"\"","v":""}]
[{"$f":"入力シート!A156&\"\"","v":"136"},{"$f":"入力シート!B156&\"\"","v":"高松"},null,null,{"$f":"入力シート!C156&\"\"","v":""},null,null,{"$f":"入力シート!D156&\"\"","v":""},null,{"$f":"入力シート!E156&\"\"","v":""},{"$f":"入力シート!G156&\"\"","v":""},{"$f":"入力シート!H156&\"\"","v":""},{"$f":"入力シート!K156&\"\"","v":""}]
[{"$f":"入力シート!A157&\"\"","v":"137"},{"$f":"入力シート!B157&\"\"","v":"高松"},null,null,{"$f":"入力シート!C157&\"\"","v":""},null,null,{"$f":"入力シート!D157&\"\"","v":""},null,{"$f":"入力シート!E157&\"\"","v":""},{"$f":"入力シート!G157&\"\"","v":""},{"$f":"入力シート!H157&\"\"","v":""},{"$f":"入力シート!K157&\"\"","v":""}]
[{"$f":"入力シート!A158&\"\"","v":"138"},{"$f":"入力シート!B158&\"\"","v":"高松"},null,null,{"$f":"入力シート!C158&\"\"","v":""},null,null,{"$f":"入力シート!D158&\"\"","v":""},null,{"$f":"入力シート!E158&\"\"","v":""},{"$f":"入力シート!G158&\"\"","v":""},{"$f":"入力シート!H158&\"\"","v":""},{"$f":"入力シート!K158&\"\"","v":""}]
[{"$f":"入力シート!A159&\"\"","v":"139"},{"$f":"入力シート!B159&\"\"","v":"高松"},null,null,{"$f":"入力シート!C159&\"\"","v":""},null,null,{"$f":"入力シート!D159&\"\"","v":""},null,{"$f":"入力シート!E159&\"\"","v":""},{"$f":"入力シート!G159&\"\"","v":""},{"$f":"入力シート!H159&\"\"","v":""},{"$f":"入力シート!K159&\"\"","v":""}]
[{"$f":"入力シート!A160&\"\"","v":"140"},{"$f":"入力シート!B160&\"\"","v":"高松"},null,null,{"$f":"入力シート!C160&\"\"","v":""},null,null,{"$f":"入力シート!D160&\"\"","v":""},null,{"$f":"入力シート!E160&\"\"","v":""},{"$f":"入力シート!G160&\"\"","v":""},{"$f":"入力シート!H160&\"\"","v":""},{"$f":"入力シート!K160&\"\"","v":""}]
[{"$f":"入力シート!A161&\"\"","v":"141"},{"$f":"入力シート!B161&\"\"","v":"高松"},null,null,{"$f":"入力シート!C161&\"\"","v":""},null,null,{"$f":"入力シート!D161&\"\"","v":""},null,{"$f":"入力シート!E161&\"\"","v":""},{"$f":"入力シート!G161&\"\"","v":""},{"$f":"入力シート!H161&\"\"","v":""},{"$f":"入力シート!K161&\"\"","v":""}]
[{"$f":"入力シート!A162&\"\"","v":"142"},{"$f":"入力シート!B162&\"\"","v":"高松"},null,null,{"$f":"入力シート!C162&\"\"","v":""},null,null,{"$f":"入力シート!D162&\"\"","v":""},null,{"$f":"入力シート!E162&\"\"","v":""},{"$f":"入力シート!G162&\"\"","v":""},{"$f":"入力シート!H162&\"\"","v":""},{"$f":"入力シート!K162&\"\"","v":""}]
[{"$f":"入力シート!A163&\"\"","v":"143"},{"$f":"入力シート!B163&\"\"","v":"高松"},null,null,{"$f":"入力シート!C163&\"\"","v":""},null,null,{"$f":"入力シート!D163&\"\"","v":""},null,{"$f":"入力シート!E163&\"\"","v":""},{"$f":"入力シート!G163&\"\"","v":""},{"$f":"入力シート!H163&\"\"","v":""},{"$f":"入力シート!K163&\"\"","v":""}]
[{"$f":"入力シート!A164&\"\"","v":"144"},{"$f":"入力シート!B164&\"\"","v":"高松"},null,null,{"$f":"入力シート!C164&\"\"","v":""},null,null,{"$f":"入力シート!D164&\"\"","v":""},null,{"$f":"入力シート!E164&\"\"","v":""},{"$f":"入力シート!G164&\"\"","v":""},{"$f":"入力シート!H164&\"\"","v":""},{"$f":"入力シート!K164&\"\"","v":""}]
[{"$f":"入力シート!A165&\"\"","v":"145"},{"$f":"入力シート!B165&\"\"","v":"高松"},null,null,{"$f":"入力シート!C165&\"\"","v":""},null,null,{"$f":"入力シート!D165&\"\"","v":""},null,{"$f":"入力シート!E165&\"\"","v":""},{"$f":"入力シート!G165&\"\"","v":""},{"$f":"入力シート!H165&\"\"","v":""},{"$f":"入力シート!K165&\"\"","v":""}]
[{"$f":"入力シート!A166&\"\"","v":"146"},{"$f":"入力シート!B166&\"\"","v":"高松"},null,null,{"$f":"入力シート!C166&\"\"","v":""},null,null,{"$f":"入力シート!D166&\"\"","v":""},null,{"$f":"入力シート!E166&\"\"","v":""},{"$f":"入力シート!G166&\"\"","v":""},{"$f":"入力シート!H166&\"\"","v":""},{"$f":"入力シート!K166&\"\"","v":""}]
[{"$f":"入力シート!A167&\"\"","v":"147"},{"$f":"入力シート!B167&\"\"","v":"高松"},null,null,{"$f":"入力シート!C167&\"\"","v":""},null,null,{"$f":"入力シート!D167&\"\"","v":""},null,{"$f":"入力シート!E167&\"\"","v":""},{"$f":"入力シート!G167&\"\"","v":""},{"$f":"入力シート!H167&\"\"","v":""},{"$f":"入力シート!K167&\"\"","v":""}]
[{"$f":"入力シート!A168&\"\"","v":"148"},{"$f":"入力シート!B168&\"\"","v":"高松"},null,null,{"$f":"入力シート!C168&\"\"","v":""},null,null,{"$f":"入力シート!D168&\"\"","v":""},null,{"$f":"入力シート!E168&\"\"","v":""},{"$f":"入力シート!G168&\"\"","v":""},{"$f":"入力シート!H168&\"\"","v":""},{"$f":"入力シート!K168&\"\"","v":""}]
[{"$f":"入力シート!A169&\"\"","v":"149"},{"$f":"入力シート!B169&\"\"","v":"高松"},null,null,{"$f":"入力シート!C169&\"\"","v":""},null,null,{"$f":"入力シート!D169&\"\"","v":""},null,{"$f":"入力シート!E169&\"\"","v":""},{"$f":"入力シート!G169&\"\"","v":""},{"$f":"入力シート!H169&\"\"","v":""},{"$f":"入力シート!K169&\"\"","v":""}]
[{"$f":"入力シート!A170&\"\"","v":"150"},{"$f":"入力シート!B170&\"\"","v":"高松"},null,null,{"$f":"入力シート!C170&\"\"","v":""},null,null,{"$f":"入力シート!D170&\"\"","v":""},null,{"$f":"入力シート!E170&\"\"","v":""},{"$f":"入力シート!G170&\"\"","v":""},{"$f":"入力シート!H170&\"\"","v":""},{"$f":"入力シート!K170&\"\"","v":""}]
[{"$f":"入力シート!A171&\"\"","v":"151"},{"$f":"入力シート!B171&\"\"","v":"高松"},null,null,{"$f":"入力シート!C171&\"\"","v":""},null,null,{"$f":"入力シート!D171&\"\"","v":""},null,{"$f":"入力シート!E171&\"\"","v":""},{"$f":"入力シート!G171&\"\"","v":""},{"$f":"入力シート!H171&\"\"","v":""},{"$f":"入力シート!K171&\"\"","v":""}]
[{"$f":"入力シート!A172&\"\"","v":"152"},{"$f":"入力シート!B172&\"\"","v":"高松"},null,null,{"$f":"入力シート!C172&\"\"","v":""},null,null,{"$f":"入力シート!D172&\"\"","v":""},null,{"$f":"入力シート!E172&\"\"","v":""},{"$f":"入力シート!G172&\"\"","v":""},{"$f":"入力シート!H172&\"\"","v":""},{"$f":"入力シート!K172&\"\"","v":""}]
[{"$f":"入力シート!A173&\"\"","v":"153"},{"$f":"入力シート!B173&\"\"","v":"高松"},null,null,{"$f":"入力シート!C173&\"\"","v":""},null,null,{"$f":"入力シート!D173&\"\"","v":""},null,{"$f":"入力シート!E173&\"\"","v":""},{"$f":"入力シート!G173&\"\"","v":""},{"$f":"入力シート!H173&\"\"","v":""},{"$f":"入力シート!K173&\"\"","v":""}]
[{"$f":"入力シート!A174&\"\"","v":"154"},{"$f":"入力シート!B174&\"\"","v":"高松"},null,null,{"$f":"入力シート!C174&\"\"","v":""},null,null,{"$f":"入力シート!D174&\"\"","v":""},null,{"$f":"入力シート!E174&\"\"","v":""},{"$f":"入力シート!G174&\"\"","v":""},{"$f":"入力シート!H174&\"\"","v":""},{"$f":"入力シート!K174&\"\"","v":""}]
[{"$f":"入力シート!A175&\"\"","v":"155"},{"$f":"入力シート!B175&\"\"","v":"高松"},null,null,{"$f":"入力シート!C175&\"\"","v":""},null,null,{"$f":"入力シート!D175&\"\"","v":""},null,{"$f":"入力シート!E175&\"\"","v":""},{"$f":"入力シート!G175&\"\"","v":""},{"$f":"入力シート!H175&\"\"","v":""},{"$f":"入力シート!K175&\"\"","v":""}]
[{"$f":"入力シート!A176&\"\"","v":"156"},{"$f":"入力シート!B176&\"\"","v":"高松"},null,null,{"$f":"入力シート!C176&\"\"","v":""},null,null,{"$f":"入力シート!D176&\"\"","v":""},null,{"$f":"入力シート!E176&\"\"","v":""},{"$f":"入力シート!G176&\"\"","v":""},{"$f":"入力シート!H176&\"\"","v":""},{"$f":"入力シート!K176&\"\"","v":""}]
[{"$f":"入力シート!A177&\"\"","v":"157"},{"$f":"入力シート!B177&\"\"","v":"高松"},null,null,{"$f":"入力シート!C177&\"\"","v":""},null,null,{"$f":"入力シート!D177&\"\"","v":""},null,{"$f":"入力シート!E177&\"\"","v":""},{"$f":"入力シート!G177&\"\"","v":""},{"$f":"入力シート!H177&\"\"","v":""},{"$f":"入力シート!K177&\"\"","v":""}]
[{"$f":"入力シート!A178&\"\"","v":"158"},{"$f":"入力シート!B178&\"\"","v":"高松"},null,null,{"$f":"入力シート!C178&\"\"","v":""},null,null,{"$f":"入力シート!D178&\"\"","v":""},null,{"$f":"入力シート!E178&\"\"","v":""},{"$f":"入力シート!G178&\"\"","v":""},{"$f":"入力シート!H178&\"\"","v":""},{"$f":"入力シート!K178&\"\"","v":""}]
[{"$f":"入力シート!A179&\"\"","v":"159"},{"$f":"入力シート!B179&\"\"","v":"高松"},null,null,{"$f":"入力シート!C179&\"\"","v":""},null,null,{"$f":"入力シート!D179&\"\"","v":""},null,{"$f":"入力シート!E179&\"\"","v":""},{"$f":"入力シート!G179&\"\"","v":""},{"$f":"入力シート!H179&\"\"","v":""},{"$f":"入力シート!K179&\"\"","v":""}]
[{"$f":"入力シート!A180&\"\"","v":"160"},{"$f":"入力シート!B180&\"\"","v":"高松"},null,null,{"$f":"入力シート!C180&\"\"","v":""},null,null,{"$f":"入力シート!D180&\"\"","v":""},null,{"$f":"入力シート!E180&\"\"","v":""},{"$f":"入力シート!G180&\"\"","v":""},{"$f":"入力シート!H180&\"\"","v":""},{"$f":"入力シート!K180&\"\"","v":""}]
[{"$f":"入力シート!A181&\"\"","v":"161"},{"$f":"入力シート!B181&\"\"","v":"高松"},null,null,{"$f":"入力シート!C181&\"\"","v":""},null,null,{"$f":"入力シート!D181&\"\"","v":""},null,{"$f":"入力シート!E181&\"\"","v":""},{"$f":"入力シート!G181&\"\"","v":""},{"$f":"入力シート!H181&\"\"","v":""},{"$f":"入力シート!K181&\"\"","v":""}]
[{"$f":"入力シート!A182&\"\"","v":"162"},{"$f":"入力シート!B182&\"\"","v":"高松"},null,null,{"$f":"入力シート!C182&\"\"","v":""},null,null,{"$f":"入力シート!D182&\"\"","v":""},null,{"$f":"入力シート!E182&\"\"","v":""},{"$f":"入力シート!G182&\"\"","v":""},{"$f":"入力シート!H182&\"\"","v":""},{"$f":"入力シート!K182&\"\"","v":""}]
[{"$f":"入力シート!A183&\"\"","v":"163"},{"$f":"入力シート!B183&\"\"","v":"高松"},null,null,{"$f":"入力シート!C183&\"\"","v":""},null,null,{"$f":"入力シート!D183&\"\"","v":""},null,{"$f":"入力シート!E183&\"\"","v":""},{"$f":"入力シート!G183&\"\"","v":""},{"$f":"入力シート!H183&\"\"","v":""},{"$f":"入力シート!K183&\"\"","v":""}]
[{"$f":"入力シート!A184&\"\"","v":"164"},{"$f":"入力シート!B184&\"\"","v":"高松"},null,null,{"$f":"入力シート!C184&\"\"","v":""},null,null,{"$f":"入力シート!D184&\"\"","v":""},null,{"$f":"入力シート!E184&\"\"","v":""},{"$f":"入力シート!G184&\"\"","v":""},{"$f":"入力シート!H184&\"\"","v":""},{"$f":"入力シート!K184&\"\"","v":""}]
[{"$f":"入力シート!A185&\"\"","v":"165"},{"$f":"入力シート!B185&\"\"","v":"高松"},null,null,{"$f":"入力シート!C185&\"\"","v":""},null,null,{"$f":"入力シート!D185&\"\"","v":""},null,{"$f":"入力シート!E185&\"\"","v":""},{"$f":"入力シート!G185&\"\"","v":""},{"$f":"入力シート!H185&\"\"","v":""},{"$f":"入力シート!K185&\"\"","v":""}]
[{"$f":"入力シート!A186&\"\"","v":"166"},{"$f":"入力シート!B186&\"\"","v":"高松"},null,null,{"$f":"入力シート!C186&\"\"","v":""},null,null,{"$f":"入力シート!D186&\"\"","v":""},null,{"$f":"入力シート!E186&\"\"","v":""},{"$f":"入力シート!G186&\"\"","v":""},{"$f":"入力シート!H186&\"\"","v":""},{"$f":"入力シート!K186&\"\"","v":""}]
[{"$f":"入力シート!A187&\"\"","v":"167"},{"$f":"入力シート!B187&\"\"","v":"高松"},null,null,{"$f":"入力シート!C187&\"\"","v":""},null,null,{"$f":"入力シート!D187&\"\"","v":""},null,{"$f":"入力シート!E187&\"\"","v":""},{"$f":"入力シート!G187&\"\"","v":""},{"$f":"入力シート!H187&\"\"","v":""},{"$f":"入力シート!K187&\"\"","v":""}]
[{"$f":"入力シート!A188&\"\"","v":"168"},{"$f":"入力シート!B188&\"\"","v":"高松"},null,null,{"$f":"入力シート!C188&\"\"","v":""},null,null,{"$f":"入力シート!D188&\"\"","v":""},null,{"$f":"入力シート!E188&\"\"","v":""},{"$f":"入力シート!G188&\"\"","v":""},{"$f":"入力シート!H188&\"\"","v":""},{"$f":"入力シート!K188&\"\"","v":""}]
[{"$f":"入力シート!A189&\"\"","v":"169"},{"$f":"入力シート!B189&\"\"","v":"高松"},null,null,{"$f":"入力シート!C189&\"\"","v":""},null,null,{"$f":"入力シート!D189&\"\"","v":""},null,{"$f":"入力シート!E189&\"\"","v":""},{"$f":"入力シート!G189&\"\"","v":""},{"$f":"入力シート!H189&\"\"","v":""},{"$f":"入力シート!K189&\"\"","v":""}]
[{"$f":"入力シート!A190&\"\"","v":"170"},{"$f":"入力シート!B190&\"\"","v":"高松"},null,null,{"$f":"入力シート!C190&\"\"","v":""},null,null,{"$f":"入力シート!D190&\"\"","v":""},null,{"$f":"入力シート!E190&\"\"","v":""},{"$f":"入力シート!G190&\"\"","v":""},{"$f":"入力シート!H190&\"\"","v":""},{"$f":"入力シート!K190&\"\"","v":""}]
[{"$f":"入力シート!A191&\"\"","v":"171"},{"$f":"入力シート!B191&\"\"","v":"高松"},null,null,{"$f":"入力シート!C191&\"\"","v":""},null,null,{"$f":"入力シート!D191&\"\"","v":""},null,{"$f":"入力シート!E191&\"\"","v":""},{"$f":"入力シート!G191&\"\"","v":""},{"$f":"入力シート!H191&\"\"","v":""},{"$f":"入力シート!K191&\"\"","v":""}]
[{"$f":"入力シート!A192&\"\"","v":"172"},{"$f":"入力シート!B192&\"\"","v":"高松"},null,null,{"$f":"入力シート!C192&\"\"","v":""},null,null,{"$f":"入力シート!D192&\"\"","v":""},null,{"$f":"入力シート!E192&\"\"","v":""},{"$f":"入力シート!G192&\"\"","v":""},{"$f":"入力シート!H192&\"\"","v":""},{"$f":"入力シート!K192&\"\"","v":""}]
[{"$f":"入力シート!A193&\"\"","v":"173"},{"$f":"入力シート!B193&\"\"","v":"高松"},null,null,{"$f":"入力シート!C193&\"\"","v":""},null,null,{"$f":"入力シート!D193&\"\"","v":""},null,{"$f":"入力シート!E193&\"\"","v":""},{"$f":"入力シート!G193&\"\"","v":""},{"$f":"入力シート!H193&\"\"","v":""},{"$f":"入力シート!K193&\"\"","v":""}]
[{"$f":"入力シート!A194&\"\"","v":"174"},{"$f":"入力シート!B194&\"\"","v":"高松"},null,null,{"$f":"入力シート!C194&\"\"","v":""},null,null,{"$f":"入力シート!D194&\"\"","v":""},null,{"$f":"入力シート!E194&\"\"","v":""},{"$f":"入力シート!G194&\"\"","v":""},{"$f":"入力シート!H194&\"\"","v":""},{"$f":"入力シート!K194&\"\"","v":""}]
[{"$f":"入力シート!A195&\"\"","v":"175"},{"$f":"入力シート!B195&\"\"","v":"高松"},null,null,{"$f":"入力シート!C195&\"\"","v":""},null,null,{"$f":"入力シート!D195&\"\"","v":""},null,{"$f":"入力シート!E195&\"\"","v":""},{"$f":"入力シート!G195&\"\"","v":""},{"$f":"入力シート!H195&\"\"","v":""},{"$f":"入力シート!K195&\"\"","v":""}]
[{"$f":"入力シート!A196&\"\"","v":"176"},{"$f":"入力シート!B196&\"\"","v":"高松"},null,null,{"$f":"入力シート!C196&\"\"","v":""},null,null,{"$f":"入力シート!D196&\"\"","v":""},null,{"$f":"入力シート!E196&\"\"","v":""},{"$f":"入力シート!G196&\"\"","v":""},{"$f":"入力シート!H196&\"\"","v":""},{"$f":"入力シート!K196&\"\"","v":""}]
[{"$f":"入力シート!A197&\"\"","v":"177"},{"$f":"入力シート!B197&\"\"","v":"高松"},null,null,{"$f":"入力シート!C197&\"\"","v":""},null,null,{"$f":"入力シート!D197&\"\"","v":""},null,{"$f":"入力シート!E197&\"\"","v":""},{"$f":"入力シート!G197&\"\"","v":""},{"$f":"入力シート!H197&\"\"","v":""},{"$f":"入力シート!K197&\"\"","v":""}]
[{"$f":"入力シート!A198&\"\"","v":"178"},{"$f":"入力シート!B198&\"\"","v":"高松"},null,null,{"$f":"入力シート!C198&\"\"","v":""},null,null,{"$f":"入力シート!D198&\"\"","v":""},null,{"$f":"入力シート!E198&\"\"","v":""},{"$f":"入力シート!G198&\"\"","v":""},{"$f":"入力シート!H198&\"\"","v":""},{"$f":"入力シート!K198&\"\"","v":""}]
[{"$f":"入力シート!A199&\"\"","v":"179"},{"$f":"入力シート!B199&\"\"","v":"高松"},null,null,{"$f":"入力シート!C199&\"\"","v":""},null,null,{"$f":"入力シート!D199&\"\"","v":""},null,{"$f":"入力シート!E199&\"\"","v":""},{"$f":"入力シート!G199&\"\"","v":""},{"$f":"入力シート!H199&\"\"","v":""},{"$f":"入力シート!K199&\"\"","v":""}]
[{"$f":"入力シート!A200&\"\"","v":"180"},{"$f":"入力シート!B200&\"\"","v":"高松"},null,null,{"$f":"入力シート!C200&\"\"","v":""},null,null,{"$f":"入力シート!D200&\"\"","v":""},null,{"$f":"入力シート!E200&\"\"","v":""},{"$f":"入力シート!G200&\"\"","v":""},{"$f":"入力シート!H200&\"\"","v":""},{"$f":"入力シート!K200&\"\"","v":""}]
[{"$f":"入力シート!A201&\"\"","v":"181"},{"$f":"入力シート!B201&\"\"","v":"高松"},null,null,{"$f":"入力シート!C201&\"\"","v":""},null,null,{"$f":"入力シート!D201&\"\"","v":""},null,{"$f":"入力シート!E201&\"\"","v":""},{"$f":"入力シート!G201&\"\"","v":""},{"$f":"入力シート!H201&\"\"","v":""},{"$f":"入力シート!K201&\"\"","v":""}]
[{"$f":"入力シート!A202&\"\"","v":"182"},{"$f":"入力シート!B202&\"\"","v":"高松"},null,null,{"$f":"入力シート!C202&\"\"","v":""},null,null,{"$f":"入力シート!D202&\"\"","v":""},null,{"$f":"入力シート!E202&\"\"","v":""},{"$f":"入力シート!G202&\"\"","v":""},{"$f":"入力シート!H202&\"\"","v":""},{"$f":"入力シート!K202&\"\"","v":""}]
[{"$f":"入力シート!A203&\"\"","v":"183"},{"$f":"入力シート!B203&\"\"","v":"高松"},null,null,{"$f":"入力シート!C203&\"\"","v":""},null,null,{"$f":"入力シート!D203&\"\"","v":""},null,{"$f":"入力シート!E203&\"\"","v":""},{"$f":"入力シート!G203&\"\"","v":""},{"$f":"入力シート!H203&\"\"","v":""},{"$f":"入力シート!K203&\"\"","v":""}]
[{"$f":"入力シート!A204&\"\"","v":"184"},{"$f":"入力シート!B204&\"\"","v":"高松"},null,null,{"$f":"入力シート!C204&\"\"","v":""},null,null,{"$f":"入力シート!D204&\"\"","v":""},null,{"$f":"入力シート!E204&\"\"","v":""},{"$f":"入力シート!G204&\"\"","v":""},{"$f":"入力シート!H204&\"\"","v":""},{"$f":"入力シート!K204&\"\"","v":""}]
[{"$f":"入力シート!A205&\"\"","v":"185"},{"$f":"入力シート!B205&\"\"","v":"高松"},null,null,{"$f":"入力シート!C205&\"\"","v":""},null,null,{"$f":"入力シート!D205&\"\"","v":""},null,{"$f":"入力シート!E205&\"\"","v":""},{"$f":"入力シート!G205&\"\"","v":""},{"$f":"入力シート!H205&\"\"","v":""},{"$f":"入力シート!K205&\"\"","v":""}]
[{"$f":"入力シート!A206&\"\"","v":"186"},{"$f":"入力シート!B206&\"\"","v":"高松"},null,null,{"$f":"入力シート!C206&\"\"","v":""},null,null,{"$f":"入力シート!D206&\"\"","v":""},null,{"$f":"入力シート!E206&\"\"","v":""},{"$f":"入力シート!G206&\"\"","v":""},{"$f":"入力シート!H206&\"\"","v":""},{"$f":"入力シート!K206&\"\"","v":""}]
[{"$f":"入力シート!A207&\"\"","v":"187"},{"$f":"入力シート!B207&\"\"","v":"高松"},null,null,{"$f":"入力シート!C207&\"\"","v":""},null,null,{"$f":"入力シート!D207&\"\"","v":""},null,{"$f":"入力シート!E207&\"\"","v":""},{"$f":"入力シート!G207&\"\"","v":""},{"$f":"入力シート!H207&\"\"","v":""},{"$f":"入力シート!K207&\"\"","v":""}]
[{"$f":"入力シート!A208&\"\"","v":"188"},{"$f":"入力シート!B208&\"\"","v":"高松"},null,null,{"$f":"入力シート!C208&\"\"","v":""},null,null,{"$f":"入力シート!D208&\"\"","v":""},null,{"$f":"入力シート!E208&\"\"","v":""},{"$f":"入力シート!G208&\"\"","v":""},{"$f":"入力シート!H208&\"\"","v":""},{"$f":"入力シート!K208&\"\"","v":""}]
[{"$f":"入力シート!A209&\"\"","v":"189"},{"$f":"入力シート!B209&\"\"","v":"高松"},null,null,{"$f":"入力シート!C209&\"\"","v":""},null,null,{"$f":"入力シート!D209&\"\"","v":""},null,{"$f":"入力シート!E209&\"\"","v":""},{"$f":"入力シート!G209&\"\"","v":""},{"$f":"入力シート!H209&\"\"","v":""},{"$f":"入力シート!K209&\"\"","v":""}]
[{"$f":"入力シート!A210&\"\"","v":"190"},{"$f":"入力シート!B210&\"\"","v":"高松"},null,null,{"$f":"入力シート!C210&\"\"","v":""},null,null,{"$f":"入力シート!D210&\"\"","v":""},null,{"$f":"入力シート!E210&\"\"","v":""},{"$f":"入力シート!G210&\"\"","v":""},{"$f":"入力シート!H210&\"\"","v":""},{"$f":"入力シート!K210&\"\"","v":""}]
[{"$f":"入力シート!A211&\"\"","v":"191"},{"$f":"入力シート!B211&\"\"","v":"高松"},null,null,{"$f":"入力シート!C211&\"\"","v":""},null,null,{"$f":"入力シート!D211&\"\"","v":""},null,{"$f":"入力シート!E211&\"\"","v":""},{"$f":"入力シート!G211&\"\"","v":""},{"$f":"入力シート!H211&\"\"","v":""},{"$f":"入力シート!K211&\"\"","v":""}]
[{"$f":"入力シート!A212&\"\"","v":"192"},{"$f":"入力シート!B212&\"\"","v":"高松"},null,null,{"$f":"入力シート!C212&\"\"","v":""},null,null,{"$f":"入力シート!D212&\"\"","v":""},null,{"$f":"入力シート!E212&\"\"","v":""},{"$f":"入力シート!G212&\"\"","v":""},{"$f":"入力シート!H212&\"\"","v":""},{"$f":"入力シート!K212&\"\"","v":""}]
[{"$f":"入力シート!A213&\"\"","v":"193"},{"$f":"入力シート!B213&\"\"","v":"高松"},null,null,{"$f":"入力シート!C213&\"\"","v":""},null,null,{"$f":"入力シート!D213&\"\"","v":""},null,{"$f":"入力シート!E213&\"\"","v":""},{"$f":"入力シート!G213&\"\"","v":""},{"$f":"入力シート!H213&\"\"","v":""},{"$f":"入力シート!K213&\"\"","v":""}]
[{"$f":"入力シート!A214&\"\"","v":"194"},{"$f":"入力シート!B214&\"\"","v":"高松"},null,null,{"$f":"入力シート!C214&\"\"","v":""},null,null,{"$f":"入力シート!D214&\"\"","v":""},null,{"$f":"入力シート!E214&\"\"","v":""},{"$f":"入力シート!G214&\"\"","v":""},{"$f":"入力シート!H214&\"\"","v":""},{"$f":"入力シート!K214&\"\"","v":""}]
[{"$f":"入力シート!A215&\"\"","v":"195"},{"$f":"入力シート!B215&\"\"","v":"高松"},null,null,{"$f":"入力シート!C215&\"\"","v":""},null,null,{"$f":"入力シート!D215&\"\"","v":""},null,{"$f":"入力シート!E215&\"\"","v":""},{"$f":"入力シート!G215&\"\"","v":""},{"$f":"入力シート!H215&\"\"","v":""},{"$f":"入力シート!K215&\"\"","v":""}]
[{"$f":"入力シート!A216&\"\"","v":"196"},{"$f":"入力シート!B216&\"\"","v":"高松"},null,null,{"$f":"入力シート!C216&\"\"","v":""},null,null,{"$f":"入力シート!D216&\"\"","v":""},null,{"$f":"入力シート!E216&\"\"","v":""},{"$f":"入力シート!G216&\"\"","v":""},{"$f":"入力シート!H216&\"\"","v":""},{"$f":"入力シート!K216&\"\"","v":""}]
[{"$f":"入力シート!A217&\"\"","v":"197"},{"$f":"入力シート!B217&\"\"","v":"高松"},null,null,{"$f":"入力シート!C217&\"\"","v":""},null,null,{"$f":"入力シート!D217&\"\"","v":""},null,{"$f":"入力シート!E217&\"\"","v":""},{"$f":"入力シート!G217&\"\"","v":""},{"$f":"入力シート!H217&\"\"","v":""},{"$f":"入力シート!K217&\"\"","v":""}]
[{"$f":"入力シート!A218&\"\"","v":"198"},{"$f":"入力シート!B218&\"\"","v":"高松"},null,null,{"$f":"入力シート!C218&\"\"","v":""},null,null,{"$f":"入力シート!D218&\"\"","v":""},null,{"$f":"入力シート!E218&\"\"","v":""},{"$f":"入力シート!G218&\"\"","v":""},{"$f":"入力シート!H218&\"\"","v":""},{"$f":"入力シート!K218&\"\"","v":""}]
[{"$f":"入力シート!A219&\"\"","v":"199"},{"$f":"入力シート!B219&\"\"","v":"高松"},null,null,{"$f":"入力シート!C219&\"\"","v":""},null,null,{"$f":"入力シート!D219&\"\"","v":""},null,{"$f":"入力シート!E219&\"\"","v":""},{"$f":"入力シート!G219&\"\"","v":""},{"$f":"入力シート!H219&\"\"","v":""},{"$f":"入力シート!K219&\"\"","v":""}]
[{"$f":"入力シート!A220&\"\"","v":"200"},{"$f":"入力シート!B220&\"\"","v":"高松"},null,null,{"$f":"入力シート!C220&\"\"","v":""},null,null,{"$f":"入力シート!D220&\"\"","v":""},null,{"$f":"入力シート!E220&\"\"","v":""},{"$f":"入力シート!G220&\"\"","v":""},{"$f":"入力シート!H220&\"\"","v":""},{"$f":"入力シート!K220&\"\"","v":""}]
[{"$f":"入力シート!A221&\"\"","v":"201"},{"$f":"入力シート!B221&\"\"","v":"高松"},null,null,{"$f":"入力シート!C221&\"\"","v":""},null,null,{"$f":"入力シート!D221&\"\"","v":""},null,{"$f":"入力シート!E221&\"\"","v":""},{"$f":"入力シート!G221&\"\"","v":""},{"$f":"入力シート!H221&\"\"","v":""},{"$f":"入力シート!K221&\"\"","v":""}]
[{"$f":"入力シート!A222&\"\"","v":"202"},{"$f":"入力シート!B222&\"\"","v":"高松"},null,null,{"$f":"入力シート!C222&\"\"","v":""},null,null,{"$f":"入力シート!D222&\"\"","v":""},null,{"$f":"入力シート!E222&\"\"","v":""},{"$f":"入力シート!G222&\"\"","v":""},{"$f":"入力シート!H222&\"\"","v":""},{"$f":"入力シート!K222&\"\"","v":""}]
[{"$f":"入力シート!A223&\"\"","v":"203"},{"$f":"入力シート!B223&\"\"","v":"高松"},null,null,{"$f":"入力シート!C223&\"\"","v":""},null,null,{"$f":"入力シート!D223&\"\"","v":""},null,{"$f":"入力シート!E223&\"\"","v":""},{"$f":"入力シート!G223&\"\"","v":""},{"$f":"入力シート!H223&\"\"","v":""},{"$f":"入力シート!K223&\"\"","v":""}]
[{"$f":"入力シート!A224&\"\"","v":"204"},{"$f":"入力シート!B224&\"\"","v":"高松"},null,null,{"$f":"入力シート!C224&\"\"","v":""},null,null,{"$f":"入力シート!D224&\"\"","v":""},null,{"$f":"入力シート!E224&\"\"","v":""},{"$f":"入力シート!G224&\"\"","v":""},{"$f":"入力シート!H224&\"\"","v":""},{"$f":"入力シート!K224&\"\"","v":""}]
[{"$f":"入力シート!A225&\"\"","v":"205"},{"$f":"入力シート!B225&\"\"","v":"高松"},null,null,{"$f":"入力シート!C225&\"\"","v":""},null,null,{"$f":"入力シート!D225&\"\"","v":""},null,{"$f":"入力シート!E225&\"\"","v":""},{"$f":"入力シート!G225&\"\"","v":""},{"$f":"入力シート!H225&\"\"","v":""},{"$f":"入力シート!K225&\"\"","v":""}]
[{"$f":"入力シート!A226&\"\"","v":"206"},{"$f":"入力シート!B226&\"\"","v":"高松"},null,null,{"$f":"入力シート!C226&\"\"","v":""},null,null,{"$f":"入力シート!D226&\"\"","v":""},null,{"$f":"入力シート!E226&\"\"","v":""},{"$f":"入力シート!G226&\"\"","v":""},{"$f":"入力シート!H226&\"\"","v":""},{"$f":"入力シート!K226&\"\"","v":""}]
[{"$f":"入力シート!A227&\"\"","v":"207"},{"$f":"入力シート!B227&\"\"","v":"高松"},null,null,{"$f":"入力シート!C227&\"\"","v":""},null,null,{"$f":"入力シート!D227&\"\"","v":""},null,{"$f":"入力シート!E227&\"\"","v":""},{"$f":"入力シート!G227&\"\"","v":""},{"$f":"入力シート!H227&\"\"","v":""},{"$f":"入力シート!K227&\"\"","v":""}]
[{"$f":"入力シート!A228&\"\"","v":"208"},{"$f":"入力シート!B228&\"\"","v":"高松"},null,null,{"$f":"入力シート!C228&\"\"","v":""},null,null,{"$f":"入力シート!D228&\"\"","v":""},null,{"$f":"入力シート!E228&\"\"","v":""},{"$f":"入力シート!G228&\"\"","v":""},{"$f":"入力シート!H228&\"\"","v":""},{"$f":"入力シート!K228&\"\"","v":""}]
[{"$f":"入力シート!A229&\"\"","v":"209"},{"$f":"入力シート!B229&\"\"","v":"高松"},null,null,{"$f":"入力シート!C229&\"\"","v":""},null,null,{"$f":"入力シート!D229&\"\"","v":""},null,{"$f":"入力シート!E229&\"\"","v":""},{"$f":"入力シート!G229&\"\"","v":""},{"$f":"入力シート!H229&\"\"","v":""},{"$f":"入力シート!K229&\"\"","v":""}]
[{"$f":"入力シート!A230&\"\"","v":"210"},{"$f":"入力シート!B230&\"\"","v":"高松"},null,null,{"$f":"入力シート!C230&\"\"","v":""},null,null,{"$f":"入力シート!D230&\"\"","v":""},null,{"$f":"入力シート!E230&\"\"","v":""},{"$f":"入力シート!G230&\"\"","v":""},{"$f":"入力シート!H230&\"\"","v":""},{"$f":"入力シート!K230&\"\"","v":""}]
[{"$f":"入力シート!A231&\"\"","v":"211"},{"$f":"入力シート!B231&\"\"","v":"高松"},null,null,{"$f":"入力シート!C231&\"\"","v":""},null,null,{"$f":"入力シート!D231&\"\"","v":""},null,{"$f":"入力シート!E231&\"\"","v":""},{"$f":"入力シート!G231&\"\"","v":""},{"$f":"入力シート!H231&\"\"","v":""},{"$f":"入力シート!K231&\"\"","v":""}]
[{"$f":"入力シート!A232&\"\"","v":"212"},{"$f":"入力シート!B232&\"\"","v":"高松"},null,null,{"$f":"入力シート!C232&\"\"","v":""},null,null,{"$f":"入力シート!D232&\"\"","v":""},null,{"$f":"入力シート!E232&\"\"","v":""},{"$f":"入力シート!G232&\"\"","v":""},{"$f":"入力シート!H232&\"\"","v":""},{"$f":"入力シート!K232&\"\"","v":""}]
[{"$f":"入力シート!A233&\"\"","v":"213"},{"$f":"入力シート!B233&\"\"","v":"高松"},null,null,{"$f":"入力シート!C233&\"\"","v":""},null,null,{"$f":"入力シート!D233&\"\"","v":""},null,{"$f":"入力シート!E233&\"\"","v":""},{"$f":"入力シート!G233&\"\"","v":""},{"$f":"入力シート!H233&\"\"","v":""},{"$f":"入力シート!K233&\"\"","v":""}]
[{"$f":"入力シート!A234&\"\"","v":"214"},{"$f":"入力シート!B234&\"\"","v":"高松"},null,null,{"$f":"入力シート!C234&\"\"","v":""},null,null,{"$f":"入力シート!D234&\"\"","v":""},null,{"$f":"入力シート!E234&\"\"","v":""},{"$f":"入力シート!G234&\"\"","v":""},{"$f":"入力シート!H234&\"\"","v":""},{"$f":"入力シート!K234&\"\"","v":""}]
[{"$f":"入力シート!A235&\"\"","v":"215"},{"$f":"入力シート!B235&\"\"","v":"高松"},null,null,{"$f":"入力シート!C235&\"\"","v":""},null,null,{"$f":"入力シート!D235&\"\"","v":""},null,{"$f":"入力シート!E235&\"\"","v":""},{"$f":"入力シート!G235&\"\"","v":""},{"$f":"入力シート!H235&\"\"","v":""},{"$f":"入力シート!K235&\"\"","v":""}]
[{"$f":"入力シート!A236&\"\"","v":"216"},{"$f":"入力シート!B236&\"\"","v":"高松"},null,null,{"$f":"入力シート!C236&\"\"","v":""},null,null,{"$f":"入力シート!D236&\"\"","v":""},null,{"$f":"入力シート!E236&\"\"","v":""},{"$f":"入力シート!G236&\"\"","v":""},{"$f":"入力シート!H236&\"\"","v":""},{"$f":"入力シート!K236&\"\"","v":""}]
[{"$f":"入力シート!A237&\"\"","v":"217"},{"$f":"入力シート!B237&\"\"","v":"高松"},null,null,{"$f":"入力シート!C237&\"\"","v":""},null,null,{"$f":"入力シート!D237&\"\"","v":""},null,{"$f":"入力シート!E237&\"\"","v":""},{"$f":"入力シート!G237&\"\"","v":""},{"$f":"入力シート!H237&\"\"","v":""},{"$f":"入力シート!K237&\"\"","v":""}]
[{"$f":"入力シート!A238&\"\"","v":"218"},{"$f":"入力シート!B238&\"\"","v":"高松"},null,null,{"$f":"入力シート!C238&\"\"","v":""},null,null,{"$f":"入力シート!D238&\"\"","v":""},null,{"$f":"入力シート!E238&\"\"","v":""},{"$f":"入力シート!G238&\"\"","v":""},{"$f":"入力シート!H238&\"\"","v":""},{"$f":"入力シート!K238&\"\"","v":""}]
[{"$f":"入力シート!A239&\"\"","v":"219"},{"$f":"入力シート!B239&\"\"","v":"高松"},null,null,{"$f":"入力シート!C239&\"\"","v":""},null,null,{"$f":"入力シート!D239&\"\"","v":""},null,{"$f":"入力シート!E239&\"\"","v":""},{"$f":"入力シート!G239&\"\"","v":""},{"$f":"入力シート!H239&\"\"","v":""},{"$f":"入力シート!K239&\"\"","v":""}]
[{"$f":"入力シート!A240&\"\"","v":"220"},{"$f":"入力シート!B240&\"\"","v":"高松"},null,null,{"$f":"入力シート!C240&\"\"","v":""},null,null,{"$f":"入力シート!D240&\"\"","v":""},null,{"$f":"入力シート!E240&\"\"","v":""},{"$f":"入力シート!G240&\"\"","v":""},{"$f":"入力シート!H240&\"\"","v":""},{"$f":"入力シート!K240&\"\"","v":""}]
[{"$f":"入力シート!A241&\"\"","v":"221"},{"$f":"入力シート!B241&\"\"","v":"高松"},null,null,{"$f":"入力シート!C241&\"\"","v":""},null,null,{"$f":"入力シート!D241&\"\"","v":""},null,{"$f":"入力シート!E241&\"\"","v":""},{"$f":"入力シート!G241&\"\"","v":""},{"$f":"入力シート!H241&\"\"","v":""},{"$f":"入力シート!K241&\"\"","v":""}]
[{"$f":"入力シート!A242&\"\"","v":"222"},{"$f":"入力シート!B242&\"\"","v":"高松"},null,null,{"$f":"入力シート!C242&\"\"","v":""},null,null,{"$f":"入力シート!D242&\"\"","v":""},null,{"$f":"入力シート!E242&\"\"","v":""},{"$f":"入力シート!G242&\"\"","v":""},{"$f":"入力シート!H242&\"\"","v":""},{"$f":"入力シート!K242&\"\"","v":""}]
[{"$f":"入力シート!A243&\"\"","v":"223"},{"$f":"入力シート!B243&\"\"","v":"高松"},null,null,{"$f":"入力シート!C243&\"\"","v":""},null,null,{"$f":"入力シート!D243&\"\"","v":""},null,{"$f":"入力シート!E243&\"\"","v":""},{"$f":"入力シート!G243&\"\"","v":""},{"$f":"入力シート!H243&\"\"","v":""},{"$f":"入力シート!K243&\"\"","v":""}]
[{"$f":"入力シート!A244&\"\"","v":"224"},{"$f":"入力シート!B244&\"\"","v":"高松"},null,null,{"$f":"入力シート!C244&\"\"","v":""},null,null,{"$f":"入力シート!D244&\"\"","v":""},null,{"$f":"入力シート!E244&\"\"","v":""},{"$f":"入力シート!G244&\"\"","v":""},{"$f":"入力シート!H244&\"\"","v":""},{"$f":"入力シート!K244&\"\"","v":""}]
[{"$f":"入力シート!A245&\"\"","v":"225"},{"$f":"入力シート!B245&\"\"","v":"高松"},null,null,{"$f":"入力シート!C245&\"\"","v":""},null,null,{"$f":"入力シート!D245&\"\"","v":""},null,{"$f":"入力シート!E245&\"\"","v":""},{"$f":"入力シート!G245&\"\"","v":""},{"$f":"入力シート!H245&\"\"","v":""},{"$f":"入力シート!K245&\"\"","v":""}]
[{"$f":"入力シート!A246&\"\"","v":"226"},{"$f":"入力シート!B246&\"\"","v":"高松"},null,null,{"$f":"入力シート!C246&\"\"","v":""},null,null,{"$f":"入力シート!D246&\"\"","v":""},null,{"$f":"入力シート!E246&\"\"","v":""},{"$f":"入力シート!G246&\"\"","v":""},{"$f":"入力シート!H246&\"\"","v":""},{"$f":"入力シート!K246&\"\"","v":""}]
[{"$f":"入力シート!A247&\"\"","v":"227"},{"$f":"入力シート!B247&\"\"","v":"高松"},null,null,{"$f":"入力シート!C247&\"\"","v":""},null,null,{"$f":"入力シート!D247&\"\"","v":""},null,{"$f":"入力シート!E247&\"\"","v":""},{"$f":"入力シート!G247&\"\"","v":""},{"$f":"入力シート!H247&\"\"","v":""},{"$f":"入力シート!K247&\"\"","v":""}]
[{"$f":"入力シート!A248&\"\"","v":"228"},{"$f":"入力シート!B248&\"\"","v":"高松"},null,null,{"$f":"入力シート!C248&\"\"","v":""},null,null,{"$f":"入力シート!D248&\"\"","v":""},null,{"$f":"入力シート!E248&\"\"","v":""},{"$f":"入力シート!G248&\"\"","v":""},{"$f":"入力シート!H248&\"\"","v":""},{"$f":"入力シート!K248&\"\"","v":""}]
[{"$f":"入力シート!A249&\"\"","v":"229"},{"$f":"入力シート!B249&\"\"","v":"高松"},null,null,{"$f":"入力シート!C249&\"\"","v":""},null,null,{"$f":"入力シート!D249&\"\"","v":""},null,{"$f":"入力シート!E249&\"\"","v":""},{"$f":"入力シート!G249&\"\"","v":""},{"$f":"入力シート!H249&\"\"","v":""},{"$f":"入力シート!K249&\"\"","v":""}]
[{"$f":"入力シート!A250&\"\"","v":"230"},{"$f":"入力シート!B250&\"\"","v":"高松"},null,null,{"$f":"入力シート!C250&\"\"","v":""},null,null,{"$f":"入力シート!D250&\"\"","v":""},null,{"$f":"入力シート!E250&\"\"","v":""},{"$f":"入力シート!G250&\"\"","v":""},{"$f":"入力シート!H250&\"\"","v":""},{"$f":"入力シート!K250&\"\"","v":""}]
[{"$f":"入力シート!A251&\"\"","v":"231"},{"$f":"入力シート!B251&\"\"","v":"高松"},null,null,{"$f":"入力シート!C251&\"\"","v":""},null,null,{"$f":"入力シート!D251&\"\"","v":""},null,{"$f":"入力シート!E251&\"\"","v":""},{"$f":"入力シート!G251&\"\"","v":""},{"$f":"入力シート!H251&\"\"","v":""},{"$f":"入力シート!K251&\"\"","v":""}]
[{"$f":"入力シート!A252&\"\"","v":"232"},{"$f":"入力シート!B252&\"\"","v":"高松"},null,null,{"$f":"入力シート!C252&\"\"","v":""},null,null,{"$f":"入力シート!D252&\"\"","v":""},null,{"$f":"入力シート!E252&\"\"","v":""},{"$f":"入力シート!G252&\"\"","v":""},{"$f":"入力シート!H252&\"\"","v":""},{"$f":"入力シート!K252&\"\"","v":""}]
[{"$f":"入力シート!A253&\"\"","v":"233"},{"$f":"入力シート!B253&\"\"","v":"高松"},null,null,{"$f":"入力シート!C253&\"\"","v":""},null,null,{"$f":"入力シート!D253&\"\"","v":""},null,{"$f":"入力シート!E253&\"\"","v":""},{"$f":"入力シート!G253&\"\"","v":""},{"$f":"入力シート!H253&\"\"","v":""},{"$f":"入力シート!K253&\"\"","v":""}]
[{"$f":"入力シート!A254&\"\"","v":"234"},{"$f":"入力シート!B254&\"\"","v":"高松"},null,null,{"$f":"入力シート!C254&\"\"","v":""},null,null,{"$f":"入力シート!D254&\"\"","v":""},null,{"$f":"入力シート!E254&\"\"","v":""},{"$f":"入力シート!G254&\"\"","v":""},{"$f":"入力シート!H254&\"\"","v":""},{"$f":"入力シート!K254&\"\"","v":""}]
[{"$f":"入力シート!A255&\"\"","v":"235"},{"$f":"入力シート!B255&\"\"","v":"高松"},null,null,{"$f":"入力シート!C255&\"\"","v":""},null,null,{"$f":"入力シート!D255&\"\"","v":""},null,{"$f":"入力シート!E255&\"\"","v":""},{"$f":"入力シート!G255&\"\"","v":""},{"$f":"入力シート!H255&\"\"","v":""},{"$f":"入力シート!K255&\"\"","v":""}]
[{"$f":"入力シート!A256&\"\"","v":"236"},{"$f":"入力シート!B256&\"\"","v":"高松"},null,null,{"$f":"入力シート!C256&\"\"","v":""},null,null,{"$f":"入力シート!D256&\"\"","v":""},null,{"$f":"入力シート!E256&\"\"","v":""},{"$f":"入力シート!G256&\"\"","v":""},{"$f":"入力シート!H256&\"\"","v":""},{"$f":"入力シート!K256&\"\"","v":""}]
[{"$f":"入力シート!A257&\"\"","v":"237"},{"$f":"入力シート!B257&\"\"","v":"高松"},null,null,{"$f":"入力シート!C257&\"\"","v":""},null,null,{"$f":"入力シート!D257&\"\"","v":""},null,{"$f":"入力シート!E257&\"\"","v":""},{"$f":"入力シート!G257&\"\"","v":""},{"$f":"入力シート!H257&\"\"","v":""},{"$f":"入力シート!K257&\"\"","v":""}]
[{"$f":"入力シート!A258&\"\"","v":"238"},{"$f":"入力シート!B258&\"\"","v":"高松"},null,null,{"$f":"入力シート!C258&\"\"","v":""},null,null,{"$f":"入力シート!D258&\"\"","v":""},null,{"$f":"入力シート!E258&\"\"","v":""},{"$f":"入力シート!G258&\"\"","v":""},{"$f":"入力シート!H258&\"\"","v":""},{"$f":"入力シート!K258&\"\"","v":""}]
[{"$f":"入力シート!A259&\"\"","v":"239"},{"$f":"入力シート!B259&\"\"","v":"高松"},null,null,{"$f":"入力シート!C259&\"\"","v":""},null,null,{"$f":"入力シート!D259&\"\"","v":""},null,{"$f":"入力シート!E259&\"\"","v":""},{"$f":"入力シート!G259&\"\"","v":""},{"$f":"入力シート!H259&\"\"","v":""},{"$f":"入力シート!K259&\"\"","v":""}]
[{"$f":"入力シート!A260&\"\"","v":"240"},{"$f":"入力シート!B260&\"\"","v":"高松"},null,null,{"$f":"入力シート!C260&\"\"","v":""},null,null,{"$f":"入力シート!D260&\"\"","v":""},null,{"$f":"入力シート!E260&\"\"","v":""},{"$f":"入力シート!G260&\"\"","v":""},{"$f":"入力シート!H260&\"\"","v":""},{"$f":"入力シート!K260&\"\"","v":""}]
[{"$f":"入力シート!A261&\"\"","v":"241"},{"$f":"入力シート!B261&\"\"","v":"高松"},null,null,{"$f":"入力シート!C261&\"\"","v":""},null,null,{"$f":"入力シート!D261&\"\"","v":""},null,{"$f":"入力シート!E261&\"\"","v":""},{"$f":"入力シート!G261&\"\"","v":""},{"$f":"入力シート!H261&\"\"","v":""},{"$f":"入力シート!K261&\"\"","v":""}]
[{"$f":"入力シート!A262&\"\"","v":"242"},{"$f":"入力シート!B262&\"\"","v":"高松"},null,null,{"$f":"入力シート!C262&\"\"","v":""},null,null,{"$f":"入力シート!D262&\"\"","v":""},null,{"$f":"入力シート!E262&\"\"","v":""},{"$f":"入力シート!G262&\"\"","v":""},{"$f":"入力シート!H262&\"\"","v":""},{"$f":"入力シート!K262&\"\"","v":""}]
[{"$f":"入力シート!A263&\"\"","v":"243"},{"$f":"入力シート!B263&\"\"","v":"高松"},null,null,{"$f":"入力シート!C263&\"\"","v":""},null,null,{"$f":"入力シート!D263&\"\"","v":""},null,{"$f":"入力シート!E263&\"\"","v":""},{"$f":"入力シート!G263&\"\"","v":""},{"$f":"入力シート!H263&\"\"","v":""},{"$f":"入力シート!K263&\"\"","v":""}]
[{"$f":"入力シート!A264&\"\"","v":"244"},{"$f":"入力シート!B264&\"\"","v":"高松"},null,null,{"$f":"入力シート!C264&\"\"","v":""},null,null,{"$f":"入力シート!D264&\"\"","v":""},null,{"$f":"入力シート!E264&\"\"","v":""},{"$f":"入力シート!G264&\"\"","v":""},{"$f":"入力シート!H264&\"\"","v":""},{"$f":"入力シート!K264&\"\"","v":""}]
[{"$f":"入力シート!A265&\"\"","v":"245"},{"$f":"入力シート!B265&\"\"","v":"高松"},null,null,{"$f":"入力シート!C265&\"\"","v":""},null,null,{"$f":"入力シート!D265&\"\"","v":""},null,{"$f":"入力シート!E265&\"\"","v":""},{"$f":"入力シート!G265&\"\"","v":""},{"$f":"入力シート!H265&\"\"","v":""},{"$f":"入力シート!K265&\"\"","v":""}]
[{"$f":"入力シート!A266&\"\"","v":"246"},{"$f":"入力シート!B266&\"\"","v":"高松"},null,null,{"$f":"入力シート!C266&\"\"","v":""},null,null,{"$f":"入力シート!D266&\"\"","v":""},null,{"$f":"入力シート!E266&\"\"","v":""},{"$f":"入力シート!G266&\"\"","v":""},{"$f":"入力シート!H266&\"\"","v":""},{"$f":"入力シート!K266&\"\"","v":""}]
[{"$f":"入力シート!A267&\"\"","v":"247"},{"$f":"入力シート!B267&\"\"","v":"高松"},null,null,{"$f":"入力シート!C267&\"\"","v":""},null,null,{"$f":"入力シート!D267&\"\"","v":""},null,{"$f":"入力シート!E267&\"\"","v":""},{"$f":"入力シート!G267&\"\"","v":""},{"$f":"入力シート!H267&\"\"","v":""},{"$f":"入力シート!K267&\"\"","v":""}]
[{"$f":"入力シート!A268&\"\"","v":"248"},{"$f":"入力シート!B268&\"\"","v":"高松"},null,null,{"$f":"入力シート!C268&\"\"","v":""},null,null,{"$f":"入力シート!D268&\"\"","v":""},null,{"$f":"入力シート!E268&\"\"","v":""},{"$f":"入力シート!G268&\"\"","v":""},{"$f":"入力シート!H268&\"\"","v":""},{"$f":"入力シート!K268&\"\"","v":""}]
[{"$f":"入力シート!A269&\"\"","v":"249"},{"$f":"入力シート!B269&\"\"","v":"高松"},null,null,{"$f":"入力シート!C269&\"\"","v":""},null,null,{"$f":"入力シート!D269&\"\"","v":""},null,{"$f":"入力シート!E269&\"\"","v":""},{"$f":"入力シート!G269&\"\"","v":""},{"$f":"入力シート!H269&\"\"","v":""},{"$f":"入力シート!K269&\"\"","v":""}]
[{"$f":"入力シート!A270&\"\"","v":"250"},{"$f":"入力シート!B270&\"\"","v":"高松"},null,null,{"$f":"入力シート!C270&\"\"","v":""},null,null,{"$f":"入力シート!D270&\"\"","v":""},null,{"$f":"入力シート!E270&\"\"","v":""},{"$f":"入力シート!G270&\"\"","v":""},{"$f":"入力シート!H270&\"\"","v":""},{"$f":"入力シート!K270&\"\"","v":""}]
[{"$f":"入力シート!A271&\"\"","v":"251"},{"$f":"入力シート!B271&\"\"","v":"高松"},null,null,{"$f":"入力シート!C271&\"\"","v":""},null,null,{"$f":"入力シート!D271&\"\"","v":""},null,{"$f":"入力シート!E271&\"\"","v":""},{"$f":"入力シート!G271&\"\"","v":""},{"$f":"入力シート!H271&\"\"","v":""},{"$f":"入力シート!K271&\"\"","v":""}]
[{"$f":"入力シート!A272&\"\"","v":"252"},{"$f":"入力シート!B272&\"\"","v":"高松"},null,null,{"$f":"入力シート!C272&\"\"","v":""},null,null,{"$f":"入力シート!D272&\"\"","v":""},null,{"$f":"入力シート!E272&\"\"","v":""},{"$f":"入力シート!G272&\"\"","v":""},{"$f":"入力シート!H272&\"\"","v":""},{"$f":"入力シート!K272&\"\"","v":""}]
[{"$f":"入力シート!A273&\"\"","v":"253"},{"$f":"入力シート!B273&\"\"","v":"高松"},null,null,{"$f":"入力シート!C273&\"\"","v":""},null,null,{"$f":"入力シート!D273&\"\"","v":""},null,{"$f":"入力シート!E273&\"\"","v":""},{"$f":"入力シート!G273&\"\"","v":""},{"$f":"入力シート!H273&\"\"","v":""},{"$f":"入力シート!K273&\"\"","v":""}]
[{"$f":"入力シート!A274&\"\"","v":"254"},{"$f":"入力シート!B274&\"\"","v":"高松"},null,null,{"$f":"入力シート!C274&\"\"","v":""},null,null,{"$f":"入力シート!D274&\"\"","v":""},null,{"$f":"入力シート!E274&\"\"","v":""},{"$f":"入力シート!G274&\"\"","v":""},{"$f":"入力シート!H274&\"\"","v":""},{"$f":"入力シート!K274&\"\"","v":""}]
[{"$f":"入力シート!A275&\"\"","v":"255"},{"$f":"入力シート!B275&\"\"","v":"高松"},null,null,{"$f":"入力シート!C275&\"\"","v":""},null,null,{"$f":"入力シート!D275&\"\"","v":""},null,{"$f":"入力シート!E275&\"\"","v":""},{"$f":"入力シート!G275&\"\"","v":""},{"$f":"入力シート!H275&\"\"","v":""},{"$f":"入力シート!K275&\"\"","v":""}]
[{"$f":"入力シート!A276&\"\"","v":"256"},{"$f":"入力シート!B276&\"\"","v":"高松"},null,null,{"$f":"入力シート!C276&\"\"","v":""},null,null,{"$f":"入力シート!D276&\"\"","v":""},null,{"$f":"入力シート!E276&\"\"","v":""},{"$f":"入力シート!G276&\"\"","v":""},{"$f":"入力シート!H276&\"\"","v":""},{"$f":"入力シート!K276&\"\"","v":""}]
[{"$f":"入力シート!A277&\"\"","v":"257"},{"$f":"入力シート!B277&\"\"","v":"高松"},null,null,{"$f":"入力シート!C277&\"\"","v":""},null,null,{"$f":"入力シート!D277&\"\"","v":""},null,{"$f":"入力シート!E277&\"\"","v":""},{"$f":"入力シート!G277&\"\"","v":""},{"$f":"入力シート!H277&\"\"","v":""},{"$f":"入力シート!K277&\"\"","v":""}]
[{"$f":"入力シート!A278&\"\"","v":"258"},{"$f":"入力シート!B278&\"\"","v":"高松"},null,null,{"$f":"入力シート!C278&\"\"","v":""},null,null,{"$f":"入力シート!D278&\"\"","v":""},null,{"$f":"入力シート!E278&\"\"","v":""},{"$f":"入力シート!G278&\"\"","v":""},{"$f":"入力シート!H278&\"\"","v":""},{"$f":"入力シート!K278&\"\"","v":""}]
[{"$f":"入力シート!A279&\"\"","v":"259"},{"$f":"入力シート!B279&\"\"","v":"高松"},null,null,{"$f":"入力シート!C279&\"\"","v":""},null,null,{"$f":"入力シート!D279&\"\"","v":""},null,{"$f":"入力シート!E279&\"\"","v":""},{"$f":"入力シート!G279&\"\"","v":""},{"$f":"入力シート!H279&\"\"","v":""},{"$f":"入力シート!K279&\"\"","v":""}]
[{"$f":"入力シート!A280&\"\"","v":"260"},{"$f":"入力シート!B280&\"\"","v":"高松"},null,null,{"$f":"入力シート!C280&\"\"","v":""},null,null,{"$f":"入力シート!D280&\"\"","v":""},null,{"$f":"入力シート!E280&\"\"","v":""},{"$f":"入力シート!G280&\"\"","v":""},{"$f":"入力シート!H280&\"\"","v":""},{"$f":"入力シート!K280&\"\"","v":""}]
[{"$f":"入力シート!A281&\"\"","v":"261"},{"$f":"入力シート!B281&\"\"","v":"高松"},null,null,{"$f":"入力シート!C281&\"\"","v":""},null,null,{"$f":"入力シート!D281&\"\"","v":""},null,{"$f":"入力シート!E281&\"\"","v":""},{"$f":"入力シート!G281&\"\"","v":""},{"$f":"入力シート!H281&\"\"","v":""},{"$f":"入力シート!K281&\"\"","v":""}]
[{"$f":"入力シート!A282&\"\"","v":"262"},{"$f":"入力シート!B282&\"\"","v":"高松"},null,null,{"$f":"入力シート!C282&\"\"","v":""},null,null,{"$f":"入力シート!D282&\"\"","v":""},null,{"$f":"入力シート!E282&\"\"","v":""},{"$f":"入力シート!G282&\"\"","v":""},{"$f":"入力シート!H282&\"\"","v":""},{"$f":"入力シート!K282&\"\"","v":""}]
[{"$f":"入力シート!A283&\"\"","v":"263"},{"$f":"入力シート!B283&\"\"","v":"高松"},null,null,{"$f":"入力シート!C283&\"\"","v":""},null,null,{"$f":"入力シート!D283&\"\"","v":""},null,{"$f":"入力シート!E283&\"\"","v":""},{"$f":"入力シート!G283&\"\"","v":""},{"$f":"入力シート!H283&\"\"","v":""},{"$f":"入力シート!K283&\"\"","v":""}]
[{"$f":"入力シート!A284&\"\"","v":"264"},{"$f":"入力シート!B284&\"\"","v":"高松"},null,null,{"$f":"入力シート!C284&\"\"","v":""},null,null,{"$f":"入力シート!D284&\"\"","v":""},null,{"$f":"入力シート!E284&\"\"","v":""},{"$f":"入力シート!G284&\"\"","v":""},{"$f":"入力シート!H284&\"\"","v":""},{"$f":"入力シート!K284&\"\"","v":""}]
[{"$f":"入力シート!A285&\"\"","v":"265"},{"$f":"入力シート!B285&\"\"","v":"高松"},null,null,{"$f":"入力シート!C285&\"\"","v":""},null,null,{"$f":"入力シート!D285&\"\"","v":""},null,{"$f":"入力シート!E285&\"\"","v":""},{"$f":"入力シート!G285&\"\"","v":""},{"$f":"入力シート!H285&\"\"","v":""},{"$f":"入力シート!K285&\"\"","v":""}]
[{"$f":"入力シート!A286&\"\"","v":"266"},{"$f":"入力シート!B286&\"\"","v":"高松"},null,null,{"$f":"入力シート!C286&\"\"","v":""},null,null,{"$f":"入力シート!D286&\"\"","v":""},null,{"$f":"入力シート!E286&\"\"","v":""},{"$f":"入力シート!G286&\"\"","v":""},{"$f":"入力シート!H286&\"\"","v":""},{"$f":"入力シート!K286&\"\"","v":""}]
[{"$f":"入力シート!A287&\"\"","v":"267"},{"$f":"入力シート!B287&\"\"","v":"高松"},null,null,{"$f":"入力シート!C287&\"\"","v":""},null,null,{"$f":"入力シート!D287&\"\"","v":""},null,{"$f":"入力シート!E287&\"\"","v":""},{"$f":"入力シート!G287&\"\"","v":""},{"$f":"入力シート!H287&\"\"","v":""},{"$f":"入力シート!K287&\"\"","v":""}]
[{"$f":"入力シート!A288&\"\"","v":"268"},{"$f":"入力シート!B288&\"\"","v":"高松"},null,null,{"$f":"入力シート!C288&\"\"","v":""},null,null,{"$f":"入力シート!D288&\"\"","v":""},null,{"$f":"入力シート!E288&\"\"","v":""},{"$f":"入力シート!G288&\"\"","v":""},{"$f":"入力シート!H288&\"\"","v":""},{"$f":"入力シート!K288&\"\"","v":""}]
[{"$f":"入力シート!A289&\"\"","v":"269"},{"$f":"入力シート!B289&\"\"","v":"高松"},null,null,{"$f":"入力シート!C289&\"\"","v":""},null,null,{"$f":"入力シート!D289&\"\"","v":""},null,{"$f":"入力シート!E289&\"\"","v":""},{"$f":"入力シート!G289&\"\"","v":""},{"$f":"入力シート!H289&\"\"","v":""},{"$f":"入力シート!K289&\"\"","v":""}]
[{"$f":"入力シート!A290&\"\"","v":"270"},{"$f":"入力シート!B290&\"\"","v":"高松"},null,null,{"$f":"入力シート!C290&\"\"","v":""},null,null,{"$f":"入力シート!D290&\"\"","v":""},null,{"$f":"入力シート!E290&\"\"","v":""},{"$f":"入力シート!G290&\"\"","v":""},{"$f":"入力シート!H290&\"\"","v":""},{"$f":"入力シート!K290&\"\"","v":""}]
[{"$f":"入力シート!A291&\"\"","v":"271"},{"$f":"入力シート!B291&\"\"","v":"高松"},null,null,{"$f":"入力シート!C291&\"\"","v":""},null,null,{"$f":"入力シート!D291&\"\"","v":""},null,{"$f":"入力シート!E291&\"\"","v":""},{"$f":"入力シート!G291&\"\"","v":""},{"$f":"入力シート!H291&\"\"","v":""},{"$f":"入力シート!K291&\"\"","v":""}]
[{"$f":"入力シート!A292&\"\"","v":"272"},{"$f":"入力シート!B292&\"\"","v":"高松"},null,null,{"$f":"入力シート!C292&\"\"","v":""},null,null,{"$f":"入力シート!D292&\"\"","v":""},null,{"$f":"入力シート!E292&\"\"","v":""},{"$f":"入力シート!G292&\"\"","v":""},{"$f":"入力シート!H292&\"\"","v":""},{"$f":"入力シート!K292&\"\"","v":""}]
[{"$f":"入力シート!A293&\"\"","v":"273"},{"$f":"入力シート!B293&\"\"","v":"高松"},null,null,{"$f":"入力シート!C293&\"\"","v":""},null,null,{"$f":"入力シート!D293&\"\"","v":""},null,{"$f":"入力シート!E293&\"\"","v":""},{"$f":"入力シート!G293&\"\"","v":""},{"$f":"入力シート!H293&\"\"","v":""},{"$f":"入力シート!K293&\"\"","v":""}]
[{"$f":"入力シート!A294&\"\"","v":"274"},{"$f":"入力シート!B294&\"\"","v":"高松"},null,null,{"$f":"入力シート!C294&\"\"","v":""},null,null,{"$f":"入力シート!D294&\"\"","v":""},null,{"$f":"入力シート!E294&\"\"","v":""},{"$f":"入力シート!G294&\"\"","v":""},{"$f":"入力シート!H294&\"\"","v":""},{"$f":"入力シート!K294&\"\"","v":""}]
[{"$f":"入力シート!A295&\"\"","v":"275"},{"$f":"入力シート!B295&\"\"","v":"高松"},null,null,{"$f":"入力シート!C295&\"\"","v":""},null,null,{"$f":"入力シート!D295&\"\"","v":""},null,{"$f":"入力シート!E295&\"\"","v":""},{"$f":"入力シート!G295&\"\"","v":""},{"$f":"入力シート!H295&\"\"","v":""},{"$f":"入力シート!K295&\"\"","v":""}]
[{"$f":"入力シート!A296&\"\"","v":"276"},{"$f":"入力シート!B296&\"\"","v":"高松"},null,null,{"$f":"入力シート!C296&\"\"","v":""},null,null,{"$f":"入力シート!D296&\"\"","v":""},null,{"$f":"入力シート!E296&\"\"","v":""},{"$f":"入力シート!G296&\"\"","v":""},{"$f":"入力シート!H296&\"\"","v":""},{"$f":"入力シート!K296&\"\"","v":""}]
[{"$f":"入力シート!A297&\"\"","v":"277"},{"$f":"入力シート!B297&\"\"","v":"高松"},null,null,{"$f":"入力シート!C297&\"\"","v":""},null,null,{"$f":"入力シート!D297&\"\"","v":""},null,{"$f":"入力シート!E297&\"\"","v":""},{"$f":"入力シート!G297&\"\"","v":""},{"$f":"入力シート!H297&\"\"","v":""},{"$f":"入力シート!K297&\"\"","v":""}]
[{"$f":"入力シート!A298&\"\"","v":"278"},{"$f":"入力シート!B298&\"\"","v":"高松"},null,null,{"$f":"入力シート!C298&\"\"","v":""},null,null,{"$f":"入力シート!D298&\"\"","v":""},null,{"$f":"入力シート!E298&\"\"","v":""},{"$f":"入力シート!G298&\"\"","v":""},{"$f":"入力シート!H298&\"\"","v":""},{"$f":"入力シート!K298&\"\"","v":""}]
[{"$f":"入力シート!A299&\"\"","v":"279"},{"$f":"入力シート!B299&\"\"","v":"高松"},null,null,{"$f":"入力シート!C299&\"\"","v":""},null,null,{"$f":"入力シート!D299&\"\"","v":""},null,{"$f":"入力シート!E299&\"\"","v":""},{"$f":"入力シート!G299&\"\"","v":""},{"$f":"入力シート!H299&\"\"","v":""},{"$f":"入力シート!K299&\"\"","v":""}]
[{"$f":"入力シート!A300&\"\"","v":"280"},{"$f":"入力シート!B300&\"\"","v":"高松"},null,null,{"$f":"入力シート!C300&\"\"","v":""},null,null,{"$f":"入力シート!D300&\"\"","v":""},null,{"$f":"入力シート!E300&\"\"","v":""},{"$f":"入力シート!G300&\"\"","v":""},{"$f":"入力シート!H300&\"\"","v":""},{"$f":"入力シート!K300&\"\"","v":""}]
[{"$f":"入力シート!A301&\"\"","v":"281"},{"$f":"入力シート!B301&\"\"","v":"高松"},null,null,{"$f":"入力シート!C301&\"\"","v":""},null,null,{"$f":"入力シート!D301&\"\"","v":""},null,{"$f":"入力シート!E301&\"\"","v":""},{"$f":"入力シート!G301&\"\"","v":""},{"$f":"入力シート!H301&\"\"","v":""},{"$f":"入力シート!K301&\"\"","v":""}]
[{"$f":"入力シート!A302&\"\"","v":"282"},{"$f":"入力シート!B302&\"\"","v":"高松"},null,null,{"$f":"入力シート!C302&\"\"","v":""},null,null,{"$f":"入力シート!D302&\"\"","v":""},null,{"$f":"入力シート!E302&\"\"","v":""},{"$f":"入力シート!G302&\"\"","v":""},{"$f":"入力シート!H302&\"\"","v":""},{"$f":"入力シート!K302&\"\"","v":""}]
[{"$f":"入力シート!A303&\"\"","v":"283"},{"$f":"入力シート!B303&\"\"","v":"高松"},null,null,{"$f":"入力シート!C303&\"\"","v":""},null,null,{"$f":"入力シート!D303&\"\"","v":""},null,{"$f":"入力シート!E303&\"\"","v":""},{"$f":"入力シート!G303&\"\"","v":""},{"$f":"入力シート!H303&\"\"","v":""},{"$f":"入力シート!K303&\"\"","v":""}]
[{"$f":"入力シート!A304&\"\"","v":"284"},{"$f":"入力シート!B304&\"\"","v":"高松"},null,null,{"$f":"入力シート!C304&\"\"","v":""},null,null,{"$f":"入力シート!D304&\"\"","v":""},null,{"$f":"入力シート!E304&\"\"","v":""},{"$f":"入力シート!G304&\"\"","v":""},{"$f":"入力シート!H304&\"\"","v":""},{"$f":"入力シート!K304&\"\"","v":""}]
[{"$f":"入力シート!A305&\"\"","v":"285"},{"$f":"入力シート!B305&\"\"","v":"高松"},null,null,{"$f":"入力シート!C305&\"\"","v":""},null,null,{"$f":"入力シート!D305&\"\"","v":""},null,{"$f":"入力シート!E305&\"\"","v":""},{"$f":"入力シート!G305&\"\"","v":""},{"$f":"入力シート!H305&\"\"","v":""},{"$f":"入力シート!K305&\"\"","v":""}]
[{"$f":"入力シート!A306&\"\"","v":"286"},{"$f":"入力シート!B306&\"\"","v":"高松"},null,null,{"$f":"入力シート!C306&\"\"","v":""},null,null,{"$f":"入力シート!D306&\"\"","v":""},null,{"$f":"入力シート!E306&\"\"","v":""},{"$f":"入力シート!G306&\"\"","v":""},{"$f":"入力シート!H306&\"\"","v":""},{"$f":"入力シート!K306&\"\"","v":""}]
[{"$f":"入力シート!A307&\"\"","v":"287"},{"$f":"入力シート!B307&\"\"","v":"高松"},null,null,{"$f":"入力シート!C307&\"\"","v":""},null,null,{"$f":"入力シート!D307&\"\"","v":""},null,{"$f":"入力シート!E307&\"\"","v":""},{"$f":"入力シート!G307&\"\"","v":""},{"$f":"入力シート!H307&\"\"","v":""},{"$f":"入力シート!K307&\"\"","v":""}]
[{"$f":"入力シート!A308&\"\"","v":"288"},{"$f":"入力シート!B308&\"\"","v":"高松"},null,null,{"$f":"入力シート!C308&\"\"","v":""},null,null,{"$f":"入力シート!D308&\"\"","v":""},null,{"$f":"入力シート!E308&\"\"","v":""},{"$f":"入力シート!G308&\"\"","v":""},{"$f":"入力シート!H308&\"\"","v":""},{"$f":"入力シート!K308&\"\"","v":""}]
[{"$f":"入力シート!A309&\"\"","v":"289"},{"$f":"入力シート!B309&\"\"","v":"高松"},null,null,{"$f":"入力シート!C309&\"\"","v":""},null,null,{"$f":"入力シート!D309&\"\"","v":""},null,{"$f":"入力シート!E309&\"\"","v":""},{"$f":"入力シート!G309&\"\"","v":""},{"$f":"入力シート!H309&\"\"","v":""},{"$f":"入力シート!K309&\"\"","v":""}]
[{"$f":"入力シート!A310&\"\"","v":"290"},{"$f":"入力シート!B310&\"\"","v":"高松"},null,null,{"$f":"入力シート!C310&\"\"","v":""},null,null,{"$f":"入力シート!D310&\"\"","v":""},null,{"$f":"入力シート!E310&\"\"","v":""},{"$f":"入力シート!G310&\"\"","v":""},{"$f":"入力シート!H310&\"\"","v":""},{"$f":"入力シート!K310&\"\"","v":""}]
[{"$f":"入力シート!A311&\"\"","v":"291"},{"$f":"入力シート!B311&\"\"","v":"高松"},null,null,{"$f":"入力シート!C311&\"\"","v":""},null,null,{"$f":"入力シート!D311&\"\"","v":""},null,{"$f":"入力シート!E311&\"\"","v":""},{"$f":"入力シート!G311&\"\"","v":""},{"$f":"入力シート!H311&\"\"","v":""},{"$f":"入力シート!K311&\"\"","v":""}]
[{"$f":"入力シート!A312&\"\"","v":"292"},{"$f":"入力シート!B312&\"\"","v":"高松"},null,null,{"$f":"入力シート!C312&\"\"","v":""},null,null,{"$f":"入力シート!D312&\"\"","v":""},null,{"$f":"入力シート!E312&\"\"","v":""},{"$f":"入力シート!G312&\"\"","v":""},{"$f":"入力シート!H312&\"\"","v":""},{"$f":"入力シート!K312&\"\"","v":""}]
[{"$f":"入力シート!A313&\"\"","v":"293"},{"$f":"入力シート!B313&\"\"","v":"高松"},null,null,{"$f":"入力シート!C313&\"\"","v":""},null,null,{"$f":"入力シート!D313&\"\"","v":""},null,{"$f":"入力シート!E313&\"\"","v":""},{"$f":"入力シート!G313&\"\"","v":""},{"$f":"入力シート!H313&\"\"","v":""},{"$f":"入力シート!K313&\"\"","v":""}]
[{"$f":"入力シート!A314&\"\"","v":"294"},{"$f":"入力シート!B314&\"\"","v":"高松"},null,null,{"$f":"入力シート!C314&\"\"","v":""},null,null,{"$f":"入力シート!D314&\"\"","v":""},null,{"$f":"入力シート!E314&\"\"","v":""},{"$f":"入力シート!G314&\"\"","v":""},{"$f":"入力シート!H314&\"\"","v":""},{"$f":"入力シート!K314&\"\"","v":""}]
[{"$f":"入力シート!A315&\"\"","v":"295"},{"$f":"入力シート!B315&\"\"","v":"高松"},null,null,{"$f":"入力シート!C315&\"\"","v":""},null,null,{"$f":"入力シート!D315&\"\"","v":""},null,{"$f":"入力シート!E315&\"\"","v":""},{"$f":"入力シート!G315&\"\"","v":""},{"$f":"入力シート!H315&\"\"","v":""},{"$f":"入力シート!K315&\"\"","v":""}]
[{"$f":"入力シート!A316&\"\"","v":"296"},{"$f":"入力シート!B316&\"\"","v":"高松"},null,null,{"$f":"入力シート!C316&\"\"","v":""},null,null,{"$f":"入力シート!D316&\"\"","v":""},null,{"$f":"入力シート!E316&\"\"","v":""},{"$f":"入力シート!G316&\"\"","v":""},{"$f":"入力シート!H316&\"\"","v":""},{"$f":"入力シート!K316&\"\"","v":""}]
[{"$f":"入力シート!A317&\"\"","v":"297"},{"$f":"入力シート!B317&\"\"","v":"高松"},null,null,{"$f":"入力シート!C317&\"\"","v":""},null,null,{"$f":"入力シート!D317&\"\"","v":""},null,{"$f":"入力シート!E317&\"\"","v":""},{"$f":"入力シート!G317&\"\"","v":""},{"$f":"入力シート!H317&\"\"","v":""},{"$f":"入力シート!K317&\"\"","v":""}]
[{"$f":"入力シート!A318&\"\"","v":"298"},{"$f":"入力シート!B318&\"\"","v":"高松"},null,null,{"$f":"入力シート!C318&\"\"","v":""},null,null,{"$f":"入力シート!D318&\"\"","v":""},null,{"$f":"入力シート!E318&\"\"","v":""},{"$f":"入力シート!G318&\"\"","v":""},{"$f":"入力シート!H318&\"\"","v":""},{"$f":"入力シート!K318&\"\"","v":""}]
[{"$f":"入力シート!A319&\"\"","v":"299"},{"$f":"入力シート!B319&\"\"","v":"高松"},null,null,{"$f":"入力シート!C319&\"\"","v":""},null,null,{"$f":"入力シート!D319&\"\"","v":""},null,{"$f":"入力シート!E319&\"\"","v":""},{"$f":"入力シート!G319&\"\"","v":""},{"$f":"入力シート!H319&\"\"","v":""},{"$f":"入力シート!K319&\"\"","v":""}]
[{"$f":"入力シート!A320&\"\"","v":"300"},{"$f":"入力シート!B320&\"\"","v":"高松"},null,null,{"$f":"入力シート!C320&\"\"","v":""},null,null,{"$f":"入力シート!D320&\"\"","v":""},null,{"$f":"入力シート!E320&\"\"","v":""},{"$f":"入力シート!G320&\"\"","v":""},{"$f":"入力シート!H320&\"\"","v":""},{"$f":"入力シート!K320&\"\"","v":""}]
[{"$f":"入力シート!A321&\"\"","v":"301"},{"$f":"入力シート!B321&\"\"","v":"高松"},null,null,{"$f":"入力シート!C321&\"\"","v":""},null,null,{"$f":"入力シート!D321&\"\"","v":""},null,{"$f":"入力シート!E321&\"\"","v":""},null,null,{"$f":"入力シート!K321&\"\"","v":""}]
[{"$f":"入力シート!A322&\"\"","v":""},{"$f":"入力シート!B322&\"\"","v":""},null,null,{"$f":"入力シート!C322&\"\"","v":""},null,null,{"$f":"入力シート!D322&\"\"","v":""},null,{"$f":"入力シート!E322&\"\"","v":""},null,null,{"$f":"入力シート!K322&\"\"","v":""}]
[{"$f":"入力シート!A323&\"\"","v":""},{"$f":"入力シート!B323&\"\"","v":""},null,null,{"$f":"入力シート!C323&\"\"","v":""},null,null,{"$f":"入力シート!D323&\"\"","v":""},null,{"$f":"入力シート!E323&\"\"","v":""},null,null,{"$f":"入力シート!K323&\"\"","v":""}]
[{"$f":"入力シート!A324&\"\"","v":""},{"$f":"入力シート!B324&\"\"","v":""},null,null,{"$f":"入力シート!C324&\"\"","v":""},null,null,{"$f":"入力シート!D324&\"\"","v":""},null,{"$f":"入力シート!E324&\"\"","v":""},null,null,{"$f":"入力シート!K324&\"\"","v":""}]
[{"$f":"入力シート!A325&\"\"","v":""},{"$f":"入力シート!B325&\"\"","v":""},null,null,{"$f":"入力シート!C325&\"\"","v":""},null,null,{"$f":"入力シート!D325&\"\"","v":""},null,{"$f":"入力シート!E325&\"\"","v":""},null,null,{"$f":"入力シート!K325&\"\"","v":""}]
[{"$f":"入力シート!A326&\"\"","v":""},{"$f":"入力シート!B326&\"\"","v":""},null,null,{"$f":"入力シート!C326&\"\"","v":""},null,null,{"$f":"入力シート!D326&\"\"","v":""},null,{"$f":"入力シート!E326&\"\"","v":""},null,null,{"$f":"入力シート!K326&\"\"","v":""}]
[{"$f":"入力シート!A327&\"\"","v":""},{"$f":"入力シート!B327&\"\"","v":""},null,null,{"$f":"入力シート!C327&\"\"","v":""},null,null,{"$f":"入力シート!D327&\"\"","v":""},null,{"$f":"入力シート!E327&\"\"","v":""},null,null,{"$f":"入力シート!K327&\"\"","v":""}]
[{"$f":"入力シート!A328&\"\"","v":""},{"$f":"入力シート!B328&\"\"","v":""},null,null,{"$f":"入力シート!C328&\"\"","v":""},null,null,{"$f":"入力シート!D328&\"\"","v":""},null,{"$f":"入力シート!E328&\"\"","v":""},null,null,{"$f":"入力シート!K328&\"\"","v":""}]
[{"$f":"入力シート!A329&\"\"","v":""},{"$f":"入力シート!B329&\"\"","v":""},null,null,{"$f":"入力シート!C329&\"\"","v":""},null,null,{"$f":"入力シート!D329&\"\"","v":""},null,{"$f":"入力シート!E329&\"\"","v":""},null,null,{"$f":"入力シート!K329&\"\"","v":""}]
[{"$f":"入力シート!A330&\"\"","v":""},{"$f":"入力シート!B330&\"\"","v":""},null,null,{"$f":"入力シート!C330&\"\"","v":""},null,null,{"$f":"入力シート!D330&\"\"","v":""},null,{"$f":"入力シート!E330&\"\"","v":""},null,null,{"$f":"入力シート!K330&\"\"","v":""}]
[{"$f":"入力シート!A331&\"\"","v":""},{"$f":"入力シート!B331&\"\"","v":""},null,null,{"$f":"入力シート!C331&\"\"","v":""},null,null,{"$f":"入力シート!D331&\"\"","v":""},null,{"$f":"入力シート!E331&\"\"","v":""},null,null,{"$f":"入力シート!K331&\"\"","v":""}]
[{"$f":"入力シート!A332&\"\"","v":""},{"$f":"入力シート!B332&\"\"","v":""},null,null,{"$f":"入力シート!C332&\"\"","v":""},null,null,{"$f":"入力シート!D332&\"\"","v":""},null,{"$f":"入力シート!E332&\"\"","v":""},null,null,{"$f":"入力シート!K332&\"\"","v":""}]
[{"$f":"入力シート!A333&\"\"","v":""},{"$f":"入力シート!B333&\"\"","v":""},null,null,{"$f":"入力シート!C333&\"\"","v":""},null,null,{"$f":"入力シート!D333&\"\"","v":""},null,{"$f":"入力シート!E333&\"\"","v":""},null,null,{"$f":"入力シート!K333&\"\"","v":""}]
[{"$f":"入力シート!A334&\"\"","v":""},{"$f":"入力シート!B334&\"\"","v":""},null,null,{"$f":"入力シート!C334&\"\"","v":""},null,null,{"$f":"入力シート!D334&\"\"","v":""},null,{"$f":"入力シート!E334&\"\"","v":""},null,null,{"$f":"入力シート!K334&\"\"","v":""}]
[{"$f":"入力シート!A335&\"\"","v":""},{"$f":"入力シート!B335&\"\"","v":""},null,null,{"$f":"入力シート!C335&\"\"","v":""},null,null,{"$f":"入力シート!D335&\"\"","v":""},null,{"$f":"入力シート!E335&\"\"","v":""},null,null,{"$f":"入力シート!K335&\"\"","v":""}]
[{"$f":"入力シート!A336&\"\"","v":""},{"$f":"入力シート!B336&\"\"","v":""},null,null,{"$f":"入力シート!C336&\"\"","v":""},null,null,{"$f":"入力シート!D336&\"\"","v":""},null,{"$f":"入力シート!E336&\"\"","v":""},null,null,{"$f":"入力シート!K336&\"\"","v":""}]
[{"$f":"入力シート!A337&\"\"","v":""},{"$f":"入力シート!B337&\"\"","v":""},null,null,{"$f":"入力シート!C337&\"\"","v":""},null,null,{"$f":"入力シート!D337&\"\"","v":""},null,{"$f":"入力シート!E337&\"\"","v":""},null,null,{"$f":"入力シート!K337&\"\"","v":""}]
[{"$f":"入力シート!A338&\"\"","v":""},{"$f":"入力シート!B338&\"\"","v":""},null,null,{"$f":"入力シート!C338&\"\"","v":""},null,null,{"$f":"入力シート!D338&\"\"","v":""},null,{"$f":"入力シート!E338&\"\"","v":""},null,null,{"$f":"入力シート!K338&\"\"","v":""}]
[{"$f":"入力シート!A339&\"\"","v":""},{"$f":"入力シート!B339&\"\"","v":""},null,null,{"$f":"入力シート!C339&\"\"","v":""},null,null,{"$f":"入力シート!D339&\"\"","v":""},null,{"$f":"入力シート!E339&\"\"","v":""},null,null,{"$f":"入力シート!K339&\"\"","v":""}]
[{"$f":"入力シート!A340&\"\"","v":""},{"$f":"入力シート!B340&\"\"","v":""},null,null,{"$f":"入力シート!C340&\"\"","v":""},null,null,{"$f":"入力シート!D340&\"\"","v":""},null,{"$f":"入力シート!E340&\"\"","v":""},null,null,{"$f":"入力シート!K340&\"\"","v":""}]
[{"$f":"入力シート!A341&\"\"","v":""},{"$f":"入力シート!B341&\"\"","v":""},null,null,{"$f":"入力シート!C341&\"\"","v":""},null,null,{"$f":"入力シート!D341&\"\"","v":""},null,{"$f":"入力シート!E341&\"\"","v":""},null,null,{"$f":"入力シート!K341&\"\"","v":""}]
[{"$f":"入力シート!A342&\"\"","v":""},{"$f":"入力シート!B342&\"\"","v":""},null,null,{"$f":"入力シート!C342&\"\"","v":""},null,null,{"$f":"入力シート!D342&\"\"","v":""},null,{"$f":"入力シート!E342&\"\"","v":""},null,null,{"$f":"入力シート!K342&\"\"","v":""}]
[{"$f":"入力シート!A343&\"\"","v":""},{"$f":"入力シート!B343&\"\"","v":""},null,null,{"$f":"入力シート!C343&\"\"","v":""},null,null,{"$f":"入力シート!D343&\"\"","v":""},null,{"$f":"入力シート!E343&\"\"","v":""},null,null,{"$f":"入力シート!K343&\"\"","v":""}]
[{"$f":"入力シート!A344&\"\"","v":""},{"$f":"入力シート!B344&\"\"","v":""},null,null,{"$f":"入力シート!C344&\"\"","v":""},null,null,{"$f":"入力シート!D344&\"\"","v":""},null,{"$f":"入力シート!E344&\"\"","v":""},null,null,{"$f":"入力シート!K344&\"\"","v":""}]
[{"$f":"入力シート!A345&\"\"","v":""},{"$f":"入力シート!B345&\"\"","v":""},null,null,{"$f":"入力シート!C345&\"\"","v":""},null,null,{"$f":"入力シート!D345&\"\"","v":""},null,{"$f":"入力シート!E345&\"\"","v":""},null,null,{"$f":"入力シート!K345&\"\"","v":""}]
[{"$f":"入力シート!A346&\"\"","v":""},{"$f":"入力シート!B346&\"\"","v":""},null,null,{"$f":"入力シート!C346&\"\"","v":""},null,null,{"$f":"入力シート!D346&\"\"","v":""},null,{"$f":"入力シート!E346&\"\"","v":""},null,null,{"$f":"入力シート!K346&\"\"","v":""}]
[{"$f":"入力シート!A347&\"\"","v":""},{"$f":"入力シート!B347&\"\"","v":""},null,null,{"$f":"入力シート!C347&\"\"","v":""},null,null,{"$f":"入力シート!D347&\"\"","v":""},null,{"$f":"入力シート!E347&\"\"","v":""},null,null,{"$f":"入力シート!K347&\"\"","v":""}]
[{"$f":"入力シート!A348&\"\"","v":""},{"$f":"入力シート!B348&\"\"","v":""},null,null,{"$f":"入力シート!C348&\"\"","v":""},null,null,{"$f":"入力シート!D348&\"\"","v":""},null,{"$f":"入力シート!E348&\"\"","v":""},null,null,{"$f":"入力シート!K348&\"\"","v":""}]
[{"$f":"入力シート!A349&\"\"","v":""},{"$f":"入力シート!B349&\"\"","v":""},null,null,{"$f":"入力シート!C349&\"\"","v":""},null,null,{"$f":"入力シート!D349&\"\"","v":""},null,{"$f":"入力シート!E349&\"\"","v":""},null,null,{"$f":"入力シート!K349&\"\"","v":""}]
[{"$f":"入力シート!A350&\"\"","v":""},{"$f":"入力シート!B350&\"\"","v":""},null,null,{"$f":"入力シート!C350&\"\"","v":""},null,null,{"$f":"入力シート!D350&\"\"","v":""},null,{"$f":"入力シート!E350&\"\"","v":""},null,null,{"$f":"入力シート!K350&\"\"","v":""}]
[{"$f":"入力シート!A351&\"\"","v":""},{"$f":"入力シート!B351&\"\"","v":""},null,null,{"$f":"入力シート!C351&\"\"","v":""},null,null,{"$f":"入力シート!D351&\"\"","v":""},null,{"$f":"入力シート!E351&\"\"","v":""},null,null,{"$f":"入力シート!K351&\"\"","v":""}]
[{"$f":"入力シート!A352&\"\"","v":""},{"$f":"入力シート!B352&\"\"","v":""},null,null,{"$f":"入力シート!C352&\"\"","v":""},null,null,{"$f":"入力シート!D352&\"\"","v":""},null,{"$f":"入力シート!E352&\"\"","v":""},null,null,{"$f":"入力シート!K352&\"\"","v":""}]
[{"$f":"入力シート!A353&\"\"","v":""},{"$f":"入力シート!B353&\"\"","v":""},null,null,{"$f":"入力シート!C353&\"\"","v":""},null,null,{"$f":"入力シート!D353&\"\"","v":""},null,{"$f":"入力シート!E353&\"\"","v":""},null,null,{"$f":"入力シート!K353&\"\"","v":""}]
[{"$f":"入力シート!A354&\"\"","v":""},{"$f":"入力シート!B354&\"\"","v":""},null,null,{"$f":"入力シート!C354&\"\"","v":""},null,null,{"$f":"入力シート!D354&\"\"","v":""},null,{"$f":"入力シート!E354&\"\"","v":""},null,null,{"$f":"入力シート!K354&\"\"","v":""}]